BEGIN:VCALENDAR
VERSION:2.0
PRODID:-//Cheltenham Bowling Club - ECPv6.15.20//NONSGML v1.0//EN
CALSCALE:GREGORIAN
METHOD:PUBLISH
X-WR-CALNAME:Cheltenham Bowling Club
X-ORIGINAL-URL:https://cheltenhambowlingclub.org.uk
X-WR-CALDESC:Events for Cheltenham Bowling Club
REFRESH-INTERVAL;VALUE=DURATION:PT1H
X-Robots-Tag:noindex
X-PUBLISHED-TTL:PT1H
BEGIN:VTIMEZONE
TZID:Europe/London
BEGIN:DAYLIGHT
TZOFFSETFROM:+0000
TZOFFSETTO:+0100
TZNAME:BST
DTSTART:20230326T010000
END:DAYLIGHT
BEGIN:STANDARD
TZOFFSETFROM:+0100
TZOFFSETTO:+0000
TZNAME:GMT
DTSTART:20231029T010000
END:STANDARD
BEGIN:DAYLIGHT
TZOFFSETFROM:+0000
TZOFFSETTO:+0100
TZNAME:BST
DTSTART:20240331T010000
END:DAYLIGHT
BEGIN:STANDARD
TZOFFSETFROM:+0100
TZOFFSETTO:+0000
TZNAME:GMT
DTSTART:20241027T010000
END:STANDARD
BEGIN:DAYLIGHT
TZOFFSETFROM:+0000
TZOFFSETTO:+0100
TZNAME:BST
DTSTART:20250330T010000
END:DAYLIGHT
BEGIN:STANDARD
TZOFFSETFROM:+0100
TZOFFSETTO:+0000
TZNAME:GMT
DTSTART:20251026T010000
END:STANDARD
END:VTIMEZONE
BEGIN:VEVENT
DTSTART;TZID=Europe/London:20240212T183000
DTEND;TZID=Europe/London:20240212T210000
DTSTAMP:20260420T161849
CREATED:20240115T202542Z
LAST-MODIFIED:20240115T202542Z
UID:10115-1707762600-1707771600@cheltenhambowlingclub.org.uk
SUMMARY:Executive meeting 6.30pm
DESCRIPTION:
URL:https://cheltenhambowlingclub.org.uk/event/executive-meeting-6-30pm/
LOCATION:Cheltenham Bowling Club\, Unwin Pavilion\, Ashburne Bowling Green\, Suffolk Square\, Cheltenham\, GL50 2DX\, United Kingdom
END:VEVENT
BEGIN:VEVENT
DTSTART;TZID=Europe/London:20240210T200000
DTEND;TZID=Europe/London:20240210T230000
DTSTAMP:20260420T161849
CREATED:20240111T142726Z
LAST-MODIFIED:20240111T142726Z
UID:10085-1707595200-1707606000@cheltenhambowlingclub.org.uk
SUMMARY:Freddie Mercury Tribute night
DESCRIPTION:
URL:https://cheltenhambowlingclub.org.uk/event/robbie-williams-tribute-night/
LOCATION:Cheltenham Bowling Club\, Unwin Pavilion\, Ashburne Bowling Green\, Suffolk Square\, Cheltenham\, GL50 2DX\, United Kingdom
END:VEVENT
BEGIN:VEVENT
DTSTART;TZID=Europe/London:20240207T103000
DTEND;TZID=Europe/London:20240207T120000
DTSTAMP:20260420T161849
CREATED:20240205T132250Z
LAST-MODIFIED:20240205T132250Z
UID:10175-1707301800-1707307200@cheltenhambowlingclub.org.uk
SUMMARY:Spanish Group (lounge)
DESCRIPTION:
URL:https://cheltenhambowlingclub.org.uk/event/spanish-group-lounge/
LOCATION:Cheltenham Bowling Club\, Unwin Pavilion\, Ashburne Bowling Green\, Suffolk Square\, Cheltenham\, GL50 2DX\, United Kingdom
END:VEVENT
BEGIN:VEVENT
DTSTART;TZID=Europe/London:20240207T090000
DTEND;TZID=Europe/London:20240207T120000
DTSTAMP:20260420T161849
CREATED:20240128T091233Z
LAST-MODIFIED:20240128T091233Z
UID:9936-1707296400-1707307200@cheltenhambowlingclub.org.uk
SUMMARY:Probus
DESCRIPTION:
URL:https://cheltenhambowlingclub.org.uk/event/probus-6/
LOCATION:Cheltenham Bowling Club\, Unwin Pavilion\, Ashburne Bowling Green\, Suffolk Square\, Cheltenham\, GL50 2DX\, United Kingdom
END:VEVENT
BEGIN:VEVENT
DTSTART;TZID=Europe/London:20240203T193000
DTEND;TZID=Europe/London:20240203T230000
DTSTAMP:20260420T161849
CREATED:20231228T134006Z
LAST-MODIFIED:20231228T134006Z
UID:9924-1706988600-1707001200@cheltenhambowlingclub.org.uk
SUMMARY:Roger Brunston rememberance
DESCRIPTION:
URL:https://cheltenhambowlingclub.org.uk/event/roger-brunston-rememberance/
LOCATION:Cheltenham Bowling Club\, Unwin Pavilion\, Ashburne Bowling Green\, Suffolk Square\, Cheltenham\, GL50 2DX\, United Kingdom
ORGANIZER;CN="Geoff Rat":MAILTO:grat1@btinternet.com
END:VEVENT
BEGIN:VEVENT
DTSTART;TZID=Europe/London:20240202T100000
DTEND;TZID=Europe/London:20240202T130000
DTSTAMP:20260420T161849
CREATED:20231228T133754Z
LAST-MODIFIED:20231228T133754Z
UID:9922-1706868000-1706878800@cheltenhambowlingclub.org.uk
SUMMARY:Coffee morning Jane (Geoffs daughter)
DESCRIPTION:
URL:https://cheltenhambowlingclub.org.uk/event/coffee-morning-jane-geoffs-daughter/
LOCATION:Cheltenham Bowling Club\, Unwin Pavilion\, Ashburne Bowling Green\, Suffolk Square\, Cheltenham\, GL50 2DX\, United Kingdom
END:VEVENT
BEGIN:VEVENT
DTSTART;TZID=Europe/London:20240202T100000
DTEND;TZID=Europe/London:20240202T120000
DTSTAMP:20260420T161849
CREATED:20231205T100046Z
LAST-MODIFIED:20231205T100046Z
UID:9820-1706868000-1706875200@cheltenhambowlingclub.org.uk
SUMMARY:MANAGEMENT COMMITTEE MEETING
DESCRIPTION:
URL:https://cheltenhambowlingclub.org.uk/event/management-committee-meeting-2/
LOCATION:Cheltenham Bowling Club\, Unwin Pavilion\, Ashburne Bowling Green\, Suffolk Square\, Cheltenham\, GL50 2DX\, United Kingdom
END:VEVENT
BEGIN:VEVENT
DTSTART;TZID=Europe/London:20240131T090000
DTEND;TZID=Europe/London:20240131T120000
DTSTAMP:20260420T161849
CREATED:20231228T170448Z
LAST-MODIFIED:20231228T170448Z
UID:9934-1706691600-1706702400@cheltenhambowlingclub.org.uk
SUMMARY:Probus
DESCRIPTION:
URL:https://cheltenhambowlingclub.org.uk/event/probus-5/
LOCATION:Cheltenham Bowling Club\, Unwin Pavilion\, Ashburne Bowling Green\, Suffolk Square\, Cheltenham\, GL50 2DX\, United Kingdom
END:VEVENT
BEGIN:VEVENT
DTSTART;TZID=Europe/London:20240127T160000
DTEND;TZID=Europe/London:20240127T210000
DTSTAMP:20260420T161849
CREATED:20240108T122815Z
LAST-MODIFIED:20240108T122815Z
UID:10072-1706371200-1706389200@cheltenhambowlingclub.org.uk
SUMMARY:Brian Prout Birthday Party
DESCRIPTION:
URL:https://cheltenhambowlingclub.org.uk/event/brian-prout-birthday-party/
LOCATION:Cheltenham Bowling Club\, Unwin Pavilion\, Ashburne Bowling Green\, Suffolk Square\, Cheltenham\, GL50 2DX\, United Kingdom
END:VEVENT
BEGIN:VEVENT
DTSTART;TZID=Europe/London:20240125T093000
DTEND;TZID=Europe/London:20240125T123000
DTSTAMP:20260420T161849
CREATED:20231229T132043Z
LAST-MODIFIED:20231229T132043Z
UID:9958-1706175000-1706185800@cheltenhambowlingclub.org.uk
SUMMARY:u3A Military History meeting
DESCRIPTION:
URL:https://cheltenhambowlingclub.org.uk/event/u3a-military-history-meeting/
LOCATION:Cheltenham Bowling Club\, Unwin Pavilion\, Ashburne Bowling Green\, Suffolk Square\, Cheltenham\, GL50 2DX\, United Kingdom
END:VEVENT
BEGIN:VEVENT
DTSTART;TZID=Europe/London:20240124T090000
DTEND;TZID=Europe/London:20240124T120000
DTSTAMP:20260420T161849
CREATED:20231228T170405Z
LAST-MODIFIED:20231228T170405Z
UID:9932-1706086800-1706097600@cheltenhambowlingclub.org.uk
SUMMARY:Probus
DESCRIPTION:
URL:https://cheltenhambowlingclub.org.uk/event/probus-4/
LOCATION:Cheltenham Bowling Club\, Unwin Pavilion\, Ashburne Bowling Green\, Suffolk Square\, Cheltenham\, GL50 2DX\, United Kingdom
END:VEVENT
BEGIN:VEVENT
DTSTART;TZID=Europe/London:20240123T093000
DTEND;TZID=Europe/London:20240123T120000
DTSTAMP:20260420T161849
CREATED:20231205T100338Z
LAST-MODIFIED:20231205T100338Z
UID:9822-1706002200-1706011200@cheltenhambowlingclub.org.uk
SUMMARY:ARTS Group
DESCRIPTION:
URL:https://cheltenhambowlingclub.org.uk/event/arts-group-4/
LOCATION:Cheltenham Bowling Club\, Unwin Pavilion\, Ashburne Bowling Green\, Suffolk Square\, Cheltenham\, GL50 2DX\, United Kingdom
END:VEVENT
BEGIN:VEVENT
DTSTART;TZID=Europe/London:20240123T093000
DTEND;TZID=Europe/London:20240123T110000
DTSTAMP:20260420T161849
CREATED:20240103T085840Z
LAST-MODIFIED:20240103T085840Z
UID:10022-1706002200-1706007600@cheltenhambowlingclub.org.uk
SUMMARY:Barron's Financial Surgery
DESCRIPTION:
URL:https://cheltenhambowlingclub.org.uk/event/barrons-financial-surgery-2/
LOCATION:Cheltenham Bowling Club\, Unwin Pavilion\, Ashburne Bowling Green\, Suffolk Square\, Cheltenham\, GL50 2DX\, United Kingdom
END:VEVENT
BEGIN:VEVENT
DTSTART;TZID=Europe/London:20240121T140000
DTEND;TZID=Europe/London:20240121T160000
DTSTAMP:20260420T161849
CREATED:20231203T131838Z
LAST-MODIFIED:20231203T131838Z
UID:9788-1705845600-1705852800@cheltenhambowlingclub.org.uk
SUMMARY:Mixed Friendly
DESCRIPTION:  \n6 Rinks v Mid Glos
URL:https://cheltenhambowlingclub.org.uk/event/mixed-friendly/
LOCATION:Mid Glos IBC
END:VEVENT
BEGIN:VEVENT
DTSTART;TZID=Europe/London:20240120T193000
DTEND;TZID=Europe/London:20240120T230000
DTSTAMP:20260420T161849
CREATED:20231127T164729Z
LAST-MODIFIED:20231127T164729Z
UID:9686-1705779000-1705791600@cheltenhambowlingclub.org.uk
SUMMARY:Return of The Rat Pack
DESCRIPTION:Saturday 20th January Return of The Rat Pack. Last few tickets available at the bar. \nAlan Becks as Frank Sinatra / Dean Martin and more. \nSPONSORED BY\nBrian Prout and Jim Hopkins Professional Bricklayers \nTickets £12.50 from Geoff 07802349636 or Harry at the club. \nSee Rat Pack Poster 20 January 23
URL:https://cheltenhambowlingclub.org.uk/event/return-of-the-rat-pack/
LOCATION:Cheltenham Bowling Club\, Unwin Pavilion\, Ashburne Bowling Green\, Suffolk Square\, Cheltenham\, GL50 2DX\, United Kingdom
CATEGORIES:Music
ORGANIZER;CN="Geoff Rat":MAILTO:grat1@btinternet.com
END:VEVENT
BEGIN:VEVENT
DTSTART;TZID=Europe/London:20240118T093000
DTEND;TZID=Europe/London:20240118T133000
DTSTAMP:20260420T161849
CREATED:20231205T092232Z
LAST-MODIFIED:20231205T092232Z
UID:9810-1705570200-1705584600@cheltenhambowlingclub.org.uk
SUMMARY:ARTS Group
DESCRIPTION:
URL:https://cheltenhambowlingclub.org.uk/event/arts-group-2/
LOCATION:Cheltenham Bowling Club\, Unwin Pavilion\, Ashburne Bowling Green\, Suffolk Square\, Cheltenham\, GL50 2DX\, United Kingdom
END:VEVENT
BEGIN:VEVENT
DTSTART;TZID=Europe/London:20240117T190000
DTEND;TZID=Europe/London:20240117T210000
DTSTAMP:20260420T161849
CREATED:20231203T131500Z
LAST-MODIFIED:20231203T131500Z
UID:9786-1705518000-1705525200@cheltenhambowlingclub.org.uk
SUMMARY:Wednesday Inter-Club
DESCRIPTION:v Barnwood
URL:https://cheltenhambowlingclub.org.uk/event/wednesday-inter-club-3/
LOCATION:Mid Glos IBC
END:VEVENT
BEGIN:VEVENT
DTSTART;TZID=Europe/London:20240117T140000
DTEND;TZID=Europe/London:20240117T160000
DTSTAMP:20260420T161849
CREATED:20231207T091923Z
LAST-MODIFIED:20231207T091923Z
UID:9844-1705500000-1705507200@cheltenhambowlingclub.org.uk
SUMMARY:RayBigger U3a
DESCRIPTION:
URL:https://cheltenhambowlingclub.org.uk/event/raybigger-u3a/
LOCATION:Cheltenham Bowling Club\, Unwin Pavilion\, Ashburne Bowling Green\, Suffolk Square\, Cheltenham\, GL50 2DX\, United Kingdom
CATEGORIES:Hire non club
END:VEVENT
BEGIN:VEVENT
DTSTART;TZID=Europe/London:20240117T090000
DTEND;TZID=Europe/London:20240117T120000
DTSTAMP:20260420T161849
CREATED:20231228T170247Z
LAST-MODIFIED:20231228T170247Z
UID:9930-1705482000-1705492800@cheltenhambowlingclub.org.uk
SUMMARY:Probus
DESCRIPTION:
URL:https://cheltenhambowlingclub.org.uk/event/probus-3/
LOCATION:Cheltenham Bowling Club\, Unwin Pavilion\, Ashburne Bowling Green\, Suffolk Square\, Cheltenham\, GL50 2DX\, United Kingdom
END:VEVENT
BEGIN:VEVENT
DTSTART;TZID=Europe/London:20240115T120000
DTEND;TZID=Europe/London:20240115T140000
DTSTAMP:20260420T161849
CREATED:20240103T200916Z
LAST-MODIFIED:20240103T200916Z
UID:10028-1705320000-1705327200@cheltenhambowlingclub.org.uk
SUMMARY:U3a Wine club
DESCRIPTION:
URL:https://cheltenhambowlingclub.org.uk/event/u3a-wine-club/
LOCATION:Cheltenham Bowling Club\, Unwin Pavilion\, Ashburne Bowling Green\, Suffolk Square\, Cheltenham\, GL50 2DX\, United Kingdom
END:VEVENT
BEGIN:VEVENT
DTSTART;TZID=Europe/London:20240114T103000
DTEND;TZID=Europe/London:20240114T140000
DTSTAMP:20260420T161849
CREATED:20231230T175226Z
LAST-MODIFIED:20231230T175226Z
UID:9979-1705228200-1705240800@cheltenhambowlingclub.org.uk
SUMMARY:Emma Huskinson childrens party
DESCRIPTION:
URL:https://cheltenhambowlingclub.org.uk/event/emma-huskinson-childrens-party/
LOCATION:Cheltenham Bowling Club\, Unwin Pavilion\, Ashburne Bowling Green\, Suffolk Square\, Cheltenham\, GL50 2DX\, United Kingdom
END:VEVENT
BEGIN:VEVENT
DTSTART;TZID=Europe/London:20240113T140000
DTEND;TZID=Europe/London:20240113T180000
DTSTAMP:20260420T161849
CREATED:20240103T091137Z
LAST-MODIFIED:20240103T091137Z
UID:10024-1705154400-1705168800@cheltenhambowlingclub.org.uk
SUMMARY:Shokou -Wake
DESCRIPTION:
URL:https://cheltenhambowlingclub.org.uk/event/shokou-wake/
LOCATION:Cheltenham Bowling Club\, Unwin Pavilion\, Ashburne Bowling Green\, Suffolk Square\, Cheltenham\, GL50 2DX\, United Kingdom
END:VEVENT
BEGIN:VEVENT
DTSTART;TZID=Europe/London:20240110T190000
DTEND;TZID=Europe/London:20240110T210000
DTSTAMP:20260420T161849
CREATED:20231203T131136Z
LAST-MODIFIED:20231203T131136Z
UID:9783-1704913200-1704920400@cheltenhambowlingclub.org.uk
SUMMARY:Wednesday Inter-Club
DESCRIPTION:v Cheltenham Spa
URL:https://cheltenhambowlingclub.org.uk/event/wednesday-inter-club-2/
LOCATION:Mid Glos IBC
END:VEVENT
BEGIN:VEVENT
DTSTART;TZID=Europe/London:20240110T090000
DTEND;TZID=Europe/London:20240110T120000
DTSTAMP:20260420T161849
CREATED:20231228T170209Z
LAST-MODIFIED:20231228T170209Z
UID:9928-1704877200-1704888000@cheltenhambowlingclub.org.uk
SUMMARY:Probus
DESCRIPTION:
URL:https://cheltenhambowlingclub.org.uk/event/probus-2/
LOCATION:Cheltenham Bowling Club\, Unwin Pavilion\, Ashburne Bowling Green\, Suffolk Square\, Cheltenham\, GL50 2DX\, United Kingdom
END:VEVENT
BEGIN:VEVENT
DTSTART;TZID=Europe/London:20240109T093000
DTEND;TZID=Europe/London:20240109T110000
DTSTAMP:20260420T161849
CREATED:20231128T081456Z
LAST-MODIFIED:20231128T081456Z
UID:9706-1704792600-1704798000@cheltenhambowlingclub.org.uk
SUMMARY:Barron's Financial Surgery
DESCRIPTION:
URL:https://cheltenhambowlingclub.org.uk/event/barrons-financial-surgery/
LOCATION:Cheltenham Bowling Club\, Unwin Pavilion\, Ashburne Bowling Green\, Suffolk Square\, Cheltenham\, GL50 2DX\, United Kingdom
END:VEVENT
BEGIN:VEVENT
DTSTART;TZID=Europe/London:20240106T193000
DTEND;TZID=Europe/London:20240106T230000
DTSTAMP:20260420T161849
CREATED:20231127T164306Z
LAST-MODIFIED:20231127T164306Z
UID:9684-1704569400-1704582000@cheltenhambowlingclub.org.uk
SUMMARY:Club Presentation Night 2024
DESCRIPTION:Saturday 6th January Club Presentation Night. Tickets £5 available at the bar. \nFREE ADMISSION FOR FINALISTS WHO SHOULD CLAIM THEIR TICKET FROM THE BAR. \nSee Presentation Night Poster 2024 \nPRESENTATION OF TROPHIES\nThe Mayor of Cheltenham \nMusic from MARCELLO \nBuffet supper.
URL:https://cheltenhambowlingclub.org.uk/event/club-presentation-night-2024/
LOCATION:Cheltenham Bowling Club\, Unwin Pavilion\, Ashburne Bowling Green\, Suffolk Square\, Cheltenham\, GL50 2DX\, United Kingdom
CATEGORIES:Presentation
END:VEVENT
BEGIN:VEVENT
DTSTART;TZID=Europe/London:20240105T180000
DTEND;TZID=Europe/London:20240105T230000
DTSTAMP:20260420T161849
CREATED:20240103T115018Z
LAST-MODIFIED:20240103T115018Z
UID:10026-1704477600-1704495600@cheltenhambowlingclub.org.uk
SUMMARY:Wedding reception dining area +bar shared with members
DESCRIPTION:
URL:https://cheltenhambowlingclub.org.uk/event/wedding-reception-dining-area-bar-shared-with-members/
LOCATION:Cheltenham Bowling Club\, Unwin Pavilion\, Ashburne Bowling Green\, Suffolk Square\, Cheltenham\, GL50 2DX\, United Kingdom
END:VEVENT
BEGIN:VEVENT
DTSTART;TZID=Europe/London:20240105T100000
DTEND;TZID=Europe/London:20240105T110000
DTSTAMP:20260420T161849
CREATED:20240103T085644Z
LAST-MODIFIED:20240103T085644Z
UID:10020-1704448800-1704452400@cheltenhambowlingclub.org.uk
SUMMARY:Management Meeting
DESCRIPTION:
URL:https://cheltenhambowlingclub.org.uk/event/management-meeting/
END:VEVENT
BEGIN:VEVENT
DTSTART;TZID=Europe/London:20240103T090000
DTEND;TZID=Europe/London:20240103T120000
DTSTAMP:20260420T161849
CREATED:20231228T170116Z
LAST-MODIFIED:20231228T170116Z
UID:9926-1704272400-1704283200@cheltenhambowlingclub.org.uk
SUMMARY:Probus
DESCRIPTION:
URL:https://cheltenhambowlingclub.org.uk/event/probus/
LOCATION:Cheltenham Bowling Club\, Unwin Pavilion\, Ashburne Bowling Green\, Suffolk Square\, Cheltenham\, GL50 2DX\, United Kingdom
END:VEVENT
BEGIN:VEVENT
DTSTART;VALUE=DATE:20240101
DTEND;VALUE=DATE:20240102
DTSTAMP:20260420T161849
CREATED:20231202T090946Z
LAST-MODIFIED:20231202T090946Z
UID:9768-1704067200-1704153599@cheltenhambowlingclub.org.uk
SUMMARY:Club Closed
DESCRIPTION:
URL:https://cheltenhambowlingclub.org.uk/event/club-closed-7/
END:VEVENT
END:VCALENDAR