BEGIN:VCALENDAR
VERSION:2.0
PRODID:-//Cheltenham Bowling Club - ECPv6.15.20//NONSGML v1.0//EN
CALSCALE:GREGORIAN
METHOD:PUBLISH
X-WR-CALNAME:Cheltenham Bowling Club
X-ORIGINAL-URL:https://cheltenhambowlingclub.org.uk
X-WR-CALDESC:Events for Cheltenham Bowling Club
REFRESH-INTERVAL;VALUE=DURATION:PT1H
X-Robots-Tag:noindex
X-PUBLISHED-TTL:PT1H
BEGIN:VTIMEZONE
TZID:Europe/London
BEGIN:DAYLIGHT
TZOFFSETFROM:+0000
TZOFFSETTO:+0100
TZNAME:BST
DTSTART:20230326T010000
END:DAYLIGHT
BEGIN:STANDARD
TZOFFSETFROM:+0100
TZOFFSETTO:+0000
TZNAME:GMT
DTSTART:20231029T010000
END:STANDARD
BEGIN:DAYLIGHT
TZOFFSETFROM:+0000
TZOFFSETTO:+0100
TZNAME:BST
DTSTART:20240331T010000
END:DAYLIGHT
BEGIN:STANDARD
TZOFFSETFROM:+0100
TZOFFSETTO:+0000
TZNAME:GMT
DTSTART:20241027T010000
END:STANDARD
BEGIN:DAYLIGHT
TZOFFSETFROM:+0000
TZOFFSETTO:+0100
TZNAME:BST
DTSTART:20250330T010000
END:DAYLIGHT
BEGIN:STANDARD
TZOFFSETFROM:+0100
TZOFFSETTO:+0000
TZNAME:GMT
DTSTART:20251026T010000
END:STANDARD
END:VTIMEZONE
BEGIN:VEVENT
DTSTART;TZID=Europe/London:20240320T090000
DTEND;TZID=Europe/London:20240320T120000
DTSTAMP:20260420T072303
CREATED:20231229T131630Z
LAST-MODIFIED:20231229T131630Z
UID:9954-1710925200-1710936000@cheltenhambowlingclub.org.uk
SUMMARY:Probus meeting
DESCRIPTION:
URL:https://cheltenhambowlingclub.org.uk/event/probus-meeting-3/
LOCATION:Cheltenham Bowling Club\, Unwin Pavilion\, Ashburne Bowling Green\, Suffolk Square\, Cheltenham\, GL50 2DX\, United Kingdom
END:VEVENT
BEGIN:VEVENT
DTSTART;TZID=Europe/London:20240319T193000
DTEND;TZID=Europe/London:20240319T210000
DTSTAMP:20260420T072303
CREATED:20240303T150511Z
LAST-MODIFIED:20240303T150511Z
UID:10346-1710876600-1710882000@cheltenhambowlingclub.org.uk
SUMMARY:GBA Meeting (George)
DESCRIPTION:
URL:https://cheltenhambowlingclub.org.uk/event/gba-meeting-george/
LOCATION:Cheltenham Bowling Club\, Unwin Pavilion\, Ashburne Bowling Green\, Suffolk Square\, Cheltenham\, GL50 2DX\, United Kingdom
END:VEVENT
BEGIN:VEVENT
DTSTART;TZID=Europe/London:20240319T093000
DTEND;TZID=Europe/London:20240319T120000
DTSTAMP:20260420T072303
CREATED:20231205T100922Z
LAST-MODIFIED:20231205T100922Z
UID:9828-1710840600-1710849600@cheltenhambowlingclub.org.uk
SUMMARY:ART Group
DESCRIPTION:
URL:https://cheltenhambowlingclub.org.uk/event/art-group-2/
LOCATION:Cheltenham Bowling Club\, Unwin Pavilion\, Ashburne Bowling Green\, Suffolk Square\, Cheltenham\, GL50 2DX\, United Kingdom
END:VEVENT
BEGIN:VEVENT
DTSTART;TZID=Europe/London:20240318T183000
DTEND;TZID=Europe/London:20240318T213000
DTSTAMP:20260420T072303
CREATED:20240214T115358Z
LAST-MODIFIED:20240214T115358Z
UID:10247-1710786600-1710797400@cheltenhambowlingclub.org.uk
SUMMARY:Table Tennis Match
DESCRIPTION:
URL:https://cheltenhambowlingclub.org.uk/event/table-tennis-match-10/
LOCATION:Cheltenham Bowling Club\, Unwin Pavilion\, Ashburne Bowling Green\, Suffolk Square\, Cheltenham\, GL50 2DX\, United Kingdom
END:VEVENT
BEGIN:VEVENT
DTSTART;TZID=Europe/London:20240318T120000
DTEND;TZID=Europe/London:20240318T140000
DTSTAMP:20260420T072303
CREATED:20240211T125248Z
LAST-MODIFIED:20240211T125248Z
UID:10215-1710763200-1710770400@cheltenhambowlingclub.org.uk
SUMMARY:U3a Wine Group
DESCRIPTION:
URL:https://cheltenhambowlingclub.org.uk/event/u3a-wine-group-2/
LOCATION:Cheltenham Bowling Club\, Unwin Pavilion\, Ashburne Bowling Green\, Suffolk Square\, Cheltenham\, GL50 2DX\, United Kingdom
END:VEVENT
BEGIN:VEVENT
DTSTART;TZID=Europe/London:20240316T140000
DTEND;TZID=Europe/London:20240316T190000
DTSTAMP:20260420T072303
CREATED:20231223T123735Z
LAST-MODIFIED:20231223T123735Z
UID:9918-1710597600-1710615600@cheltenhambowlingclub.org.uk
SUMMARY:Charity event Vicky Barrett
DESCRIPTION:
URL:https://cheltenhambowlingclub.org.uk/event/private-party/
LOCATION:Cheltenham Bowling Club\, Unwin Pavilion\, Ashburne Bowling Green\, Suffolk Square\, Cheltenham\, GL50 2DX\, United Kingdom
END:VEVENT
BEGIN:VEVENT
DTSTART;VALUE=DATE:20240315
DTEND;VALUE=DATE:20240316
DTSTAMP:20260420T072303
CREATED:20240211T130024Z
LAST-MODIFIED:20240211T130024Z
UID:10219-1710460800-1710547199@cheltenhambowlingclub.org.uk
SUMMARY:Gold Cup @CBC
DESCRIPTION:
URL:https://cheltenhambowlingclub.org.uk/event/gold-cup-cbc/
LOCATION:Cheltenham Bowling Club\, Unwin Pavilion\, Ashburne Bowling Green\, Suffolk Square\, Cheltenham\, GL50 2DX\, United Kingdom
END:VEVENT
BEGIN:VEVENT
DTSTART;TZID=Europe/London:20240313T183000
DTEND;TZID=Europe/London:20240313T213000
DTSTAMP:20260420T072303
CREATED:20240214T115309Z
LAST-MODIFIED:20240214T115309Z
UID:10245-1710354600-1710365400@cheltenhambowlingclub.org.uk
SUMMARY:Table Tennis Match
DESCRIPTION:
URL:https://cheltenhambowlingclub.org.uk/event/table-tennis-match-9/
LOCATION:Cheltenham Bowling Club\, Unwin Pavilion\, Ashburne Bowling Green\, Suffolk Square\, Cheltenham\, GL50 2DX\, United Kingdom
END:VEVENT
BEGIN:VEVENT
DTSTART;TZID=Europe/London:20240313T090000
DTEND;TZID=Europe/London:20240313T120000
DTSTAMP:20260420T072303
CREATED:20231229T131542Z
LAST-MODIFIED:20231229T131542Z
UID:9952-1710320400-1710331200@cheltenhambowlingclub.org.uk
SUMMARY:Probus meeting
DESCRIPTION:
URL:https://cheltenhambowlingclub.org.uk/event/probus-meeting-2/
LOCATION:Cheltenham Bowling Club\, Unwin Pavilion\, Ashburne Bowling Green\, Suffolk Square\, Cheltenham\, GL50 2DX\, United Kingdom
END:VEVENT
BEGIN:VEVENT
DTSTART;TZID=Europe/London:20240311T183000
DTEND;TZID=Europe/London:20240311T213000
DTSTAMP:20260420T072303
CREATED:20240214T115215Z
LAST-MODIFIED:20240214T115215Z
UID:10243-1710181800-1710192600@cheltenhambowlingclub.org.uk
SUMMARY:Table Tennis Match
DESCRIPTION:
URL:https://cheltenhambowlingclub.org.uk/event/table-tennis-match-8/
END:VEVENT
BEGIN:VEVENT
DTSTART;TZID=Europe/London:20240311T183000
DTEND;TZID=Europe/London:20240311T210000
DTSTAMP:20260420T072303
CREATED:20240214T113327Z
LAST-MODIFIED:20240214T113327Z
UID:10227-1710181800-1710190800@cheltenhambowlingclub.org.uk
SUMMARY:Steve Barthorpe
DESCRIPTION:
URL:https://cheltenhambowlingclub.org.uk/event/steve-barthorpe/
LOCATION:Cheltenham Bowling Club\, Unwin Pavilion\, Ashburne Bowling Green\, Suffolk Square\, Cheltenham\, GL50 2DX\, United Kingdom
END:VEVENT
BEGIN:VEVENT
DTSTART;TZID=Europe/London:20240307T173000
DTEND;TZID=Europe/London:20240307T190000
DTSTAMP:20260420T072303
CREATED:20240219T150845Z
LAST-MODIFIED:20240219T150845Z
UID:10259-1709832600-1709838000@cheltenhambowlingclub.org.uk
SUMMARY:Robyn HML Property
DESCRIPTION:
URL:https://cheltenhambowlingclub.org.uk/event/robyn-hml-property/
LOCATION:Cheltenham Bowling Club\, Unwin Pavilion\, Ashburne Bowling Green\, Suffolk Square\, Cheltenham\, GL50 2DX\, United Kingdom
END:VEVENT
BEGIN:VEVENT
DTSTART;TZID=Europe/London:20240306T183000
DTEND;TZID=Europe/London:20240306T213000
DTSTAMP:20260420T072303
CREATED:20240214T115116Z
LAST-MODIFIED:20240214T115116Z
UID:10241-1709749800-1709760600@cheltenhambowlingclub.org.uk
SUMMARY:Table Tennis Match Cancelled
DESCRIPTION:
URL:https://cheltenhambowlingclub.org.uk/event/table-tennis-match-7/
LOCATION:Cheltenham Bowling Club\, Unwin Pavilion\, Ashburne Bowling Green\, Suffolk Square\, Cheltenham\, GL50 2DX\, United Kingdom
END:VEVENT
BEGIN:VEVENT
DTSTART;TZID=Europe/London:20240306T161500
DTEND;TZID=Europe/London:20240306T203000
DTSTAMP:20260420T072303
CREATED:20240221T202215Z
LAST-MODIFIED:20240221T202215Z
UID:10295-1709741700-1709757000@cheltenhambowlingclub.org.uk
SUMMARY:Jan Broadfoot wake 4.15pm
DESCRIPTION:
URL:https://cheltenhambowlingclub.org.uk/event/jan-broadfoot-wake-4-15pm/
LOCATION:Cheltenham Bowling Club\, Unwin Pavilion\, Ashburne Bowling Green\, Suffolk Square\, Cheltenham\, GL50 2DX\, United Kingdom
END:VEVENT
BEGIN:VEVENT
DTSTART;TZID=Europe/London:20240306T100000
DTEND;TZID=Europe/London:20240306T120000
DTSTAMP:20260420T072303
CREATED:20240303T141126Z
LAST-MODIFIED:20240303T141126Z
UID:10344-1709719200-1709726400@cheltenhambowlingclub.org.uk
SUMMARY:Spanish class in the Lounge
DESCRIPTION:
URL:https://cheltenhambowlingclub.org.uk/event/spanish-class-in-the-lounge/
LOCATION:Cheltenham Bowling Club\, Unwin Pavilion\, Ashburne Bowling Green\, Suffolk Square\, Cheltenham\, GL50 2DX\, United Kingdom
END:VEVENT
BEGIN:VEVENT
DTSTART;TZID=Europe/London:20240306T090000
DTEND;TZID=Europe/London:20240306T120000
DTSTAMP:20260420T072303
CREATED:20231229T131453Z
LAST-MODIFIED:20231229T131453Z
UID:9950-1709715600-1709726400@cheltenhambowlingclub.org.uk
SUMMARY:Probus meeting
DESCRIPTION:
URL:https://cheltenhambowlingclub.org.uk/event/probus-meeting/
LOCATION:Cheltenham Bowling Club\, Unwin Pavilion\, Ashburne Bowling Green\, Suffolk Square\, Cheltenham\, GL50 2DX\, United Kingdom
END:VEVENT
BEGIN:VEVENT
DTSTART;TZID=Europe/London:20240304T183000
DTEND;TZID=Europe/London:20240304T213000
DTSTAMP:20260420T072303
CREATED:20240214T115628Z
LAST-MODIFIED:20240214T115628Z
UID:10253-1709577000-1709587800@cheltenhambowlingclub.org.uk
SUMMARY:Table Tennis Match
DESCRIPTION:
URL:https://cheltenhambowlingclub.org.uk/event/table-tennis-match-13/
LOCATION:Cheltenham Bowling Club\, Unwin Pavilion\, Ashburne Bowling Green\, Suffolk Square\, Cheltenham\, GL50 2DX\, United Kingdom
END:VEVENT
BEGIN:VEVENT
DTSTART;TZID=Europe/London:20240304T183000
DTEND;TZID=Europe/London:20240304T213000
DTSTAMP:20260420T072303
CREATED:20240214T115006Z
LAST-MODIFIED:20240214T115006Z
UID:10239-1709577000-1709587800@cheltenhambowlingclub.org.uk
SUMMARY:Table Tennis Match
DESCRIPTION:
URL:https://cheltenhambowlingclub.org.uk/event/table-tennis-match-6/
END:VEVENT
BEGIN:VEVENT
DTSTART;TZID=Europe/London:20240302T193000
DTEND;TZID=Europe/London:20240302T230000
DTSTAMP:20260420T072303
CREATED:20231223T122807Z
LAST-MODIFIED:20231223T122807Z
UID:9909-1709407800-1709420400@cheltenhambowlingclub.org.uk
SUMMARY:Elvis
DESCRIPTION:
URL:https://cheltenhambowlingclub.org.uk/event/elvis/
LOCATION:Cheltenham Bowling Club\, Unwin Pavilion\, Ashburne Bowling Green\, Suffolk Square\, Cheltenham\, GL50 2DX\, United Kingdom
ORGANIZER;CN="Geoff Rat":MAILTO:grat1@btinternet.com
END:VEVENT
BEGIN:VEVENT
DTSTART;TZID=Europe/London:20240301T100000
DTEND;TZID=Europe/London:20240301T113000
DTSTAMP:20260420T072303
CREATED:20240222T184539Z
LAST-MODIFIED:20240222T184539Z
UID:10302-1709287200-1709292600@cheltenhambowlingclub.org.uk
SUMMARY:Management Meeting
DESCRIPTION:
URL:https://cheltenhambowlingclub.org.uk/event/management-meeting-2/
END:VEVENT
BEGIN:VEVENT
DTSTART;TZID=Europe/London:20240229T093000
DTEND;TZID=Europe/London:20240229T123000
DTSTAMP:20260420T072303
CREATED:20231229T132155Z
LAST-MODIFIED:20231229T132155Z
UID:9960-1709199000-1709209800@cheltenhambowlingclub.org.uk
SUMMARY:U3a Military History meeting
DESCRIPTION:
URL:https://cheltenhambowlingclub.org.uk/event/u3a-military-history-meeting-2/
LOCATION:Cheltenham Bowling Club\, Unwin Pavilion\, Ashburne Bowling Green\, Suffolk Square\, Cheltenham\, GL50 2DX\, United Kingdom
END:VEVENT
BEGIN:VEVENT
DTSTART;TZID=Europe/London:20240228T183000
DTEND;TZID=Europe/London:20240228T213000
DTSTAMP:20260420T072303
CREATED:20240214T114335Z
LAST-MODIFIED:20240214T114335Z
UID:10237-1709145000-1709155800@cheltenhambowlingclub.org.uk
SUMMARY:Table Tennis Match
DESCRIPTION:
URL:https://cheltenhambowlingclub.org.uk/event/table-tennis-match-5/
LOCATION:Cheltenham Bowling Club\, Unwin Pavilion\, Ashburne Bowling Green\, Suffolk Square\, Cheltenham\, GL50 2DX\, United Kingdom
END:VEVENT
BEGIN:VEVENT
DTSTART;TZID=Europe/London:20240228T090000
DTEND;TZID=Europe/London:20240228T120000
DTSTAMP:20260420T072303
CREATED:20231228T171710Z
LAST-MODIFIED:20231228T171710Z
UID:9942-1709110800-1709121600@cheltenhambowlingclub.org.uk
SUMMARY:Probus
DESCRIPTION:
URL:https://cheltenhambowlingclub.org.uk/event/probus-9/
LOCATION:Cheltenham Bowling Club\, Unwin Pavilion\, Ashburne Bowling Green\, Suffolk Square\, Cheltenham\, GL50 2DX\, United Kingdom
END:VEVENT
BEGIN:VEVENT
DTSTART;TZID=Europe/London:20240227T083000
DTEND;TZID=Europe/London:20240227T170000
DTSTAMP:20260420T072303
CREATED:20240221T202312Z
LAST-MODIFIED:20240221T202312Z
UID:10297-1709022600-1709053200@cheltenhambowlingclub.org.uk
SUMMARY:Simon Lloyd signs
DESCRIPTION:
URL:https://cheltenhambowlingclub.org.uk/event/simon-lloyd-signs/
LOCATION:Cheltenham Bowling Club\, Unwin Pavilion\, Ashburne Bowling Green\, Suffolk Square\, Cheltenham\, GL50 2DX\, United Kingdom
END:VEVENT
BEGIN:VEVENT
DTSTART;TZID=Europe/London:20240226T183000
DTEND;TZID=Europe/London:20240226T213000
DTSTAMP:20260420T072303
CREATED:20240214T114243Z
LAST-MODIFIED:20240214T114243Z
UID:10235-1708972200-1708983000@cheltenhambowlingclub.org.uk
SUMMARY:Table Tennis Match
DESCRIPTION:
URL:https://cheltenhambowlingclub.org.uk/event/table-tennis-match-4/
LOCATION:Cheltenham Bowling Club\, Unwin Pavilion\, Ashburne Bowling Green\, Suffolk Square\, Cheltenham\, GL50 2DX\, United Kingdom
END:VEVENT
BEGIN:VEVENT
DTSTART;TZID=Europe/London:20240224T193000
DTEND;TZID=Europe/London:20240224T223000
DTSTAMP:20260420T072303
CREATED:20231205T100722Z
LAST-MODIFIED:20231205T100722Z
UID:9826-1708803000-1708813800@cheltenhambowlingclub.org.uk
SUMMARY:JAZZ Night
DESCRIPTION:
URL:https://cheltenhambowlingclub.org.uk/event/jazz-night/
LOCATION:Cheltenham Bowling Club\, Unwin Pavilion\, Ashburne Bowling Green\, Suffolk Square\, Cheltenham\, GL50 2DX\, United Kingdom
END:VEVENT
BEGIN:VEVENT
DTSTART;TZID=Europe/London:20240222T093000
DTEND;TZID=Europe/London:20240222T120000
DTSTAMP:20260420T072303
CREATED:20231205T100608Z
LAST-MODIFIED:20231205T100608Z
UID:9824-1708594200-1708603200@cheltenhambowlingclub.org.uk
SUMMARY:ART Group
DESCRIPTION:
URL:https://cheltenhambowlingclub.org.uk/event/art-group/
LOCATION:Cheltenham Bowling Club\, Unwin Pavilion\, Ashburne Bowling Green\, Suffolk Square\, Cheltenham\, GL50 2DX\, United Kingdom
END:VEVENT
BEGIN:VEVENT
DTSTART;TZID=Europe/London:20240221T183000
DTEND;TZID=Europe/London:20240221T213000
DTSTAMP:20260420T072303
CREATED:20240214T114139Z
LAST-MODIFIED:20240214T114139Z
UID:10233-1708540200-1708551000@cheltenhambowlingclub.org.uk
SUMMARY:Table Tennis Match
DESCRIPTION:
URL:https://cheltenhambowlingclub.org.uk/event/table-tennis-match-3/
LOCATION:Cheltenham Bowling Club\, Unwin Pavilion\, Ashburne Bowling Green\, Suffolk Square\, Cheltenham\, GL50 2DX\, United Kingdom
END:VEVENT
BEGIN:VEVENT
DTSTART;TZID=Europe/London:20240221T140000
DTEND;TZID=Europe/London:20240221T180000
DTSTAMP:20260420T072303
CREATED:20231207T092458Z
LAST-MODIFIED:20231207T092458Z
UID:9846-1708524000-1708538400@cheltenhambowlingclub.org.uk
SUMMARY:Ray Bigger U3a
DESCRIPTION:
URL:https://cheltenhambowlingclub.org.uk/event/ray-bigger-u3a/
LOCATION:Cheltenham Bowling Club\, Unwin Pavilion\, Ashburne Bowling Green\, Suffolk Square\, Cheltenham\, GL50 2DX\, United Kingdom
CATEGORIES:Hire non club
END:VEVENT
BEGIN:VEVENT
DTSTART;TZID=Europe/London:20240221T090000
DTEND;TZID=Europe/London:20240221T120000
DTSTAMP:20260420T072303
CREATED:20231228T171621Z
LAST-MODIFIED:20231228T171621Z
UID:9940-1708506000-1708516800@cheltenhambowlingclub.org.uk
SUMMARY:Probus
DESCRIPTION:
URL:https://cheltenhambowlingclub.org.uk/event/probus-8/
LOCATION:Cheltenham Bowling Club\, Unwin Pavilion\, Ashburne Bowling Green\, Suffolk Square\, Cheltenham\, GL50 2DX\, United Kingdom
END:VEVENT
END:VCALENDAR