BEGIN:VCALENDAR
VERSION:2.0
PRODID:-//Cheltenham Bowling Club - ECPv6.15.20//NONSGML v1.0//EN
CALSCALE:GREGORIAN
METHOD:PUBLISH
X-WR-CALNAME:Cheltenham Bowling Club
X-ORIGINAL-URL:https://cheltenhambowlingclub.org.uk
X-WR-CALDESC:Events for Cheltenham Bowling Club
REFRESH-INTERVAL;VALUE=DURATION:PT1H
X-Robots-Tag:noindex
X-PUBLISHED-TTL:PT1H
BEGIN:VTIMEZONE
TZID:Europe/London
BEGIN:DAYLIGHT
TZOFFSETFROM:+0000
TZOFFSETTO:+0100
TZNAME:BST
DTSTART:20230326T010000
END:DAYLIGHT
BEGIN:STANDARD
TZOFFSETFROM:+0100
TZOFFSETTO:+0000
TZNAME:GMT
DTSTART:20231029T010000
END:STANDARD
BEGIN:DAYLIGHT
TZOFFSETFROM:+0000
TZOFFSETTO:+0100
TZNAME:BST
DTSTART:20240331T010000
END:DAYLIGHT
BEGIN:STANDARD
TZOFFSETFROM:+0100
TZOFFSETTO:+0000
TZNAME:GMT
DTSTART:20241027T010000
END:STANDARD
BEGIN:DAYLIGHT
TZOFFSETFROM:+0000
TZOFFSETTO:+0100
TZNAME:BST
DTSTART:20250330T010000
END:DAYLIGHT
BEGIN:STANDARD
TZOFFSETFROM:+0100
TZOFFSETTO:+0000
TZNAME:GMT
DTSTART:20251026T010000
END:STANDARD
END:VTIMEZONE
BEGIN:VEVENT
DTSTART;TZID=Europe/London:20240614T143000
DTEND;TZID=Europe/London:20240614T153000
DTSTAMP:20260420T074634
CREATED:20240523T120527Z
LAST-MODIFIED:20240523T120527Z
UID:10775-1718375400-1718379000@cheltenhambowlingclub.org.uk
SUMMARY:David Turner Y&G Property meeting
DESCRIPTION:
URL:https://cheltenhambowlingclub.org.uk/event/david-turner-yg-property-meeting/
LOCATION:Cheltenham Bowling Club\, Unwin Pavilion\, Ashburne Bowling Green\, Suffolk Square\, Cheltenham\, GL50 2DX\, United Kingdom
END:VEVENT
BEGIN:VEVENT
DTSTART;TZID=Europe/London:20240530T183000
DTEND;TZID=Europe/London:20240530T193000
DTSTAMP:20260420T074634
CREATED:20240523T120345Z
LAST-MODIFIED:20240523T120345Z
UID:10773-1717093800-1717097400@cheltenhambowlingclub.org.uk
SUMMARY:David Turner Young& Gilling property meeting
DESCRIPTION:
URL:https://cheltenhambowlingclub.org.uk/event/david-turner-young-gilling-property-meeting/
LOCATION:Cheltenham Bowling Club\, Unwin Pavilion\, Ashburne Bowling Green\, Suffolk Square\, Cheltenham\, GL50 2DX\, United Kingdom
END:VEVENT
BEGIN:VEVENT
DTSTART;TZID=Europe/London:20240530T093000
DTEND;TZID=Europe/London:20240530T123000
DTSTAMP:20260420T074634
CREATED:20231229T132534Z
LAST-MODIFIED:20231229T132534Z
UID:9966-1717061400-1717072200@cheltenhambowlingclub.org.uk
SUMMARY:U3a Miliary History meeting
DESCRIPTION:
URL:https://cheltenhambowlingclub.org.uk/event/u3a-miliary-history-meeting/
LOCATION:Cheltenham Bowling Club\, Unwin Pavilion\, Ashburne Bowling Green\, Suffolk Square\, Cheltenham\, GL50 2DX\, United Kingdom
END:VEVENT
BEGIN:VEVENT
DTSTART;TZID=Europe/London:20240528T093000
DTEND;TZID=Europe/London:20240528T110000
DTSTAMP:20260420T074634
CREATED:20240402T091550Z
LAST-MODIFIED:20240402T091550Z
UID:10534-1716888600-1716894000@cheltenhambowlingclub.org.uk
SUMMARY:Barron's Financial Advice Clinic
DESCRIPTION:
URL:https://cheltenhambowlingclub.org.uk/event/barrons-financial-advice-clinic-3/
END:VEVENT
BEGIN:VEVENT
DTSTART;TZID=Europe/London:20240520T183000
DTEND;TZID=Europe/London:20240520T203000
DTSTAMP:20260420T074634
CREATED:20240407T120219Z
LAST-MODIFIED:20240407T120219Z
UID:10581-1716229800-1716237000@cheltenhambowlingclub.org.uk
SUMMARY:Spjara AGM followed at 7.30pm  local history talk
DESCRIPTION:
URL:https://cheltenhambowlingclub.org.uk/event/spjara-agm-and-7-30pm-local-history-talk/
LOCATION:Cheltenham Bowling Club\, Unwin Pavilion\, Ashburne Bowling Green\, Suffolk Square\, Cheltenham\, GL50 2DX\, United Kingdom
END:VEVENT
BEGIN:VEVENT
DTSTART;TZID=Europe/London:20240520T120000
DTEND;TZID=Europe/London:20240520T140000
DTSTAMP:20260420T074634
CREATED:20240517T112809Z
LAST-MODIFIED:20240517T112809Z
UID:10750-1716206400-1716213600@cheltenhambowlingclub.org.uk
SUMMARY:Ken U3a Wine Club
DESCRIPTION:
URL:https://cheltenhambowlingclub.org.uk/event/ken-u3a-wine-club/
LOCATION:Cheltenham Bowling Club\, Unwin Pavilion\, Ashburne Bowling Green\, Suffolk Square\, Cheltenham\, GL50 2DX\, United Kingdom
END:VEVENT
BEGIN:VEVENT
DTSTART;TZID=Europe/London:20240518T150000
DTEND;TZID=Europe/London:20240518T200000
DTSTAMP:20260420T074634
CREATED:20240429T200208Z
LAST-MODIFIED:20240429T200208Z
UID:10686-1716044400-1716062400@cheltenhambowlingclub.org.uk
SUMMARY:Jane Brown's celebration
DESCRIPTION:
URL:https://cheltenhambowlingclub.org.uk/event/jane-browns-celebration/
LOCATION:Cheltenham Bowling Club\, Unwin Pavilion\, Ashburne Bowling Green\, Suffolk Square\, Cheltenham\, GL50 2DX\, United Kingdom
END:VEVENT
BEGIN:VEVENT
DTSTART;TZID=Europe/London:20240515T140000
DTEND;TZID=Europe/London:20240515T160000
DTSTAMP:20260420T074634
CREATED:20231230T175637Z
LAST-MODIFIED:20231230T175637Z
UID:9983-1715781600-1715788800@cheltenhambowlingclub.org.uk
SUMMARY:Ray Bigger U3a Group
DESCRIPTION:
URL:https://cheltenhambowlingclub.org.uk/event/ray-bigger-u3a-group-2/
LOCATION:Cheltenham Bowling Club\, Unwin Pavilion\, Ashburne Bowling Green\, Suffolk Square\, Cheltenham\, GL50 2DX\, United Kingdom
END:VEVENT
BEGIN:VEVENT
DTSTART;TZID=Europe/London:20240514T093000
DTEND;TZID=Europe/London:20240514T110000
DTSTAMP:20260420T074634
CREATED:20240402T091403Z
LAST-MODIFIED:20240402T091403Z
UID:10532-1715679000-1715684400@cheltenhambowlingclub.org.uk
SUMMARY:Barron's Financial Advice Clinic
DESCRIPTION:
URL:https://cheltenhambowlingclub.org.uk/event/barrons-financial-advice-clinic-2/
END:VEVENT
BEGIN:VEVENT
DTSTART;TZID=Europe/London:20240501T150000
DTEND;TZID=Europe/London:20240501T183000
DTSTAMP:20260420T074634
CREATED:20240406T124138Z
LAST-MODIFIED:20240406T124138Z
UID:10576-1714575600-1714588200@cheltenhambowlingclub.org.uk
SUMMARY:Steve and Lesley Barthorpe
DESCRIPTION:
URL:https://cheltenhambowlingclub.org.uk/event/steve-and-lesley-barthorpe/
LOCATION:Cheltenham Bowling Club\, Unwin Pavilion\, Ashburne Bowling Green\, Suffolk Square\, Cheltenham\, GL50 2DX\, United Kingdom
END:VEVENT
BEGIN:VEVENT
DTSTART;TZID=Europe/London:20240430T093000
DTEND;TZID=Europe/London:20240430T110000
DTSTAMP:20260420T074634
CREATED:20240402T091204Z
LAST-MODIFIED:20240402T091204Z
UID:10530-1714469400-1714474800@cheltenhambowlingclub.org.uk
SUMMARY:Barron's Financial Advice Clinic
DESCRIPTION:
URL:https://cheltenhambowlingclub.org.uk/event/barrons-financial-advice-clinic/
END:VEVENT
BEGIN:VEVENT
DTSTART;TZID=Europe/London:20240429T150000
DTEND;TZID=Europe/London:20240429T180000
DTSTAMP:20260420T074634
CREATED:20240409T154443Z
LAST-MODIFIED:20240409T154443Z
UID:10601-1714402800-1714413600@cheltenhambowlingclub.org.uk
SUMMARY:Carl Williams
DESCRIPTION:
URL:https://cheltenhambowlingclub.org.uk/event/carl-williams/
LOCATION:Cheltenham Bowling Club\, Unwin Pavilion\, Ashburne Bowling Green\, Suffolk Square\, Cheltenham\, GL50 2DX\, United Kingdom
END:VEVENT
BEGIN:VEVENT
DTSTART;TZID=Europe/London:20240425T093000
DTEND;TZID=Europe/London:20240425T123000
DTSTAMP:20260420T074634
CREATED:20231229T132402Z
LAST-MODIFIED:20231229T132402Z
UID:9964-1714037400-1714048200@cheltenhambowlingclub.org.uk
SUMMARY:U3a Military History meeting
DESCRIPTION:
URL:https://cheltenhambowlingclub.org.uk/event/u3a-military-history-meeting-4/
LOCATION:Cheltenham Bowling Club\, Unwin Pavilion\, Ashburne Bowling Green\, Suffolk Square\, Cheltenham\, GL50 2DX\, United Kingdom
END:VEVENT
BEGIN:VEVENT
DTSTART;TZID=Europe/London:20240423T093000
DTEND;TZID=Europe/London:20240423T130000
DTSTAMP:20260420T074634
CREATED:20231205T092341Z
LAST-MODIFIED:20231205T092341Z
UID:9812-1713864600-1713877200@cheltenhambowlingclub.org.uk
SUMMARY:ARTS Group
DESCRIPTION:
URL:https://cheltenhambowlingclub.org.uk/event/arts-group-3/
LOCATION:Cheltenham Bowling Club\, Unwin Pavilion\, Ashburne Bowling Green\, Suffolk Square\, Cheltenham\, GL50 2DX\, United Kingdom
END:VEVENT
BEGIN:VEVENT
DTSTART;TZID=Europe/London:20240420T140000
DTEND;TZID=Europe/London:20240420T180000
DTSTAMP:20260420T074634
CREATED:20231205T095850Z
LAST-MODIFIED:20231205T095850Z
UID:9818-1713621600-1713636000@cheltenhambowlingclub.org.uk
SUMMARY:OPENING of the GREEN
DESCRIPTION:
URL:https://cheltenhambowlingclub.org.uk/event/opening-of-the-green/
LOCATION:Cheltenham Bowling Club\, Unwin Pavilion\, Ashburne Bowling Green\, Suffolk Square\, Cheltenham\, GL50 2DX\, United Kingdom
END:VEVENT
BEGIN:VEVENT
DTSTART;TZID=Europe/London:20240418T200000
DTEND;TZID=Europe/London:20240418T220000
DTSTAMP:20260420T074634
CREATED:20240406T065232Z
LAST-MODIFIED:20240406T065232Z
UID:10570-1713470400-1713477600@cheltenhambowlingclub.org.uk
SUMMARY:Crib League v Cup
DESCRIPTION:
URL:https://cheltenhambowlingclub.org.uk/event/crib-league-v-cup/
END:VEVENT
BEGIN:VEVENT
DTSTART;TZID=Europe/London:20240417T190000
DTEND;TZID=Europe/London:20240417T223000
DTSTAMP:20260420T074634
CREATED:20240221T120039Z
LAST-MODIFIED:20240221T120039Z
UID:10293-1713380400-1713393000@cheltenhambowlingclub.org.uk
SUMMARY:Scarlett's Quiz charity Animal Shelter
DESCRIPTION:
URL:https://cheltenhambowlingclub.org.uk/event/scarletts-quiz-charity-animal-shelter/
LOCATION:Cheltenham Bowling Club\, Unwin Pavilion\, Ashburne Bowling Green\, Suffolk Square\, Cheltenham\, GL50 2DX\, United Kingdom
END:VEVENT
BEGIN:VEVENT
DTSTART;TZID=Europe/London:20240417T140000
DTEND;TZID=Europe/London:20240417T160000
DTSTAMP:20260420T074634
CREATED:20231230T175411Z
LAST-MODIFIED:20231230T175411Z
UID:9981-1713362400-1713369600@cheltenhambowlingclub.org.uk
SUMMARY:Ray Bigger U3a group
DESCRIPTION:
URL:https://cheltenhambowlingclub.org.uk/event/ray-bigger-u3a-group/
LOCATION:Cheltenham Bowling Club\, Unwin Pavilion\, Ashburne Bowling Green\, Suffolk Square\, Cheltenham\, GL50 2DX\, United Kingdom
END:VEVENT
BEGIN:VEVENT
DTSTART;TZID=Europe/London:20240416T093000
DTEND;TZID=Europe/London:20240416T110000
DTSTAMP:20260420T074634
CREATED:20240402T090503Z
LAST-MODIFIED:20240402T090503Z
UID:10526-1713259800-1713265200@cheltenhambowlingclub.org.uk
SUMMARY:Barron's Financial Advice Clinic
DESCRIPTION:
URL:https://cheltenhambowlingclub.org.uk/event/barrons-financial-advise-clinic/
END:VEVENT
BEGIN:VEVENT
DTSTART;TZID=Europe/London:20240415T173000
DTEND;TZID=Europe/London:20240415T213000
DTSTAMP:20260420T074634
CREATED:20240327T195521Z
LAST-MODIFIED:20240327T195521Z
UID:10469-1713202200-1713216600@cheltenhambowlingclub.org.uk
SUMMARY:Table Tennis end of year and social gathering Dining room and share bar with bowlers
DESCRIPTION:
URL:https://cheltenhambowlingclub.org.uk/event/table-tennis-end-of-year-and-social-gathering-dining-room-and-share-bar-with-bowlers/
END:VEVENT
BEGIN:VEVENT
DTSTART;TZID=Europe/London:20240415T120000
DTEND;TZID=Europe/London:20240415T140000
DTSTAMP:20260420T074634
CREATED:20240211T125349Z
LAST-MODIFIED:20240211T125349Z
UID:10217-1713182400-1713189600@cheltenhambowlingclub.org.uk
SUMMARY:U3a Wine Group
DESCRIPTION:
URL:https://cheltenhambowlingclub.org.uk/event/u3a-wine-group-3/
LOCATION:Cheltenham Bowling Club\, Unwin Pavilion\, Ashburne Bowling Green\, Suffolk Square\, Cheltenham\, GL50 2DX\, United Kingdom
END:VEVENT
BEGIN:VEVENT
DTSTART;TZID=Europe/London:20240411T190000
DTEND;TZID=Europe/London:20240411T220000
DTSTAMP:20260420T074634
CREATED:20240406T065023Z
LAST-MODIFIED:20240406T065023Z
UID:10568-1712862000-1712872800@cheltenhambowlingclub.org.uk
SUMMARY:Crib Charity Cup Finals
DESCRIPTION:
URL:https://cheltenhambowlingclub.org.uk/event/crib-charity-cup-finals/
END:VEVENT
BEGIN:VEVENT
DTSTART;TZID=Europe/London:20240405T100000
DTEND;TZID=Europe/London:20240405T113000
DTSTAMP:20260420T074634
CREATED:20240405T060747Z
LAST-MODIFIED:20240405T060747Z
UID:10560-1712311200-1712316600@cheltenhambowlingclub.org.uk
SUMMARY:Management Committee Meeting
DESCRIPTION:
URL:https://cheltenhambowlingclub.org.uk/event/management-committee-meeting-3/
END:VEVENT
BEGIN:VEVENT
DTSTART;TZID=Europe/London:20240403T123000
DTEND;TZID=Europe/London:20240403T160000
DTSTAMP:20260420T074634
CREATED:20240307T133230Z
LAST-MODIFIED:20240307T133230Z
UID:10354-1712147400-1712160000@cheltenhambowlingclub.org.uk
SUMMARY:Wake for Alistair Stiley
DESCRIPTION:
URL:https://cheltenhambowlingclub.org.uk/event/wake-for-alistair-stiley/
LOCATION:Cheltenham Bowling Club\, Unwin Pavilion\, Ashburne Bowling Green\, Suffolk Square\, Cheltenham\, GL50 2DX\, United Kingdom
END:VEVENT
BEGIN:VEVENT
DTSTART;TZID=Europe/London:20240402T173000
DTEND;TZID=Europe/London:20240402T193000
DTSTAMP:20260420T074634
CREATED:20231205T095733Z
LAST-MODIFIED:20231205T095733Z
UID:9816-1712079000-1712086200@cheltenhambowlingclub.org.uk
SUMMARY:BOWLERS Meeting
DESCRIPTION:
URL:https://cheltenhambowlingclub.org.uk/event/bowlers-meeting/
LOCATION:Cheltenham Bowling Club\, Unwin Pavilion\, Ashburne Bowling Green\, Suffolk Square\, Cheltenham\, GL50 2DX\, United Kingdom
END:VEVENT
BEGIN:VEVENT
DTSTART;TZID=Europe/London:20240328T093000
DTEND;TZID=Europe/London:20240328T123000
DTSTAMP:20260420T074634
CREATED:20231229T132256Z
LAST-MODIFIED:20231229T132256Z
UID:9962-1711618200-1711629000@cheltenhambowlingclub.org.uk
SUMMARY:U3a Military History meeting
DESCRIPTION:
URL:https://cheltenhambowlingclub.org.uk/event/u3a-military-history-meeting-3/
LOCATION:Cheltenham Bowling Club\, Unwin Pavilion\, Ashburne Bowling Green\, Suffolk Square\, Cheltenham\, GL50 2DX\, United Kingdom
END:VEVENT
BEGIN:VEVENT
DTSTART;TZID=Europe/London:20240327T090000
DTEND;TZID=Europe/London:20240327T120000
DTSTAMP:20260420T074634
CREATED:20231229T131708Z
LAST-MODIFIED:20231229T131708Z
UID:9956-1711530000-1711540800@cheltenhambowlingclub.org.uk
SUMMARY:Probus meeting
DESCRIPTION:
URL:https://cheltenhambowlingclub.org.uk/event/probus-meeting-4/
END:VEVENT
BEGIN:VEVENT
DTSTART;TZID=Europe/London:20240326T180000
DTEND;TZID=Europe/London:20240326T220000
DTSTAMP:20260420T074634
CREATED:20240108T122333Z
LAST-MODIFIED:20240108T122333Z
UID:10070-1711476000-1711490400@cheltenhambowlingclub.org.uk
SUMMARY:Ladies Pamper Evening
DESCRIPTION:
URL:https://cheltenhambowlingclub.org.uk/event/ladies-pamper-evening/
LOCATION:Cheltenham Bowling Club\, Unwin Pavilion\, Ashburne Bowling Green\, Suffolk Square\, Cheltenham\, GL50 2DX\, United Kingdom
END:VEVENT
BEGIN:VEVENT
DTSTART;TZID=Europe/London:20240325T183000
DTEND;TZID=Europe/London:20240325T213000
DTSTAMP:20260420T074634
CREATED:20240214T115538Z
LAST-MODIFIED:20240214T115538Z
UID:10251-1711391400-1711402200@cheltenhambowlingclub.org.uk
SUMMARY:Table Tennis Match
DESCRIPTION:
URL:https://cheltenhambowlingclub.org.uk/event/table-tennis-match-12/
LOCATION:Cheltenham Bowling Club\, Unwin Pavilion\, Ashburne Bowling Green\, Suffolk Square\, Cheltenham\, GL50 2DX\, United Kingdom
END:VEVENT
BEGIN:VEVENT
DTSTART;TZID=Europe/London:20240324T180000
DTEND;TZID=Europe/London:20240324T223000
DTSTAMP:20260420T074634
CREATED:20240221T205017Z
LAST-MODIFIED:20240221T205017Z
UID:10299-1711303200-1711319400@cheltenhambowlingclub.org.uk
SUMMARY:Mayors Charity Quiz
DESCRIPTION:
URL:https://cheltenhambowlingclub.org.uk/event/mayors-charity-quiz/
LOCATION:Cheltenham Bowling Club\, Unwin Pavilion\, Ashburne Bowling Green\, Suffolk Square\, Cheltenham\, GL50 2DX\, United Kingdom
END:VEVENT
END:VCALENDAR