BEGIN:VCALENDAR
VERSION:2.0
PRODID:-//Cheltenham Bowling Club - ECPv6.15.20//NONSGML v1.0//EN
CALSCALE:GREGORIAN
METHOD:PUBLISH
X-WR-CALNAME:Cheltenham Bowling Club
X-ORIGINAL-URL:https://cheltenhambowlingclub.org.uk
X-WR-CALDESC:Events for Cheltenham Bowling Club
REFRESH-INTERVAL;VALUE=DURATION:PT1H
X-Robots-Tag:noindex
X-PUBLISHED-TTL:PT1H
BEGIN:VTIMEZONE
TZID:Europe/London
BEGIN:DAYLIGHT
TZOFFSETFROM:+0000
TZOFFSETTO:+0100
TZNAME:BST
DTSTART:20240331T010000
END:DAYLIGHT
BEGIN:STANDARD
TZOFFSETFROM:+0100
TZOFFSETTO:+0000
TZNAME:GMT
DTSTART:20241027T010000
END:STANDARD
BEGIN:DAYLIGHT
TZOFFSETFROM:+0000
TZOFFSETTO:+0100
TZNAME:BST
DTSTART:20250330T010000
END:DAYLIGHT
BEGIN:STANDARD
TZOFFSETFROM:+0100
TZOFFSETTO:+0000
TZNAME:GMT
DTSTART:20251026T010000
END:STANDARD
BEGIN:DAYLIGHT
TZOFFSETFROM:+0000
TZOFFSETTO:+0100
TZNAME:BST
DTSTART:20260329T010000
END:DAYLIGHT
BEGIN:STANDARD
TZOFFSETFROM:+0100
TZOFFSETTO:+0000
TZNAME:GMT
DTSTART:20261025T010000
END:STANDARD
BEGIN:DAYLIGHT
TZOFFSETFROM:+0000
TZOFFSETTO:+0100
TZNAME:BST
DTSTART:20270328T010000
END:DAYLIGHT
BEGIN:STANDARD
TZOFFSETFROM:+0100
TZOFFSETTO:+0000
TZNAME:GMT
DTSTART:20271031T010000
END:STANDARD
END:VTIMEZONE
BEGIN:VEVENT
DTSTART;TZID=Europe/London:20251119T190000
DTEND;TZID=Europe/London:20251119T213000
DTSTAMP:20260420T030357
CREATED:20250910T164957Z
LAST-MODIFIED:20250910T164957Z
UID:13716-1763578800-1763587800@cheltenhambowlingclub.org.uk
SUMMARY:Table Tennis
DESCRIPTION:
URL:https://cheltenhambowlingclub.org.uk/event/table-tennis-59/
LOCATION:Cheltenham Bowling Club\, Unwin Pavilion\, Ashburne Bowling Green\, Suffolk Square\, Cheltenham\, GL50 2DX\, United Kingdom
END:VEVENT
BEGIN:VEVENT
DTSTART;TZID=Europe/London:20251121T163000
DTEND;TZID=Europe/London:20251121T183000
DTSTAMP:20260420T030357
CREATED:20250924T182701Z
LAST-MODIFIED:20250924T182701Z
UID:13832-1763742600-1763749800@cheltenhambowlingclub.org.uk
SUMMARY:Doug Bond
DESCRIPTION:
URL:https://cheltenhambowlingclub.org.uk/event/doug-bond/
END:VEVENT
BEGIN:VEVENT
DTSTART;TZID=Europe/London:20251122T193000
DTEND;TZID=Europe/London:20251122T230000
DTSTAMP:20260420T030357
CREATED:20250321T091234Z
LAST-MODIFIED:20250321T091234Z
UID:12635-1763839800-1763852400@cheltenhambowlingclub.org.uk
SUMMARY:Cher
DESCRIPTION:
URL:https://cheltenhambowlingclub.org.uk/event/cher/
LOCATION:Cheltenham Bowling Club\, Unwin Pavilion\, Ashburne Bowling Green\, Suffolk Square\, Cheltenham\, GL50 2DX\, United Kingdom
END:VEVENT
BEGIN:VEVENT
DTSTART;TZID=Europe/London:20251124T190000
DTEND;TZID=Europe/London:20251124T213000
DTSTAMP:20260420T030357
CREATED:20250910T163726Z
LAST-MODIFIED:20250910T163726Z
UID:13702-1764010800-1764019800@cheltenhambowlingclub.org.uk
SUMMARY:Table Tennis
DESCRIPTION:
URL:https://cheltenhambowlingclub.org.uk/event/table-tennis-52/
LOCATION:Cheltenham Bowling Club\, Unwin Pavilion\, Ashburne Bowling Green\, Suffolk Square\, Cheltenham\, GL50 2DX\, United Kingdom
END:VEVENT
BEGIN:VEVENT
DTSTART;TZID=Europe/London:20251126T190000
DTEND;TZID=Europe/London:20251126T213000
DTSTAMP:20260420T030357
CREATED:20250910T165057Z
LAST-MODIFIED:20250910T165057Z
UID:13718-1764183600-1764192600@cheltenhambowlingclub.org.uk
SUMMARY:Table Tennis
DESCRIPTION:
URL:https://cheltenhambowlingclub.org.uk/event/table-tennis-60/
LOCATION:Cheltenham Bowling Club\, Unwin Pavilion\, Ashburne Bowling Green\, Suffolk Square\, Cheltenham\, GL50 2DX\, United Kingdom
END:VEVENT
BEGIN:VEVENT
DTSTART;TZID=Europe/London:20251127T093000
DTEND;TZID=Europe/London:20251127T120000
DTSTAMP:20260420T030357
CREATED:20250406T130934Z
LAST-MODIFIED:20250406T130934Z
UID:12779-1764235800-1764244800@cheltenhambowlingclub.org.uk
SUMMARY:U3a Military History Group
DESCRIPTION:
URL:https://cheltenhambowlingclub.org.uk/event/u3a-military-history-group-12/
LOCATION:Cheltenham Bowling Club\, Unwin Pavilion\, Ashburne Bowling Green\, Suffolk Square\, Cheltenham\, GL50 2DX\, United Kingdom
END:VEVENT
BEGIN:VEVENT
DTSTART;TZID=Europe/London:20251129T170000
DTEND;TZID=Europe/London:20251129T223000
DTSTAMP:20260420T030357
CREATED:20251030T173056Z
LAST-MODIFIED:20251030T173056Z
UID:13956-1764435600-1764455400@cheltenhambowlingclub.org.uk
SUMMARY:Marzena Ladies club
DESCRIPTION:
URL:https://cheltenhambowlingclub.org.uk/event/marzena-ladies-club/
LOCATION:Cheltenham Bowling Club\, Unwin Pavilion\, Ashburne Bowling Green\, Suffolk Square\, Cheltenham\, GL50 2DX\, United Kingdom
END:VEVENT
BEGIN:VEVENT
DTSTART;TZID=Europe/London:20251201T100000
DTEND;TZID=Europe/London:20251201T113000
DTSTAMP:20260420T030357
CREATED:20251013T105439Z
LAST-MODIFIED:20251013T105439Z
UID:13892-1764583200-1764588600@cheltenhambowlingclub.org.uk
SUMMARY:Dave Shelmerdine
DESCRIPTION:
URL:https://cheltenhambowlingclub.org.uk/event/dave-shelmerdine-9/
LOCATION:Cheltenham Bowling Club\, Unwin Pavilion\, Ashburne Bowling Green\, Suffolk Square\, Cheltenham\, GL50 2DX\, United Kingdom
END:VEVENT
BEGIN:VEVENT
DTSTART;TZID=Europe/London:20251202T123000
DTEND;TZID=Europe/London:20251202T123000
DTSTAMP:20260420T030357
CREATED:20250406T123810Z
LAST-MODIFIED:20250406T123810Z
UID:12763-1764678600-1764678600@cheltenhambowlingclub.org.uk
SUMMARY:Cheltenham Arts Club
DESCRIPTION:
URL:https://cheltenhambowlingclub.org.uk/event/cheltenham-arts-club-3/
LOCATION:Cheltenham Bowling Club\, Unwin Pavilion\, Ashburne Bowling Green\, Suffolk Square\, Cheltenham\, GL50 2DX\, United Kingdom
END:VEVENT
BEGIN:VEVENT
DTSTART;TZID=Europe/London:20251202T170000
DTEND;TZID=Europe/London:20251202T220000
DTSTAMP:20260420T030357
CREATED:20250825T180509Z
LAST-MODIFIED:20250825T180509Z
UID:13630-1764694800-1764712800@cheltenhambowlingclub.org.uk
SUMMARY:Geoff's Christmas Bingo
DESCRIPTION:
URL:https://cheltenhambowlingclub.org.uk/event/geoffs-christmas-bingo/
LOCATION:Cheltenham Bowling Club\, Unwin Pavilion\, Ashburne Bowling Green\, Suffolk Square\, Cheltenham\, GL50 2DX\, United Kingdom
END:VEVENT
BEGIN:VEVENT
DTSTART;TZID=Europe/London:20251203T190000
DTEND;TZID=Europe/London:20251203T213000
DTSTAMP:20260420T030357
CREATED:20250910T165227Z
LAST-MODIFIED:20250910T165227Z
UID:13720-1764788400-1764797400@cheltenhambowlingclub.org.uk
SUMMARY:Table Tennis
DESCRIPTION:
URL:https://cheltenhambowlingclub.org.uk/event/table-tennis-61/
LOCATION:Cheltenham Bowling Club\, Unwin Pavilion\, Ashburne Bowling Green\, Suffolk Square\, Cheltenham\, GL50 2DX\, United Kingdom
END:VEVENT
BEGIN:VEVENT
DTSTART;TZID=Europe/London:20251208T100000
DTEND;TZID=Europe/London:20251208T113000
DTSTAMP:20260420T030357
CREATED:20251013T105529Z
LAST-MODIFIED:20251013T105529Z
UID:13894-1765188000-1765193400@cheltenhambowlingclub.org.uk
SUMMARY:Dave Shelmerdine
DESCRIPTION:
URL:https://cheltenhambowlingclub.org.uk/event/dave-shelmerdine-10/
LOCATION:Cheltenham Bowling Club\, Unwin Pavilion\, Ashburne Bowling Green\, Suffolk Square\, Cheltenham\, GL50 2DX\, United Kingdom
END:VEVENT
BEGIN:VEVENT
DTSTART;TZID=Europe/London:20251209T190000
DTEND;TZID=Europe/London:20251209T223000
DTSTAMP:20260420T030357
CREATED:20250228T131517Z
LAST-MODIFIED:20250228T131517Z
UID:12510-1765306800-1765319400@cheltenhambowlingclub.org.uk
SUMMARY:Geoff Ratcliffe Christmas Quiz
DESCRIPTION:
URL:https://cheltenhambowlingclub.org.uk/event/geoff-ratcliffe-christmas-quiz/
LOCATION:Cheltenham Bowling Club\, Unwin Pavilion\, Ashburne Bowling Green\, Suffolk Square\, Cheltenham\, GL50 2DX\, United Kingdom
END:VEVENT
BEGIN:VEVENT
DTSTART;TZID=Europe/London:20251211T120000
DTEND;TZID=Europe/London:20251211T163000
DTSTAMP:20260420T030357
CREATED:20251125T143957Z
LAST-MODIFIED:20251125T143957Z
UID:14093-1765454400-1765470600@cheltenhambowlingclub.org.uk
SUMMARY:Nicky Anderson
DESCRIPTION:
URL:https://cheltenhambowlingclub.org.uk/event/nicky-anderson/
LOCATION:Cheltenham Bowling Club\, Unwin Pavilion\, Ashburne Bowling Green\, Suffolk Square\, Cheltenham\, GL50 2DX\, United Kingdom
END:VEVENT
BEGIN:VEVENT
DTSTART;TZID=Europe/London:20251215T100000
DTEND;TZID=Europe/London:20251215T113000
DTSTAMP:20260420T030357
CREATED:20251013T105608Z
LAST-MODIFIED:20251013T105608Z
UID:13896-1765792800-1765798200@cheltenhambowlingclub.org.uk
SUMMARY:Dave Shelmerdine
DESCRIPTION:
URL:https://cheltenhambowlingclub.org.uk/event/dave-shelmerdine-11/
LOCATION:Cheltenham Bowling Club\, Unwin Pavilion\, Ashburne Bowling Green\, Suffolk Square\, Cheltenham\, GL50 2DX\, United Kingdom
END:VEVENT
BEGIN:VEVENT
DTSTART;TZID=Europe/London:20251215T120000
DTEND;TZID=Europe/London:20251215T140000
DTSTAMP:20260420T030357
CREATED:20250822T105937Z
LAST-MODIFIED:20250822T105937Z
UID:13616-1765800000-1765807200@cheltenhambowlingclub.org.uk
SUMMARY:U3a Wine Club
DESCRIPTION:
URL:https://cheltenhambowlingclub.org.uk/event/u3a-wine-club-5/
LOCATION:Cheltenham Bowling Club\, Unwin Pavilion\, Ashburne Bowling Green\, Suffolk Square\, Cheltenham\, GL50 2DX\, United Kingdom
END:VEVENT
BEGIN:VEVENT
DTSTART;TZID=Europe/London:20251216T170000
DTEND;TZID=Europe/London:20251216T180000
DTSTAMP:20260420T030357
CREATED:20250924T164058Z
LAST-MODIFIED:20250924T164058Z
UID:13830-1765904400-1765908000@cheltenhambowlingclub.org.uk
SUMMARY:Robyn HML
DESCRIPTION:
URL:https://cheltenhambowlingclub.org.uk/event/robyn-hml/
LOCATION:Cheltenham Bowling Club\, Unwin Pavilion\, Ashburne Bowling Green\, Suffolk Square\, Cheltenham\, GL50 2DX\, United Kingdom
END:VEVENT
BEGIN:VEVENT
DTSTART;TZID=Europe/London:20251217T140000
DTEND;TZID=Europe/London:20251217T160000
DTSTAMP:20260420T030357
CREATED:20250102T131424Z
LAST-MODIFIED:20250102T131424Z
UID:12194-1765980000-1765987200@cheltenhambowlingclub.org.uk
SUMMARY:Ray Bigger U3a Discussion Group
DESCRIPTION:
URL:https://cheltenhambowlingclub.org.uk/event/ray-bigger-u3a-discussion-group-5/
LOCATION:Cheltenham Bowling Club\, Unwin Pavilion\, Ashburne Bowling Green\, Suffolk Square\, Cheltenham\, GL50 2DX\, United Kingdom
END:VEVENT
BEGIN:VEVENT
DTSTART;TZID=Europe/London:20251218T093000
DTEND;TZID=Europe/London:20251218T123000
DTSTAMP:20260420T030357
CREATED:20250501T194531Z
LAST-MODIFIED:20250501T194531Z
UID:12939-1766050200-1766061000@cheltenhambowlingclub.org.uk
SUMMARY:U3a Military History Group
DESCRIPTION:
URL:https://cheltenhambowlingclub.org.uk/event/u3a-military-history-group-17/
LOCATION:Cheltenham Bowling Club\, Unwin Pavilion\, Ashburne Bowling Green\, Suffolk Square\, Cheltenham\, GL50 2DX\, United Kingdom
END:VEVENT
BEGIN:VEVENT
DTSTART;TZID=Europe/London:20251220T193000
DTEND;TZID=Europe/London:20251220T230000
DTSTAMP:20260420T030357
CREATED:20251102T190406Z
LAST-MODIFIED:20251102T190406Z
UID:13983-1766259000-1766271600@cheltenhambowlingclub.org.uk
SUMMARY:Club Christmas Party
DESCRIPTION:
URL:https://cheltenhambowlingclub.org.uk/event/club-christmas-party/
LOCATION:Cheltenham Bowling Club\, Unwin Pavilion\, Ashburne Bowling Green\, Suffolk Square\, Cheltenham\, GL50 2DX\, United Kingdom
END:VEVENT
BEGIN:VEVENT
DTSTART;TZID=Europe/London:20251222T100000
DTEND;TZID=Europe/London:20251222T113000
DTSTAMP:20260420T030357
CREATED:20251013T105659Z
LAST-MODIFIED:20251013T105659Z
UID:13898-1766397600-1766403000@cheltenhambowlingclub.org.uk
SUMMARY:Dave Shelmerdine
DESCRIPTION:
URL:https://cheltenhambowlingclub.org.uk/event/dave-shelmerdine-12/
LOCATION:Cheltenham Bowling Club\, Unwin Pavilion\, Ashburne Bowling Green\, Suffolk Square\, Cheltenham\, GL50 2DX\, United Kingdom
END:VEVENT
BEGIN:VEVENT
DTSTART;TZID=Europe/London:20260108T093000
DTEND;TZID=Europe/London:20260108T120000
DTSTAMP:20260420T030357
CREATED:20251202T182850Z
LAST-MODIFIED:20251202T182850Z
UID:14130-1767864600-1767873600@cheltenhambowlingclub.org.uk
SUMMARY:U3a Local History Group
DESCRIPTION:
URL:https://cheltenhambowlingclub.org.uk/event/u3a-local-history-group/
LOCATION:Cheltenham Bowling Club\, Unwin Pavilion\, Ashburne Bowling Green\, Suffolk Square\, Cheltenham\, GL50 2DX\, United Kingdom
END:VEVENT
BEGIN:VEVENT
DTSTART;TZID=Europe/London:20260121T140000
DTEND;TZID=Europe/London:20260121T160000
DTSTAMP:20260420T030357
CREATED:20251121T164648Z
LAST-MODIFIED:20251121T164648Z
UID:14060-1769004000-1769011200@cheltenhambowlingclub.org.uk
SUMMARY:U3a Discussion Group
DESCRIPTION:
URL:https://cheltenhambowlingclub.org.uk/event/u3a-discussion-group-5/
LOCATION:Cheltenham Bowling Club\, Unwin Pavilion\, Ashburne Bowling Green\, Suffolk Square\, Cheltenham\, GL50 2DX\, United Kingdom
END:VEVENT
BEGIN:VEVENT
DTSTART;TZID=Europe/London:20260122T093000
DTEND;TZID=Europe/London:20260122T123000
DTSTAMP:20260420T030357
CREATED:20250406T123933Z
LAST-MODIFIED:20250406T123933Z
UID:12765-1769074200-1769085000@cheltenhambowlingclub.org.uk
SUMMARY:Cheltenham Arts Club
DESCRIPTION:
URL:https://cheltenhambowlingclub.org.uk/event/cheltenham-arts-club-4/
LOCATION:Cheltenham Bowling Club\, Unwin Pavilion\, Ashburne Bowling Green\, Suffolk Square\, Cheltenham\, GL50 2DX\, United Kingdom
END:VEVENT
BEGIN:VEVENT
DTSTART;TZID=Europe/London:20260124T193000
DTEND;TZID=Europe/London:20260124T230000
DTSTAMP:20260420T030357
CREATED:20251106T122203Z
LAST-MODIFIED:20251106T122203Z
UID:13996-1769283000-1769295600@cheltenhambowlingclub.org.uk
SUMMARY:Robbie Williams
DESCRIPTION:
URL:https://cheltenhambowlingclub.org.uk/event/robbie-williams/
LOCATION:Cheltenham Bowling Club\, Unwin Pavilion\, Ashburne Bowling Green\, Suffolk Square\, Cheltenham\, GL50 2DX\, United Kingdom
END:VEVENT
BEGIN:VEVENT
DTSTART;TZID=Europe/London:20260129T093000
DTEND;TZID=Europe/London:20260129T120000
DTSTAMP:20260420T030357
CREATED:20251128T165922Z
LAST-MODIFIED:20251128T165922Z
UID:14103-1769679000-1769688000@cheltenhambowlingclub.org.uk
SUMMARY:U3a Military History Group
DESCRIPTION:
URL:https://cheltenhambowlingclub.org.uk/event/u3a-military-history-group-13/
LOCATION:Cheltenham Bowling Club\, Unwin Pavilion\, Ashburne Bowling Green\, Suffolk Square\, Cheltenham\, GL50 2DX\, United Kingdom
END:VEVENT
BEGIN:VEVENT
DTSTART;TZID=Europe/London:20260207T190000
DTEND;TZID=Europe/London:20260207T230000
DTSTAMP:20260420T030357
CREATED:20251028T124705Z
LAST-MODIFIED:20251028T124705Z
UID:13922-1770490800-1770505200@cheltenhambowlingclub.org.uk
SUMMARY:Nick Charlwood B/Party
DESCRIPTION:
URL:https://cheltenhambowlingclub.org.uk/event/nick-charlwood-b-party/
LOCATION:Cheltenham Bowling Club\, Unwin Pavilion\, Ashburne Bowling Green\, Suffolk Square\, Cheltenham\, GL50 2DX\, United Kingdom
END:VEVENT
BEGIN:VEVENT
DTSTART;TZID=Europe/London:20260212T090000
DTEND;TZID=Europe/London:20260212T120000
DTSTAMP:20260420T030357
CREATED:20251202T184356Z
LAST-MODIFIED:20251202T184356Z
UID:14132-1770886800-1770897600@cheltenhambowlingclub.org.uk
SUMMARY:U3a Local History Group
DESCRIPTION:
URL:https://cheltenhambowlingclub.org.uk/event/u3a-local-history-group-2/
LOCATION:Cheltenham Bowling Club\, Unwin Pavilion\, Ashburne Bowling Green\, Suffolk Square\, Cheltenham\, GL50 2DX\, United Kingdom
END:VEVENT
BEGIN:VEVENT
DTSTART;TZID=Europe/London:20260218T140000
DTEND;TZID=Europe/London:20260218T160000
DTSTAMP:20260420T030357
CREATED:20251121T164852Z
LAST-MODIFIED:20251121T164852Z
UID:14062-1771423200-1771430400@cheltenhambowlingclub.org.uk
SUMMARY:U3a Discussion Group
DESCRIPTION:
URL:https://cheltenhambowlingclub.org.uk/event/u3a-discussion-group-6/
LOCATION:Cheltenham Bowling Club\, Unwin Pavilion\, Ashburne Bowling Green\, Suffolk Square\, Cheltenham\, GL50 2DX\, United Kingdom
END:VEVENT
BEGIN:VEVENT
DTSTART;TZID=Europe/London:20260221T180000
DTEND;TZID=Europe/London:20260221T220000
DTSTAMP:20260420T030357
CREATED:20251112T163151Z
LAST-MODIFIED:20251112T163151Z
UID:14009-1771696800-1771711200@cheltenhambowlingclub.org.uk
SUMMARY:Wine Quiz
DESCRIPTION:
URL:https://cheltenhambowlingclub.org.uk/event/wine-quiz/
LOCATION:Cheltenham Bowling Club\, Unwin Pavilion\, Ashburne Bowling Green\, Suffolk Square\, Cheltenham\, GL50 2DX\, United Kingdom
END:VEVENT
END:VCALENDAR