BEGIN:VCALENDAR
VERSION:2.0
PRODID:-//Cheltenham Bowling Club - ECPv6.15.20//NONSGML v1.0//EN
CALSCALE:GREGORIAN
METHOD:PUBLISH
X-WR-CALNAME:Cheltenham Bowling Club
X-ORIGINAL-URL:https://cheltenhambowlingclub.org.uk
X-WR-CALDESC:Events for Cheltenham Bowling Club
REFRESH-INTERVAL;VALUE=DURATION:PT1H
X-Robots-Tag:noindex
X-PUBLISHED-TTL:PT1H
BEGIN:VTIMEZONE
TZID:Europe/London
BEGIN:DAYLIGHT
TZOFFSETFROM:+0000
TZOFFSETTO:+0100
TZNAME:BST
DTSTART:20230326T010000
END:DAYLIGHT
BEGIN:STANDARD
TZOFFSETFROM:+0100
TZOFFSETTO:+0000
TZNAME:GMT
DTSTART:20231029T010000
END:STANDARD
BEGIN:DAYLIGHT
TZOFFSETFROM:+0000
TZOFFSETTO:+0100
TZNAME:BST
DTSTART:20240331T010000
END:DAYLIGHT
BEGIN:STANDARD
TZOFFSETFROM:+0100
TZOFFSETTO:+0000
TZNAME:GMT
DTSTART:20241027T010000
END:STANDARD
BEGIN:DAYLIGHT
TZOFFSETFROM:+0000
TZOFFSETTO:+0100
TZNAME:BST
DTSTART:20250330T010000
END:DAYLIGHT
BEGIN:STANDARD
TZOFFSETFROM:+0100
TZOFFSETTO:+0000
TZNAME:GMT
DTSTART:20251026T010000
END:STANDARD
END:VTIMEZONE
BEGIN:VEVENT
DTSTART;TZID=Europe/London:20240910T093000
DTEND;TZID=Europe/London:20240910T110000
DTSTAMP:20260420T054624
CREATED:20240815T174932Z
LAST-MODIFIED:20240815T174932Z
UID:11288-1725960600-1725966000@cheltenhambowlingclub.org.uk
SUMMARY:Barron's Financial Clinic
DESCRIPTION:
URL:https://cheltenhambowlingclub.org.uk/event/barrons-financial-clinic/
END:VEVENT
BEGIN:VEVENT
DTSTART;TZID=Europe/London:20240909T183000
DTEND;TZID=Europe/London:20240909T213000
DTSTAMP:20260420T054624
CREATED:20240612T112629Z
LAST-MODIFIED:20240612T112629Z
UID:10916-1725906600-1725917400@cheltenhambowlingclub.org.uk
SUMMARY:TT Practice
DESCRIPTION:
URL:https://cheltenhambowlingclub.org.uk/event/tt-practice/
LOCATION:Cheltenham Bowling Club\, Unwin Pavilion\, Ashburne Bowling Green\, Suffolk Square\, Cheltenham\, GL50 2DX\, United Kingdom
END:VEVENT
BEGIN:VEVENT
DTSTART;TZID=Europe/London:20240909T123000
DTEND;TZID=Europe/London:20240909T170000
DTSTAMP:20260420T054624
CREATED:20240822T131250Z
LAST-MODIFIED:20240822T131250Z
UID:11335-1725885000-1725901200@cheltenhambowlingclub.org.uk
SUMMARY:Celebration of the life of Jeremy Butcher
DESCRIPTION:
URL:https://cheltenhambowlingclub.org.uk/event/celebration-of-the-life-of-jeremy-butcher/
LOCATION:Cheltenham Bowling Club\, Unwin Pavilion\, Ashburne Bowling Green\, Suffolk Square\, Cheltenham\, GL50 2DX\, United Kingdom
END:VEVENT
BEGIN:VEVENT
DTSTART;TZID=Europe/London:20240905T153000
DTEND;TZID=Europe/London:20240905T170000
DTSTAMP:20260420T054624
CREATED:20240616T135704Z
LAST-MODIFIED:20240616T135704Z
UID:10943-1725550200-1725555600@cheltenhambowlingclub.org.uk
SUMMARY:Lillian Faithful bowling
DESCRIPTION:
URL:https://cheltenhambowlingclub.org.uk/event/lillian-faithful-bowling-4/
LOCATION:Cheltenham Bowling Club\, Unwin Pavilion\, Ashburne Bowling Green\, Suffolk Square\, Cheltenham\, GL50 2DX\, United Kingdom
END:VEVENT
BEGIN:VEVENT
DTSTART;TZID=Europe/London:20240902T183000
DTEND;TZID=Europe/London:20240902T213000
DTSTAMP:20260420T054624
CREATED:20240612T142110Z
LAST-MODIFIED:20240612T142110Z
UID:10922-1725301800-1725312600@cheltenhambowlingclub.org.uk
SUMMARY:Table Tennis practice
DESCRIPTION:
URL:https://cheltenhambowlingclub.org.uk/event/table-tennis-practice-3/
LOCATION:Cheltenham Bowling Club\, Unwin Pavilion\, Ashburne Bowling Green\, Suffolk Square\, Cheltenham\, GL50 2DX\, United Kingdom
END:VEVENT
BEGIN:VEVENT
DTSTART;TZID=Europe/London:20240901T143000
DTEND;TZID=Europe/London:20240901T180000
DTSTAMP:20260420T054624
CREATED:20240811T084913Z
LAST-MODIFIED:20240811T084913Z
UID:11187-1725201000-1725213600@cheltenhambowlingclub.org.uk
SUMMARY:Celebration of the life of Anthony Cutmore
DESCRIPTION:
URL:https://cheltenhambowlingclub.org.uk/event/celebration-of-the-life-of-anthony-cutmore/
LOCATION:Cheltenham Bowling Club\, Unwin Pavilion\, Ashburne Bowling Green\, Suffolk Square\, Cheltenham\, GL50 2DX\, United Kingdom
END:VEVENT
BEGIN:VEVENT
DTSTART;TZID=Europe/London:20240830T100000
DTEND;TZID=Europe/London:20240830T120000
DTSTAMP:20260420T054624
CREATED:20240809T115347Z
LAST-MODIFIED:20240809T115347Z
UID:11173-1725012000-1725019200@cheltenhambowlingclub.org.uk
SUMMARY:Suffolk Mews First Port
DESCRIPTION:
URL:https://cheltenhambowlingclub.org.uk/event/suffolk-mews-first-port/
LOCATION:Cheltenham Bowling Club\, Unwin Pavilion\, Ashburne Bowling Green\, Suffolk Square\, Cheltenham\, GL50 2DX\, United Kingdom
END:VEVENT
BEGIN:VEVENT
DTSTART;TZID=Europe/London:20240824T190000
DTEND;TZID=Europe/London:20240824T230000
DTSTAMP:20260420T054624
CREATED:20240610T080135Z
LAST-MODIFIED:20240610T080135Z
UID:10897-1724526000-1724540400@cheltenhambowlingclub.org.uk
SUMMARY:Glenis Hopkins
DESCRIPTION:
URL:https://cheltenhambowlingclub.org.uk/event/glenis-hopkins/
LOCATION:Cheltenham Bowling Club\, Unwin Pavilion\, Ashburne Bowling Green\, Suffolk Square\, Cheltenham\, GL50 2DX\, United Kingdom
END:VEVENT
BEGIN:VEVENT
DTSTART;TZID=Europe/London:20240822T153000
DTEND;TZID=Europe/London:20240822T170000
DTSTAMP:20260420T054624
CREATED:20240616T135603Z
LAST-MODIFIED:20240616T135603Z
UID:10941-1724340600-1724346000@cheltenhambowlingclub.org.uk
SUMMARY:Lillian Faithful bowling
DESCRIPTION:
URL:https://cheltenhambowlingclub.org.uk/event/lillian-faithful-bowling-3/
LOCATION:Cheltenham Bowling Club\, Unwin Pavilion\, Ashburne Bowling Green\, Suffolk Square\, Cheltenham\, GL50 2DX\, United Kingdom
END:VEVENT
BEGIN:VEVENT
DTSTART;TZID=Europe/London:20240819T120000
DTEND;TZID=Europe/London:20240819T140000
DTSTAMP:20260420T054624
CREATED:20240517T113232Z
LAST-MODIFIED:20240517T113232Z
UID:10756-1724068800-1724076000@cheltenhambowlingclub.org.uk
SUMMARY:Ken U3a Wine Club
DESCRIPTION:
URL:https://cheltenhambowlingclub.org.uk/event/ken-u3a-wine-club-4/
LOCATION:Cheltenham Bowling Club\, Unwin Pavilion\, Ashburne Bowling Green\, Suffolk Square\, Cheltenham\, GL50 2DX\, United Kingdom
END:VEVENT
BEGIN:VEVENT
DTSTART;TZID=Europe/London:20240816T143000
DTEND;TZID=Europe/London:20240816T180000
DTSTAMP:20260420T054624
CREATED:20240805T110236Z
LAST-MODIFIED:20240805T110236Z
UID:11163-1723818600-1723831200@cheltenhambowlingclub.org.uk
SUMMARY:Adam Smith works 3 rink Ross
DESCRIPTION:
URL:https://cheltenhambowlingclub.org.uk/event/adam-smith-works-3-rink-ross/
LOCATION:Cheltenham Bowling Club\, Unwin Pavilion\, Ashburne Bowling Green\, Suffolk Square\, Cheltenham\, GL50 2DX\, United Kingdom
END:VEVENT
BEGIN:VEVENT
DTSTART;TZID=Europe/London:20240812T190000
DTEND;TZID=Europe/London:20240812T213000
DTSTAMP:20260420T054624
CREATED:20240605T075716Z
LAST-MODIFIED:20240605T075716Z
UID:10860-1723489200-1723498200@cheltenhambowlingclub.org.uk
SUMMARY:Table Tennis
DESCRIPTION:
URL:https://cheltenhambowlingclub.org.uk/event/table-tennis-4/
LOCATION:Cheltenham Bowling Club\, Unwin Pavilion\, Ashburne Bowling Green\, Suffolk Square\, Cheltenham\, GL50 2DX\, United Kingdom
END:VEVENT
BEGIN:VEVENT
DTSTART;TZID=Europe/London:20240802T100000
DTEND;TZID=Europe/London:20240802T120000
DTSTAMP:20260420T054624
CREATED:20240730T091336Z
LAST-MODIFIED:20240730T091336Z
UID:11139-1722592800-1722600000@cheltenhambowlingclub.org.uk
SUMMARY:Management Committee Meeting
DESCRIPTION:
URL:https://cheltenhambowlingclub.org.uk/event/management-committee-meeting-4/
END:VEVENT
BEGIN:VEVENT
DTSTART;TZID=Europe/London:20240729T190000
DTEND;TZID=Europe/London:20240729T213000
DTSTAMP:20260420T054624
CREATED:20240605T075625Z
LAST-MODIFIED:20240605T075625Z
UID:10858-1722279600-1722288600@cheltenhambowlingclub.org.uk
SUMMARY:Table Tennis
DESCRIPTION:
URL:https://cheltenhambowlingclub.org.uk/event/table-tennis-3/
LOCATION:Cheltenham Bowling Club\, Unwin Pavilion\, Ashburne Bowling Green\, Suffolk Square\, Cheltenham\, GL50 2DX\, United Kingdom
END:VEVENT
BEGIN:VEVENT
DTSTART;TZID=Europe/London:20240718T183000
DTEND;TZID=Europe/London:20240718T200000
DTSTAMP:20260420T054624
CREATED:20240517T082943Z
LAST-MODIFIED:20240517T082943Z
UID:10747-1721327400-1721332800@cheltenhambowlingclub.org.uk
SUMMARY:Diggory Seacome Private Quiz
DESCRIPTION:
URL:https://cheltenhambowlingclub.org.uk/event/diggory-seacome-private-quiz/
LOCATION:Cheltenham Bowling Club\, Unwin Pavilion\, Ashburne Bowling Green\, Suffolk Square\, Cheltenham\, GL50 2DX\, United Kingdom
END:VEVENT
BEGIN:VEVENT
DTSTART;TZID=Europe/London:20240715T183000
DTEND;TZID=Europe/London:20240715T220000
DTSTAMP:20260420T054624
CREATED:20240612T112332Z
LAST-MODIFIED:20240612T112332Z
UID:10914-1721068200-1721080800@cheltenhambowlingclub.org.uk
SUMMARY:Table Tennis AGM
DESCRIPTION:
URL:https://cheltenhambowlingclub.org.uk/event/table-tennis-agm/
LOCATION:Cheltenham Bowling Club\, Unwin Pavilion\, Ashburne Bowling Green\, Suffolk Square\, Cheltenham\, GL50 2DX\, United Kingdom
END:VEVENT
BEGIN:VEVENT
DTSTART;TZID=Europe/London:20240715T120000
DTEND;TZID=Europe/London:20240715T140000
DTSTAMP:20260420T054624
CREATED:20240517T113113Z
LAST-MODIFIED:20240517T113113Z
UID:10754-1721044800-1721052000@cheltenhambowlingclub.org.uk
SUMMARY:Ken U3a Wine Club
DESCRIPTION:
URL:https://cheltenhambowlingclub.org.uk/event/ken-u3a-wine-club-3/
LOCATION:Cheltenham Bowling Club\, Unwin Pavilion\, Ashburne Bowling Green\, Suffolk Square\, Cheltenham\, GL50 2DX\, United Kingdom
END:VEVENT
BEGIN:VEVENT
DTSTART;TZID=Europe/London:20240711T153000
DTEND;TZID=Europe/London:20240711T170000
DTSTAMP:20260420T054624
CREATED:20240616T135505Z
LAST-MODIFIED:20240616T135505Z
UID:10939-1720711800-1720717200@cheltenhambowlingclub.org.uk
SUMMARY:Lillian Faithful bowling
DESCRIPTION:
URL:https://cheltenhambowlingclub.org.uk/event/lillian-faithful-bowling-2/
LOCATION:Cheltenham Bowling Club\, Unwin Pavilion\, Ashburne Bowling Green\, Suffolk Square\, Cheltenham\, GL50 2DX\, United Kingdom
END:VEVENT
BEGIN:VEVENT
DTSTART;TZID=Europe/London:20240708T190000
DTEND;TZID=Europe/London:20240708T213000
DTSTAMP:20260420T054624
CREATED:20240605T075512Z
LAST-MODIFIED:20240605T075512Z
UID:10856-1720465200-1720474200@cheltenhambowlingclub.org.uk
SUMMARY:Table Tennis
DESCRIPTION:
URL:https://cheltenhambowlingclub.org.uk/event/table-tennis-2/
LOCATION:Cheltenham Bowling Club\, Unwin Pavilion\, Ashburne Bowling Green\, Suffolk Square\, Cheltenham\, GL50 2DX\, United Kingdom
END:VEVENT
BEGIN:VEVENT
DTSTART;TZID=Europe/London:20240705T120000
DTEND;TZID=Europe/London:20240705T180000
DTSTAMP:20260420T054624
CREATED:20240303T140935Z
LAST-MODIFIED:20240303T140935Z
UID:10342-1720180800-1720202400@cheltenhambowlingclub.org.uk
SUMMARY:Andy Corporate afternoon
DESCRIPTION:
URL:https://cheltenhambowlingclub.org.uk/event/andy-corporate-afternoon/
LOCATION:Cheltenham Bowling Club\, Unwin Pavilion\, Ashburne Bowling Green\, Suffolk Square\, Cheltenham\, GL50 2DX\, United Kingdom
END:VEVENT
BEGIN:VEVENT
DTSTART;TZID=Europe/London:20240627T153000
DTEND;TZID=Europe/London:20240627T170000
DTSTAMP:20260420T054624
CREATED:20240616T135410Z
LAST-MODIFIED:20240616T135410Z
UID:10937-1719502200-1719507600@cheltenhambowlingclub.org.uk
SUMMARY:Lillian Faithful bowling
DESCRIPTION:
URL:https://cheltenhambowlingclub.org.uk/event/lillian-faithful-bowling/
LOCATION:Cheltenham Bowling Club\, Unwin Pavilion\, Ashburne Bowling Green\, Suffolk Square\, Cheltenham\, GL50 2DX\, United Kingdom
END:VEVENT
BEGIN:VEVENT
DTSTART;TZID=Europe/London:20240627T093000
DTEND;TZID=Europe/London:20240627T123000
DTSTAMP:20260420T054624
CREATED:20231229T132645Z
LAST-MODIFIED:20231229T132645Z
UID:9968-1719480600-1719491400@cheltenhambowlingclub.org.uk
SUMMARY:U3a Military History meeting
DESCRIPTION:
URL:https://cheltenhambowlingclub.org.uk/event/u3a-military-history-meeting-5/
LOCATION:Cheltenham Bowling Club\, Unwin Pavilion\, Ashburne Bowling Green\, Suffolk Square\, Cheltenham\, GL50 2DX\, United Kingdom
END:VEVENT
BEGIN:VEVENT
DTSTART;TZID=Europe/London:20240626T190000
DTEND;TZID=Europe/London:20240626T210000
DTSTAMP:20260420T054624
CREATED:20240427T160956Z
LAST-MODIFIED:20240427T160956Z
UID:10676-1719428400-1719435600@cheltenhambowlingclub.org.uk
SUMMARY:Century Court Meeting
DESCRIPTION:
URL:https://cheltenhambowlingclub.org.uk/event/century-court-meeting/
LOCATION:Cheltenham Bowling Club\, Unwin Pavilion\, Ashburne Bowling Green\, Suffolk Square\, Cheltenham\, GL50 2DX\, United Kingdom
END:VEVENT
BEGIN:VEVENT
DTSTART;TZID=Europe/London:20240626T140000
DTEND;TZID=Europe/London:20240626T160000
DTSTAMP:20260420T054624
CREATED:20231230T175813Z
LAST-MODIFIED:20231230T175813Z
UID:9985-1719410400-1719417600@cheltenhambowlingclub.org.uk
SUMMARY:Ray Bigger U3a Group
DESCRIPTION:
URL:https://cheltenhambowlingclub.org.uk/event/ray-bigger-u3a-group-3/
LOCATION:Cheltenham Bowling Club\, Unwin Pavilion\, Ashburne Bowling Green\, Suffolk Square\, Cheltenham\, GL50 2DX\, United Kingdom
END:VEVENT
BEGIN:VEVENT
DTSTART;TZID=Europe/London:20240617T190000
DTEND;TZID=Europe/London:20240617T213000
DTSTAMP:20260420T054624
CREATED:20240605T075406Z
LAST-MODIFIED:20240605T075406Z
UID:10854-1718650800-1718659800@cheltenhambowlingclub.org.uk
SUMMARY:Table tennis
DESCRIPTION:
URL:https://cheltenhambowlingclub.org.uk/event/table-tennis/
LOCATION:Cheltenham Bowling Club\, Unwin Pavilion\, Ashburne Bowling Green\, Suffolk Square\, Cheltenham\, GL50 2DX\, United Kingdom
END:VEVENT
BEGIN:VEVENT
DTSTART;TZID=Europe/London:20240617T120000
DTEND;TZID=Europe/London:20240617T140000
DTSTAMP:20260420T054624
CREATED:20240517T112927Z
LAST-MODIFIED:20240517T112927Z
UID:10752-1718625600-1718632800@cheltenhambowlingclub.org.uk
SUMMARY:Ken U3a Wine Club
DESCRIPTION:
URL:https://cheltenhambowlingclub.org.uk/event/ken-u3a-wine-club-2/
LOCATION:Cheltenham Bowling Club\, Unwin Pavilion\, Ashburne Bowling Green\, Suffolk Square\, Cheltenham\, GL50 2DX\, United Kingdom
END:VEVENT
BEGIN:VEVENT
DTSTART;TZID=Europe/London:20240615T180000
DTEND;TZID=Europe/London:20240615T230000
DTSTAMP:20260420T054624
CREATED:20240319T074757Z
LAST-MODIFIED:20240319T074757Z
UID:10433-1718474400-1718492400@cheltenhambowlingclub.org.uk
SUMMARY:Michael Cox
DESCRIPTION:
URL:https://cheltenhambowlingclub.org.uk/event/michael-cox/
LOCATION:Cheltenham Bowling Club\, Unwin Pavilion\, Ashburne Bowling Green\, Suffolk Square\, Cheltenham\, GL50 2DX\, United Kingdom
END:VEVENT
BEGIN:VEVENT
DTSTART;TZID=Europe/London:20240614T143000
DTEND;TZID=Europe/London:20240614T153000
DTSTAMP:20260420T054624
CREATED:20240523T120527Z
LAST-MODIFIED:20240523T120527Z
UID:10775-1718375400-1718379000@cheltenhambowlingclub.org.uk
SUMMARY:David Turner Y&G Property meeting
DESCRIPTION:
URL:https://cheltenhambowlingclub.org.uk/event/david-turner-yg-property-meeting/
LOCATION:Cheltenham Bowling Club\, Unwin Pavilion\, Ashburne Bowling Green\, Suffolk Square\, Cheltenham\, GL50 2DX\, United Kingdom
END:VEVENT
BEGIN:VEVENT
DTSTART;TZID=Europe/London:20240530T183000
DTEND;TZID=Europe/London:20240530T193000
DTSTAMP:20260420T054624
CREATED:20240523T120345Z
LAST-MODIFIED:20240523T120345Z
UID:10773-1717093800-1717097400@cheltenhambowlingclub.org.uk
SUMMARY:David Turner Young& Gilling property meeting
DESCRIPTION:
URL:https://cheltenhambowlingclub.org.uk/event/david-turner-young-gilling-property-meeting/
LOCATION:Cheltenham Bowling Club\, Unwin Pavilion\, Ashburne Bowling Green\, Suffolk Square\, Cheltenham\, GL50 2DX\, United Kingdom
END:VEVENT
BEGIN:VEVENT
DTSTART;TZID=Europe/London:20240530T093000
DTEND;TZID=Europe/London:20240530T123000
DTSTAMP:20260420T054624
CREATED:20231229T132534Z
LAST-MODIFIED:20231229T132534Z
UID:9966-1717061400-1717072200@cheltenhambowlingclub.org.uk
SUMMARY:U3a Miliary History meeting
DESCRIPTION:
URL:https://cheltenhambowlingclub.org.uk/event/u3a-miliary-history-meeting/
LOCATION:Cheltenham Bowling Club\, Unwin Pavilion\, Ashburne Bowling Green\, Suffolk Square\, Cheltenham\, GL50 2DX\, United Kingdom
END:VEVENT
END:VCALENDAR