BEGIN:VCALENDAR
VERSION:2.0
PRODID:-//Cheltenham Bowling Club - ECPv6.15.20//NONSGML v1.0//EN
CALSCALE:GREGORIAN
METHOD:PUBLISH
X-WR-CALNAME:Cheltenham Bowling Club
X-ORIGINAL-URL:https://cheltenhambowlingclub.org.uk
X-WR-CALDESC:Events for Cheltenham Bowling Club
REFRESH-INTERVAL;VALUE=DURATION:PT1H
X-Robots-Tag:noindex
X-PUBLISHED-TTL:PT1H
BEGIN:VTIMEZONE
TZID:Europe/London
BEGIN:DAYLIGHT
TZOFFSETFROM:+0000
TZOFFSETTO:+0100
TZNAME:BST
DTSTART:20230326T010000
END:DAYLIGHT
BEGIN:STANDARD
TZOFFSETFROM:+0100
TZOFFSETTO:+0000
TZNAME:GMT
DTSTART:20231029T010000
END:STANDARD
BEGIN:DAYLIGHT
TZOFFSETFROM:+0000
TZOFFSETTO:+0100
TZNAME:BST
DTSTART:20240331T010000
END:DAYLIGHT
BEGIN:STANDARD
TZOFFSETFROM:+0100
TZOFFSETTO:+0000
TZNAME:GMT
DTSTART:20241027T010000
END:STANDARD
BEGIN:DAYLIGHT
TZOFFSETFROM:+0000
TZOFFSETTO:+0100
TZNAME:BST
DTSTART:20250330T010000
END:DAYLIGHT
BEGIN:STANDARD
TZOFFSETFROM:+0100
TZOFFSETTO:+0000
TZNAME:GMT
DTSTART:20251026T010000
END:STANDARD
END:VTIMEZONE
BEGIN:VEVENT
DTSTART;TZID=Europe/London:20241030T190000
DTEND;TZID=Europe/London:20241030T220000
DTSTAMP:20260420T032546
CREATED:20240814T112026Z
LAST-MODIFIED:20240814T112026Z
UID:11213-1730314800-1730325600@cheltenhambowlingclub.org.uk
SUMMARY:Table Tennis
DESCRIPTION:
URL:https://cheltenhambowlingclub.org.uk/event/table-tennis-10/
LOCATION:Cheltenham Bowling Club\, Unwin Pavilion\, Ashburne Bowling Green\, Suffolk Square\, Cheltenham\, GL50 2DX\, United Kingdom
END:VEVENT
BEGIN:VEVENT
DTSTART;TZID=Europe/London:20241028T190000
DTEND;TZID=Europe/London:20241028T220000
DTSTAMP:20260420T032546
CREATED:20240814T113746Z
LAST-MODIFIED:20240814T113746Z
UID:11248-1730142000-1730152800@cheltenhambowlingclub.org.uk
SUMMARY:Table Tennis
DESCRIPTION:
URL:https://cheltenhambowlingclub.org.uk/event/table-tennis-27/
LOCATION:Cheltenham Bowling Club\, Unwin Pavilion\, Ashburne Bowling Green\, Suffolk Square\, Cheltenham\, GL50 2DX\, United Kingdom
END:VEVENT
BEGIN:VEVENT
DTSTART;TZID=Europe/London:20241026T190000
DTEND;TZID=Europe/London:20241026T230000
DTSTAMP:20260420T032546
CREATED:20240205T130419Z
LAST-MODIFIED:20240205T130419Z
UID:10173-1729969200-1729983600@cheltenhambowlingclub.org.uk
SUMMARY:Presentation Evening
DESCRIPTION:
URL:https://cheltenhambowlingclub.org.uk/event/presentation-evening/
LOCATION:Cheltenham Bowling Club\, Unwin Pavilion\, Ashburne Bowling Green\, Suffolk Square\, Cheltenham\, GL50 2DX\, United Kingdom
END:VEVENT
BEGIN:VEVENT
DTSTART;TZID=Europe/London:20241026T093000
DTEND;TZID=Europe/London:20241026T120000
DTSTAMP:20260420T032546
CREATED:20241014T081620Z
LAST-MODIFIED:20241014T081620Z
UID:11683-1729935000-1729944000@cheltenhambowlingclub.org.uk
SUMMARY:Ladies meeting Kitchen + Lounge
DESCRIPTION:
URL:https://cheltenhambowlingclub.org.uk/event/ladies-meeting-kitchen-lounge/
LOCATION:Cheltenham Bowling Club\, Unwin Pavilion\, Ashburne Bowling Green\, Suffolk Square\, Cheltenham\, GL50 2DX\, United Kingdom
END:VEVENT
BEGIN:VEVENT
DTSTART;TZID=Europe/London:20241025T120000
DTEND;TZID=Europe/London:20241025T170000
DTSTAMP:20260420T032546
CREATED:20241006T160714Z
LAST-MODIFIED:20241006T160714Z
UID:11674-1729857600-1729875600@cheltenhambowlingclub.org.uk
SUMMARY:Doug Rose family member wake
DESCRIPTION:
URL:https://cheltenhambowlingclub.org.uk/event/doug-rose-family-member-wake/
LOCATION:Cheltenham Bowling Club\, Unwin Pavilion\, Ashburne Bowling Green\, Suffolk Square\, Cheltenham\, GL50 2DX\, United Kingdom
END:VEVENT
BEGIN:VEVENT
DTSTART;TZID=Europe/London:20241023T190000
DTEND;TZID=Europe/London:20241023T220000
DTSTAMP:20260420T032546
CREATED:20240814T111936Z
LAST-MODIFIED:20240814T111936Z
UID:11211-1729710000-1729720800@cheltenhambowlingclub.org.uk
SUMMARY:Table Tennis
DESCRIPTION:
URL:https://cheltenhambowlingclub.org.uk/event/table-tennis-9/
LOCATION:Cheltenham Bowling Club\, Unwin Pavilion\, Ashburne Bowling Green\, Suffolk Square\, Cheltenham\, GL50 2DX\, United Kingdom
END:VEVENT
BEGIN:VEVENT
DTSTART;TZID=Europe/London:20241021T170000
DTEND;TZID=Europe/London:20241021T220000
DTSTAMP:20260420T032546
CREATED:20240814T113634Z
LAST-MODIFIED:20240814T113634Z
UID:11246-1729530000-1729548000@cheltenhambowlingclub.org.uk
SUMMARY:Table Tennis
DESCRIPTION:
URL:https://cheltenhambowlingclub.org.uk/event/table-tennis-26/
LOCATION:Cheltenham Bowling Club\, Unwin Pavilion\, Ashburne Bowling Green\, Suffolk Square\, Cheltenham\, GL50 2DX\, United Kingdom
END:VEVENT
BEGIN:VEVENT
DTSTART;TZID=Europe/London:20241021T120000
DTEND;TZID=Europe/London:20241021T140000
DTSTAMP:20260420T032546
CREATED:20240929T114204Z
LAST-MODIFIED:20240929T114204Z
UID:11633-1729512000-1729519200@cheltenhambowlingclub.org.uk
SUMMARY:Wine Club Ken
DESCRIPTION:
URL:https://cheltenhambowlingclub.org.uk/event/wine-club-ken/
LOCATION:Cheltenham Bowling Club\, Unwin Pavilion\, Ashburne Bowling Green\, Suffolk Square\, Cheltenham\, GL50 2DX\, United Kingdom
END:VEVENT
BEGIN:VEVENT
DTSTART;TZID=Europe/London:20241019T080000
DTEND;TZID=Europe/London:20241019T223000
DTSTAMP:20260420T032546
CREATED:20231205T101210Z
LAST-MODIFIED:20231205T101210Z
UID:9832-1729324800-1729377000@cheltenhambowlingclub.org.uk
SUMMARY:CHER Tribute Night
DESCRIPTION:
URL:https://cheltenhambowlingclub.org.uk/event/cher-tribute-night/
LOCATION:Cheltenham Bowling Club\, Unwin Pavilion\, Ashburne Bowling Green\, Suffolk Square\, Cheltenham\, GL50 2DX\, United Kingdom
END:VEVENT
BEGIN:VEVENT
DTSTART;TZID=Europe/London:20241018T130000
DTEND;TZID=Europe/London:20241018T170000
DTSTAMP:20260420T032546
CREATED:20240927T162418Z
LAST-MODIFIED:20240927T162418Z
UID:11614-1729256400-1729270800@cheltenhambowlingclub.org.uk
SUMMARY:Ralph Brooks Wake 1pm-
DESCRIPTION:
URL:https://cheltenhambowlingclub.org.uk/event/ralph-brooks-wake-1pm/
LOCATION:Cheltenham Bowling Club\, Unwin Pavilion\, Ashburne Bowling Green\, Suffolk Square\, Cheltenham\, GL50 2DX\, United Kingdom
END:VEVENT
BEGIN:VEVENT
DTSTART;TZID=Europe/London:20241017T090000
DTEND;TZID=Europe/London:20241017T123000
DTSTAMP:20260420T032546
CREATED:20240929T113902Z
LAST-MODIFIED:20240929T113902Z
UID:11631-1729155600-1729168200@cheltenhambowlingclub.org.uk
SUMMARY:Charity Coffee morning Jeanette Scott
DESCRIPTION:
URL:https://cheltenhambowlingclub.org.uk/event/charity-coffee-morning-jeanette-scott/
LOCATION:Cheltenham Bowling Club\, Unwin Pavilion\, Ashburne Bowling Green\, Suffolk Square\, Cheltenham\, GL50 2DX\, United Kingdom
END:VEVENT
BEGIN:VEVENT
DTSTART;TZID=Europe/London:20241016T190000
DTEND;TZID=Europe/London:20241016T220000
DTSTAMP:20260420T032546
CREATED:20240814T111850Z
LAST-MODIFIED:20240814T111850Z
UID:11209-1729105200-1729116000@cheltenhambowlingclub.org.uk
SUMMARY:Table Tennis
DESCRIPTION:
URL:https://cheltenhambowlingclub.org.uk/event/table-tennis-8/
LOCATION:Cheltenham Bowling Club\, Unwin Pavilion\, Ashburne Bowling Green\, Suffolk Square\, Cheltenham\, GL50 2DX\, United Kingdom
END:VEVENT
BEGIN:VEVENT
DTSTART;TZID=Europe/London:20241016T140000
DTEND;TZID=Europe/London:20241016T160000
DTSTAMP:20260420T032546
CREATED:20240902T153125Z
LAST-MODIFIED:20240902T153125Z
UID:11432-1729087200-1729094400@cheltenhambowlingclub.org.uk
SUMMARY:U3a Discussion Group
DESCRIPTION:
URL:https://cheltenhambowlingclub.org.uk/event/u3a-discussion-group-2/
LOCATION:Cheltenham Bowling Club\, Unwin Pavilion\, Ashburne Bowling Green\, Suffolk Square\, Cheltenham\, GL50 2DX\, United Kingdom
END:VEVENT
BEGIN:VEVENT
DTSTART;TZID=Europe/London:20241014T190000
DTEND;TZID=Europe/London:20241014T220000
DTSTAMP:20260420T032546
CREATED:20240814T113505Z
LAST-MODIFIED:20240814T113505Z
UID:11244-1728932400-1728943200@cheltenhambowlingclub.org.uk
SUMMARY:Table Tennis
DESCRIPTION:
URL:https://cheltenhambowlingclub.org.uk/event/table-tennis-25/
LOCATION:Cheltenham Bowling Club\, Unwin Pavilion\, Ashburne Bowling Green\, Suffolk Square\, Cheltenham\, GL50 2DX\, United Kingdom
END:VEVENT
BEGIN:VEVENT
DTSTART;TZID=Europe/London:20241009T190000
DTEND;TZID=Europe/London:20241009T220000
DTSTAMP:20260420T032546
CREATED:20240814T111757Z
LAST-MODIFIED:20240814T111757Z
UID:11207-1728500400-1728511200@cheltenhambowlingclub.org.uk
SUMMARY:Table Tennis
DESCRIPTION:
URL:https://cheltenhambowlingclub.org.uk/event/table-tennis-7/
LOCATION:Cheltenham Bowling Club\, Unwin Pavilion\, Ashburne Bowling Green\, Suffolk Square\, Cheltenham\, GL50 2DX\, United Kingdom
END:VEVENT
BEGIN:VEVENT
DTSTART;TZID=Europe/London:20241008T183000
DTEND;TZID=Europe/London:20241008T210000
DTSTAMP:20260420T032546
CREATED:20240930T124634Z
LAST-MODIFIED:20240930T124634Z
UID:11641-1728412200-1728421200@cheltenhambowlingclub.org.uk
SUMMARY:GBA Chelt section meeting George Bevan
DESCRIPTION:
URL:https://cheltenhambowlingclub.org.uk/event/gba-chelt-section-meeting-george-bevan/
LOCATION:Cheltenham Bowling Club\, Unwin Pavilion\, Ashburne Bowling Green\, Suffolk Square\, Cheltenham\, GL50 2DX\, United Kingdom
END:VEVENT
BEGIN:VEVENT
DTSTART;TZID=Europe/London:20241008T093000
DTEND;TZID=Europe/London:20241008T110000
DTSTAMP:20260420T032546
CREATED:20240815T175225Z
LAST-MODIFIED:20240815T175225Z
UID:11290-1728379800-1728385200@cheltenhambowlingclub.org.uk
SUMMARY:Barron's fortnightly Financial Clinic resumes
DESCRIPTION:
URL:https://cheltenhambowlingclub.org.uk/event/barrons-fortnightly-financial-clinic-resumes/
END:VEVENT
BEGIN:VEVENT
DTSTART;TZID=Europe/London:20241007T190000
DTEND;TZID=Europe/London:20241007T220000
DTSTAMP:20260420T032546
CREATED:20240814T113340Z
LAST-MODIFIED:20240814T113340Z
UID:11242-1728327600-1728338400@cheltenhambowlingclub.org.uk
SUMMARY:Table Tennis
DESCRIPTION:
URL:https://cheltenhambowlingclub.org.uk/event/table-tennis-24/
LOCATION:Cheltenham Bowling Club\, Unwin Pavilion\, Ashburne Bowling Green\, Suffolk Square\, Cheltenham\, GL50 2DX\, United Kingdom
END:VEVENT
BEGIN:VEVENT
DTSTART;TZID=Europe/London:20241006T120000
DTEND;TZID=Europe/London:20241006T170000
DTSTAMP:20260420T032546
CREATED:20240906T142802Z
LAST-MODIFIED:20240906T142802Z
UID:11502-1728216000-1728234000@cheltenhambowlingclub.org.uk
SUMMARY:Baby shower (Fiona)
DESCRIPTION:
URL:https://cheltenhambowlingclub.org.uk/event/baby-shower/
LOCATION:Cheltenham Bowling Club\, Unwin Pavilion\, Ashburne Bowling Green\, Suffolk Square\, Cheltenham\, GL50 2DX\, United Kingdom
END:VEVENT
BEGIN:VEVENT
DTSTART;TZID=Europe/London:20241005T200000
DTEND;TZID=Europe/London:20241005T230000
DTSTAMP:20260420T032546
CREATED:20240113T165616Z
LAST-MODIFIED:20240113T165616Z
UID:10102-1728158400-1728169200@cheltenhambowlingclub.org.uk
SUMMARY:Tina Turner tribute
DESCRIPTION:
URL:https://cheltenhambowlingclub.org.uk/event/tina-turner-tribute/
LOCATION:Cheltenham Bowling Club\, Unwin Pavilion\, Ashburne Bowling Green\, Suffolk Square\, Cheltenham\, GL50 2DX\, United Kingdom
END:VEVENT
BEGIN:VEVENT
DTSTART;TZID=Europe/London:20241003T093000
DTEND;TZID=Europe/London:20241003T130000
DTSTAMP:20260420T032546
CREATED:20240327T205125Z
LAST-MODIFIED:20240327T205125Z
UID:10471-1727947800-1727960400@cheltenhambowlingclub.org.uk
SUMMARY:Arts Group
DESCRIPTION:
URL:https://cheltenhambowlingclub.org.uk/event/arts-group-5/
LOCATION:Cheltenham Bowling Club\, Unwin Pavilion\, Ashburne Bowling Green\, Suffolk Square\, Cheltenham\, GL50 2DX\, United Kingdom
END:VEVENT
BEGIN:VEVENT
DTSTART;TZID=Europe/London:20241002T190000
DTEND;TZID=Europe/London:20241002T220000
DTSTAMP:20260420T032546
CREATED:20240814T111707Z
LAST-MODIFIED:20240814T111707Z
UID:11205-1727895600-1727906400@cheltenhambowlingclub.org.uk
SUMMARY:Table Tennis
DESCRIPTION:
URL:https://cheltenhambowlingclub.org.uk/event/table-tennis-6/
LOCATION:Cheltenham Bowling Club\, Unwin Pavilion\, Ashburne Bowling Green\, Suffolk Square\, Cheltenham\, GL50 2DX\, United Kingdom
END:VEVENT
BEGIN:VEVENT
DTSTART;TZID=Europe/London:20240930T120000
DTEND;TZID=Europe/London:20240930T140000
DTSTAMP:20260420T032546
CREATED:20240517T113403Z
LAST-MODIFIED:20240517T113403Z
UID:10758-1727697600-1727704800@cheltenhambowlingclub.org.uk
SUMMARY:Ken U3a Wine Club
DESCRIPTION:
URL:https://cheltenhambowlingclub.org.uk/event/ken-u3a-wine-club-5/
LOCATION:Cheltenham Bowling Club\, Unwin Pavilion\, Ashburne Bowling Green\, Suffolk Square\, Cheltenham\, GL50 2DX\, United Kingdom
END:VEVENT
BEGIN:VEVENT
DTSTART;TZID=Europe/London:20240926T093000
DTEND;TZID=Europe/London:20240926T120000
DTSTAMP:20260420T032546
CREATED:20240905T080916Z
LAST-MODIFIED:20240905T080916Z
UID:11475-1727343000-1727352000@cheltenhambowlingclub.org.uk
SUMMARY:U3a Military History Group
DESCRIPTION:
URL:https://cheltenhambowlingclub.org.uk/event/u3a-military-history-group/
LOCATION:Cheltenham Bowling Club\, Unwin Pavilion\, Ashburne Bowling Green\, Suffolk Square\, Cheltenham\, GL50 2DX\, United Kingdom
END:VEVENT
BEGIN:VEVENT
DTSTART;TZID=Europe/London:20240925T190000
DTEND;TZID=Europe/London:20240925T220000
DTSTAMP:20260420T032546
CREATED:20240814T111601Z
LAST-MODIFIED:20240814T111601Z
UID:11203-1727290800-1727301600@cheltenhambowlingclub.org.uk
SUMMARY:Table Tennis
DESCRIPTION:
URL:https://cheltenhambowlingclub.org.uk/event/table-tennis-5/
LOCATION:Cheltenham Bowling Club\, Unwin Pavilion\, Ashburne Bowling Green\, Suffolk Square\, Cheltenham\, GL50 2DX\, United Kingdom
END:VEVENT
BEGIN:VEVENT
DTSTART;TZID=Europe/London:20240923T183000
DTEND;TZID=Europe/London:20240923T213000
DTSTAMP:20260420T032546
CREATED:20240612T142332Z
LAST-MODIFIED:20240612T142332Z
UID:10924-1727116200-1727127000@cheltenhambowlingclub.org.uk
SUMMARY:Table Tennis practice
DESCRIPTION:
URL:https://cheltenhambowlingclub.org.uk/event/table-tennis-practice-4/
LOCATION:Cheltenham Bowling Club\, Unwin Pavilion\, Ashburne Bowling Green\, Suffolk Square\, Cheltenham\, GL50 2DX\, United Kingdom
END:VEVENT
BEGIN:VEVENT
DTSTART;TZID=Europe/London:20240921T183000
DTEND;TZID=Europe/London:20240921T223000
DTSTAMP:20260420T032546
CREATED:20240814T082434Z
LAST-MODIFIED:20240814T082434Z
UID:11201-1726943400-1726957800@cheltenhambowlingclub.org.uk
SUMMARY:Lansdowne Arts Quiz
DESCRIPTION:
URL:https://cheltenhambowlingclub.org.uk/event/lansdowne-arts-quiz/
LOCATION:Cheltenham Bowling Club\, Unwin Pavilion\, Ashburne Bowling Green\, Suffolk Square\, Cheltenham\, GL50 2DX\, United Kingdom
END:VEVENT
BEGIN:VEVENT
DTSTART;TZID=Europe/London:20240918T143000
DTEND;TZID=Europe/London:20240918T180000
DTSTAMP:20260420T032546
CREATED:20240506T092642Z
LAST-MODIFIED:20240506T092642Z
UID:10705-1726669800-1726682400@cheltenhambowlingclub.org.uk
SUMMARY:Michelmores LLP 6 Rinks
DESCRIPTION:
URL:https://cheltenhambowlingclub.org.uk/event/michelmores-llp-6-rinks/
LOCATION:Cheltenham Bowling Club\, Unwin Pavilion\, Ashburne Bowling Green\, Suffolk Square\, Cheltenham\, GL50 2DX\, United Kingdom
END:VEVENT
BEGIN:VEVENT
DTSTART;TZID=Europe/London:20240918T140000
DTEND;TZID=Europe/London:20240918T160000
DTSTAMP:20260420T032546
CREATED:20240902T152941Z
LAST-MODIFIED:20240902T152941Z
UID:11430-1726668000-1726675200@cheltenhambowlingclub.org.uk
SUMMARY:U3a discussion Group
DESCRIPTION:
URL:https://cheltenhambowlingclub.org.uk/event/u3a-discussion-group/
LOCATION:Cheltenham Bowling Club\, Unwin Pavilion\, Ashburne Bowling Green\, Suffolk Square\, Cheltenham\, GL50 2DX\, United Kingdom
END:VEVENT
BEGIN:VEVENT
DTSTART;TZID=Europe/London:20240916T183000
DTEND;TZID=Europe/London:20240916T213000
DTSTAMP:20260420T032546
CREATED:20240612T112724Z
LAST-MODIFIED:20240612T112724Z
UID:10918-1726511400-1726522200@cheltenhambowlingclub.org.uk
SUMMARY:Table Tennis practice
DESCRIPTION:
URL:https://cheltenhambowlingclub.org.uk/event/table-tennis-practice/
LOCATION:Cheltenham Bowling Club\, Unwin Pavilion\, Ashburne Bowling Green\, Suffolk Square\, Cheltenham\, GL50 2DX\, United Kingdom
END:VEVENT
END:VCALENDAR