BEGIN:VCALENDAR
VERSION:2.0
PRODID:-//Cheltenham Bowling Club - ECPv6.15.20//NONSGML v1.0//EN
CALSCALE:GREGORIAN
METHOD:PUBLISH
X-WR-CALNAME:Cheltenham Bowling Club
X-ORIGINAL-URL:https://cheltenhambowlingclub.org.uk
X-WR-CALDESC:Events for Cheltenham Bowling Club
REFRESH-INTERVAL;VALUE=DURATION:PT1H
X-Robots-Tag:noindex
X-PUBLISHED-TTL:PT1H
BEGIN:VTIMEZONE
TZID:Europe/London
BEGIN:DAYLIGHT
TZOFFSETFROM:+0000
TZOFFSETTO:+0100
TZNAME:BST
DTSTART:20240331T010000
END:DAYLIGHT
BEGIN:STANDARD
TZOFFSETFROM:+0100
TZOFFSETTO:+0000
TZNAME:GMT
DTSTART:20241027T010000
END:STANDARD
BEGIN:DAYLIGHT
TZOFFSETFROM:+0000
TZOFFSETTO:+0100
TZNAME:BST
DTSTART:20250330T010000
END:DAYLIGHT
BEGIN:STANDARD
TZOFFSETFROM:+0100
TZOFFSETTO:+0000
TZNAME:GMT
DTSTART:20251026T010000
END:STANDARD
BEGIN:DAYLIGHT
TZOFFSETFROM:+0000
TZOFFSETTO:+0100
TZNAME:BST
DTSTART:20260329T010000
END:DAYLIGHT
BEGIN:STANDARD
TZOFFSETFROM:+0100
TZOFFSETTO:+0000
TZNAME:GMT
DTSTART:20261025T010000
END:STANDARD
END:VTIMEZONE
BEGIN:VEVENT
DTSTART;TZID=Europe/London:20250813T093000
DTEND;TZID=Europe/London:20250813T153000
DTSTAMP:20260419T233416
CREATED:20250707T102721Z
LAST-MODIFIED:20250707T102721Z
UID:13340-1755077400-1755099000@cheltenhambowlingclub.org.uk
SUMMARY:David Buffin
DESCRIPTION:
URL:https://cheltenhambowlingclub.org.uk/event/david-buffin-12/
LOCATION:Cheltenham Bowling Club\, Unwin Pavilion\, Ashburne Bowling Green\, Suffolk Square\, Cheltenham\, GL50 2DX\, United Kingdom
END:VEVENT
BEGIN:VEVENT
DTSTART;TZID=Europe/London:20250814T093000
DTEND;TZID=Europe/London:20250814T150000
DTSTAMP:20260419T233416
CREATED:20250707T102823Z
LAST-MODIFIED:20250707T102823Z
UID:13342-1755163800-1755183600@cheltenhambowlingclub.org.uk
SUMMARY:David Buffin
DESCRIPTION:
URL:https://cheltenhambowlingclub.org.uk/event/david-buffin-13/
LOCATION:Cheltenham Bowling Club\, Unwin Pavilion\, Ashburne Bowling Green\, Suffolk Square\, Cheltenham\, GL50 2DX\, United Kingdom
END:VEVENT
BEGIN:VEVENT
DTSTART;TZID=Europe/London:20250815T080000
DTEND;TZID=Europe/London:20250815T170000
DTSTAMP:20260419T233416
CREATED:20250815T124948Z
LAST-MODIFIED:20250815T124948Z
UID:13554-1755244800-1755277200@cheltenhambowlingclub.org.uk
SUMMARY:U3a Wine Group
DESCRIPTION:
URL:https://cheltenhambowlingclub.org.uk/event/u3a-wine-group-4/
END:VEVENT
BEGIN:VEVENT
DTSTART;TZID=Europe/London:20250820T140000
DTEND;TZID=Europe/London:20250820T160000
DTSTAMP:20260419T233416
CREATED:20241217T130058Z
LAST-MODIFIED:20241217T130058Z
UID:12095-1755698400-1755705600@cheltenhambowlingclub.org.uk
SUMMARY:Ray U3a discussion group
DESCRIPTION:
URL:https://cheltenhambowlingclub.org.uk/event/ray-u3a-discussion-group-7/
LOCATION:Cheltenham Bowling Club\, Unwin Pavilion\, Ashburne Bowling Green\, Suffolk Square\, Cheltenham\, GL50 2DX\, United Kingdom
END:VEVENT
BEGIN:VEVENT
DTSTART;TZID=Europe/London:20250822T090000
DTEND;TZID=Europe/London:20250822T100000
DTSTAMP:20260419T233416
CREATED:20250821T175048Z
LAST-MODIFIED:20250821T175048Z
UID:13604-1755853200-1755856800@cheltenhambowlingclub.org.uk
SUMMARY:TEST
DESCRIPTION:
URL:https://cheltenhambowlingclub.org.uk/event/test/
LOCATION:Cheltenham Bowling Club\, Unwin Pavilion\, Ashburne Bowling Green\, Suffolk Square\, Cheltenham\, GL50 2DX\, United Kingdom
END:VEVENT
BEGIN:VEVENT
DTSTART;TZID=Europe/London:20250906T140000
DTEND;TZID=Europe/London:20250906T160000
DTSTAMP:20260419T233416
CREATED:20250512T125412Z
LAST-MODIFIED:20250512T125412Z
UID:13000-1757167200-1757174400@cheltenhambowlingclub.org.uk
SUMMARY:Alopecia uk meeting
DESCRIPTION:
URL:https://cheltenhambowlingclub.org.uk/event/alopecia-uk-meeting/
LOCATION:Cheltenham Bowling Club\, Unwin Pavilion\, Ashburne Bowling Green\, Suffolk Square\, Cheltenham\, GL50 2DX\, United Kingdom
END:VEVENT
BEGIN:VEVENT
DTSTART;TZID=Europe/London:20250915T150000
DTEND;TZID=Europe/London:20250915T190000
DTSTAMP:20260419T233416
CREATED:20250910T162520Z
LAST-MODIFIED:20250910T162520Z
UID:13686-1757948400-1757962800@cheltenhambowlingclub.org.uk
SUMMARY:Wake-Lisa Audouin
DESCRIPTION:
URL:https://cheltenhambowlingclub.org.uk/event/wake-lisa-audouin/
LOCATION:Cheltenham Bowling Club\, Unwin Pavilion\, Ashburne Bowling Green\, Suffolk Square\, Cheltenham\, GL50 2DX\, United Kingdom
END:VEVENT
BEGIN:VEVENT
DTSTART;TZID=Europe/London:20250917T140000
DTEND;TZID=Europe/London:20250917T160000
DTSTAMP:20260419T233416
CREATED:20250102T131132Z
LAST-MODIFIED:20250102T131132Z
UID:12188-1758117600-1758124800@cheltenhambowlingclub.org.uk
SUMMARY:Ray Bigger U3a Discussion Group
DESCRIPTION:
URL:https://cheltenhambowlingclub.org.uk/event/ray-bigger-u3a-discussion-group-2/
LOCATION:Cheltenham Bowling Club\, Unwin Pavilion\, Ashburne Bowling Green\, Suffolk Square\, Cheltenham\, GL50 2DX\, United Kingdom
END:VEVENT
BEGIN:VEVENT
DTSTART;TZID=Europe/London:20250917T140000
DTEND;TZID=Europe/London:20250917T170000
DTSTAMP:20260419T233416
CREATED:20250406T141724Z
LAST-MODIFIED:20250406T141724Z
UID:12783-1758117600-1758128400@cheltenhambowlingclub.org.uk
SUMMARY:Michelmores Solicitors Corporate afternoon
DESCRIPTION:
URL:https://cheltenhambowlingclub.org.uk/event/michelmores-solicitors-corporate-afternoon/
LOCATION:Cheltenham Bowling Club\, Unwin Pavilion\, Ashburne Bowling Green\, Suffolk Square\, Cheltenham\, GL50 2DX\, United Kingdom
END:VEVENT
BEGIN:VEVENT
DTSTART;TZID=Europe/London:20250918T173000
DTEND;TZID=Europe/London:20250918T193000
DTSTAMP:20260419T233416
CREATED:20250825T181606Z
LAST-MODIFIED:20250825T181606Z
UID:13632-1758216600-1758223800@cheltenhambowlingclub.org.uk
SUMMARY:Ela Lansdown Art Studios.
DESCRIPTION:
URL:https://cheltenhambowlingclub.org.uk/event/ela-lansdown-art-studios-2/
LOCATION:Cheltenham Bowling Club\, Unwin Pavilion\, Ashburne Bowling Green\, Suffolk Square\, Cheltenham\, GL50 2DX\, United Kingdom
END:VEVENT
BEGIN:VEVENT
DTSTART;TZID=Europe/London:20250922T120000
DTEND;TZID=Europe/London:20250922T140000
DTSTAMP:20260419T233416
CREATED:20250822T105320Z
LAST-MODIFIED:20250822T105320Z
UID:13610-1758542400-1758549600@cheltenhambowlingclub.org.uk
SUMMARY:U3a Wine Club
DESCRIPTION:
URL:https://cheltenhambowlingclub.org.uk/event/u3a-wine-club-2/
LOCATION:Cheltenham Bowling Club\, Unwin Pavilion\, Ashburne Bowling Green\, Suffolk Square\, Cheltenham\, GL50 2DX\, United Kingdom
END:VEVENT
BEGIN:VEVENT
DTSTART;TZID=Europe/London:20250923T093000
DTEND;TZID=Europe/London:20250923T123000
DTSTAMP:20260419T233416
CREATED:20250407T212233Z
LAST-MODIFIED:20250407T212233Z
UID:12791-1758619800-1758630600@cheltenhambowlingclub.org.uk
SUMMARY:Cheltenham Arts Group
DESCRIPTION:
URL:https://cheltenhambowlingclub.org.uk/event/cheltenham-arts-group/
LOCATION:Cheltenham Bowling Club\, Unwin Pavilion\, Ashburne Bowling Green\, Suffolk Square\, Cheltenham\, GL50 2DX\, United Kingdom
END:VEVENT
BEGIN:VEVENT
DTSTART;TZID=Europe/London:20250925T093000
DTEND;TZID=Europe/London:20250925T120000
DTSTAMP:20260419T233416
CREATED:20250406T130743Z
LAST-MODIFIED:20250406T130743Z
UID:12775-1758792600-1758801600@cheltenhambowlingclub.org.uk
SUMMARY:U3a Military History Group
DESCRIPTION:
URL:https://cheltenhambowlingclub.org.uk/event/u3a-military-history-group-10/
LOCATION:Cheltenham Bowling Club\, Unwin Pavilion\, Ashburne Bowling Green\, Suffolk Square\, Cheltenham\, GL50 2DX\, United Kingdom
END:VEVENT
BEGIN:VEVENT
DTSTART;TZID=Europe/London:20250927T130000
DTEND;TZID=Europe/London:20250927T170000
DTSTAMP:20260419T233416
CREATED:20250622T171359Z
LAST-MODIFIED:20250622T171359Z
UID:13255-1758978000-1758992400@cheltenhambowlingclub.org.uk
SUMMARY:Manor of Ashley Masonic Lodge 1pm-5pm
DESCRIPTION:
URL:https://cheltenhambowlingclub.org.uk/event/manor-of-ashley-masonic-lodge-1pm-5pm/
LOCATION:Cheltenham Bowling Club\, Unwin Pavilion\, Ashburne Bowling Green\, Suffolk Square\, Cheltenham\, GL50 2DX\, United Kingdom
END:VEVENT
BEGIN:VEVENT
DTSTART;TZID=Europe/London:20250930T190000
DTEND;TZID=Europe/London:20250930T213000
DTSTAMP:20260419T233416
CREATED:20250910T163149Z
LAST-MODIFIED:20250910T163149Z
UID:13694-1759258800-1759267800@cheltenhambowlingclub.org.uk
SUMMARY:Table Tennis
DESCRIPTION:
URL:https://cheltenhambowlingclub.org.uk/event/table-tennis-48/
LOCATION:Cheltenham Bowling Club\, Unwin Pavilion\, Ashburne Bowling Green\, Suffolk Square\, Cheltenham\, GL50 2DX\, United Kingdom
END:VEVENT
BEGIN:VEVENT
DTSTART;TZID=Europe/London:20251003T080000
DTEND;TZID=Europe/London:20251003T223000
DTSTAMP:20260419T233416
CREATED:20250611T142236Z
LAST-MODIFIED:20250611T142236Z
UID:13201-1759478400-1759530600@cheltenhambowlingclub.org.uk
SUMMARY:Pamper Evening Jeanette and Angela + setting up
DESCRIPTION:
URL:https://cheltenhambowlingclub.org.uk/event/pamper-evening-jeanette-and-angela-setting-up/
LOCATION:Cheltenham Bowling Club\, Unwin Pavilion\, Ashburne Bowling Green\, Suffolk Square\, Cheltenham\, GL50 2DX\, United Kingdom
END:VEVENT
BEGIN:VEVENT
DTSTART;TZID=Europe/London:20251006T190000
DTEND;TZID=Europe/London:20251006T213000
DTSTAMP:20260419T233416
CREATED:20250910T162711Z
LAST-MODIFIED:20250910T162711Z
UID:13688-1759777200-1759786200@cheltenhambowlingclub.org.uk
SUMMARY:Table Tennis
DESCRIPTION:
URL:https://cheltenhambowlingclub.org.uk/event/table-tennis-38/
LOCATION:Cheltenham Bowling Club\, Unwin Pavilion\, Ashburne Bowling Green\, Suffolk Square\, Cheltenham\, GL50 2DX\, United Kingdom
END:VEVENT
BEGIN:VEVENT
DTSTART;TZID=Europe/London:20251008T190000
DTEND;TZID=Europe/London:20251008T213000
DTSTAMP:20260419T233416
CREATED:20250910T164253Z
LAST-MODIFIED:20250910T164253Z
UID:13704-1759950000-1759959000@cheltenhambowlingclub.org.uk
SUMMARY:Table Tennis
DESCRIPTION:
URL:https://cheltenhambowlingclub.org.uk/event/table-tennis-53/
LOCATION:Cheltenham Bowling Club\, Unwin Pavilion\, Ashburne Bowling Green\, Suffolk Square\, Cheltenham\, GL50 2DX\, United Kingdom
END:VEVENT
BEGIN:VEVENT
DTSTART;TZID=Europe/London:20251013T190000
DTEND;TZID=Europe/London:20251013T213000
DTSTAMP:20260419T233416
CREATED:20250910T162856Z
LAST-MODIFIED:20250910T162856Z
UID:13690-1760382000-1760391000@cheltenhambowlingclub.org.uk
SUMMARY:Table Tennis
DESCRIPTION:
URL:https://cheltenhambowlingclub.org.uk/event/table-tennis-46/
LOCATION:Cheltenham Bowling Club\, Unwin Pavilion\, Ashburne Bowling Green\, Suffolk Square\, Cheltenham\, GL50 2DX\, United Kingdom
END:VEVENT
BEGIN:VEVENT
DTSTART;TZID=Europe/London:20251015T140000
DTEND;TZID=Europe/London:20251015T160000
DTSTAMP:20260419T233416
CREATED:20250102T131222Z
LAST-MODIFIED:20250102T131222Z
UID:12190-1760536800-1760544000@cheltenhambowlingclub.org.uk
SUMMARY:Ray Bigger U3a Discussion Group
DESCRIPTION:
URL:https://cheltenhambowlingclub.org.uk/event/ray-bigger-u3a-discussion-group-3/
LOCATION:Cheltenham Bowling Club\, Unwin Pavilion\, Ashburne Bowling Green\, Suffolk Square\, Cheltenham\, GL50 2DX\, United Kingdom
END:VEVENT
BEGIN:VEVENT
DTSTART;TZID=Europe/London:20251015T190000
DTEND;TZID=Europe/London:20251015T213000
DTSTAMP:20260419T233416
CREATED:20250910T164401Z
LAST-MODIFIED:20250910T164401Z
UID:13706-1760554800-1760563800@cheltenhambowlingclub.org.uk
SUMMARY:Table Tennis
DESCRIPTION:
URL:https://cheltenhambowlingclub.org.uk/event/table-tennis-54/
LOCATION:Cheltenham Bowling Club\, Unwin Pavilion\, Ashburne Bowling Green\, Suffolk Square\, Cheltenham\, GL50 2DX\, United Kingdom
END:VEVENT
BEGIN:VEVENT
DTSTART;TZID=Europe/London:20251020T120000
DTEND;TZID=Europe/London:20251020T140000
DTSTAMP:20260419T233416
CREATED:20250822T105503Z
LAST-MODIFIED:20250822T105503Z
UID:13612-1760961600-1760968800@cheltenhambowlingclub.org.uk
SUMMARY:U3a Wine Club
DESCRIPTION:
URL:https://cheltenhambowlingclub.org.uk/event/u3a-wine-club-3/
LOCATION:Cheltenham Bowling Club\, Unwin Pavilion\, Ashburne Bowling Green\, Suffolk Square\, Cheltenham\, GL50 2DX\, United Kingdom
END:VEVENT
BEGIN:VEVENT
DTSTART;TZID=Europe/London:20251020T190000
DTEND;TZID=Europe/London:20251020T213000
DTSTAMP:20260419T233416
CREATED:20250910T163024Z
LAST-MODIFIED:20250910T163024Z
UID:13692-1760986800-1760995800@cheltenhambowlingclub.org.uk
SUMMARY:Table Tennis
DESCRIPTION:
URL:https://cheltenhambowlingclub.org.uk/event/table-tennis-47/
LOCATION:Cheltenham Bowling Club\, Unwin Pavilion\, Ashburne Bowling Green\, Suffolk Square\, Cheltenham\, GL50 2DX\, United Kingdom
END:VEVENT
BEGIN:VEVENT
DTSTART;TZID=Europe/London:20251022T190000
DTEND;TZID=Europe/London:20251022T213000
DTSTAMP:20260419T233416
CREATED:20250910T164510Z
LAST-MODIFIED:20250910T164510Z
UID:13708-1761159600-1761168600@cheltenhambowlingclub.org.uk
SUMMARY:Table Tennis
DESCRIPTION:
URL:https://cheltenhambowlingclub.org.uk/event/table-tennis-55/
LOCATION:Cheltenham Bowling Club\, Unwin Pavilion\, Ashburne Bowling Green\, Suffolk Square\, Cheltenham\, GL50 2DX\, United Kingdom
END:VEVENT
BEGIN:VEVENT
DTSTART;TZID=Europe/London:20251025T193000
DTEND;TZID=Europe/London:20251025T230000
DTSTAMP:20260419T233416
CREATED:20250926T101849Z
LAST-MODIFIED:20250926T101849Z
UID:13842-1761420600-1761433200@cheltenhambowlingclub.org.uk
SUMMARY:Presentation Evening
DESCRIPTION:
URL:https://cheltenhambowlingclub.org.uk/event/presentation-evening-2/
LOCATION:Cheltenham Bowling Club\, Unwin Pavilion\, Ashburne Bowling Green\, Suffolk Square\, Cheltenham\, GL50 2DX\, United Kingdom
END:VEVENT
BEGIN:VEVENT
DTSTART;TZID=Europe/London:20251027T103000
DTEND;TZID=Europe/London:20251027T113000
DTSTAMP:20260419T233416
CREATED:20251013T105325Z
LAST-MODIFIED:20251013T105325Z
UID:13890-1761561000-1761564600@cheltenhambowlingclub.org.uk
SUMMARY:Dave Shelmerdine
DESCRIPTION:
URL:https://cheltenhambowlingclub.org.uk/event/dave-shelmerdine-8/
LOCATION:Cheltenham Bowling Club\, Unwin Pavilion\, Ashburne Bowling Green\, Suffolk Square\, Cheltenham\, GL50 2DX\, United Kingdom
END:VEVENT
BEGIN:VEVENT
DTSTART;TZID=Europe/London:20251028T093000
DTEND;TZID=Europe/London:20251028T123000
DTSTAMP:20260419T233416
CREATED:20250406T123638Z
LAST-MODIFIED:20250406T123638Z
UID:12761-1761643800-1761654600@cheltenhambowlingclub.org.uk
SUMMARY:Cheltenham Arts Club
DESCRIPTION:
URL:https://cheltenhambowlingclub.org.uk/event/cheltenham-arts-club-2/
LOCATION:Cheltenham Bowling Club\, Unwin Pavilion\, Ashburne Bowling Green\, Suffolk Square\, Cheltenham\, GL50 2DX\, United Kingdom
END:VEVENT
BEGIN:VEVENT
DTSTART;TZID=Europe/London:20251029T190000
DTEND;TZID=Europe/London:20251029T213000
DTSTAMP:20260419T233416
CREATED:20250910T164623Z
LAST-MODIFIED:20250910T164623Z
UID:13710-1761764400-1761773400@cheltenhambowlingclub.org.uk
SUMMARY:Table Tennis
DESCRIPTION:
URL:https://cheltenhambowlingclub.org.uk/event/table-tennis-56/
LOCATION:Cheltenham Bowling Club\, Unwin Pavilion\, Ashburne Bowling Green\, Suffolk Square\, Cheltenham\, GL50 2DX\, United Kingdom
END:VEVENT
BEGIN:VEVENT
DTSTART;TZID=Europe/London:20251030T093000
DTEND;TZID=Europe/London:20251030T120000
DTSTAMP:20260419T233416
CREATED:20250406T130846Z
LAST-MODIFIED:20250406T130846Z
UID:12777-1761816600-1761825600@cheltenhambowlingclub.org.uk
SUMMARY:U3a Military History Group
DESCRIPTION:
URL:https://cheltenhambowlingclub.org.uk/event/u3a-military-history-group-11/
LOCATION:Cheltenham Bowling Club\, Unwin Pavilion\, Ashburne Bowling Green\, Suffolk Square\, Cheltenham\, GL50 2DX\, United Kingdom
END:VEVENT
BEGIN:VEVENT
DTSTART;TZID=Europe/London:20251103T190000
DTEND;TZID=Europe/London:20251103T213000
DTSTAMP:20260419T233416
CREATED:20250910T163316Z
LAST-MODIFIED:20250910T163316Z
UID:13696-1762196400-1762205400@cheltenhambowlingclub.org.uk
SUMMARY:Table Tennis
DESCRIPTION:
URL:https://cheltenhambowlingclub.org.uk/event/table-tennis-49/
LOCATION:Cheltenham Bowling Club\, Unwin Pavilion\, Ashburne Bowling Green\, Suffolk Square\, Cheltenham\, GL50 2DX\, United Kingdom
END:VEVENT
END:VCALENDAR