BEGIN:VCALENDAR
VERSION:2.0
PRODID:-//Cheltenham Bowling Club - ECPv6.15.20//NONSGML v1.0//EN
CALSCALE:GREGORIAN
METHOD:PUBLISH
X-WR-CALNAME:Cheltenham Bowling Club
X-ORIGINAL-URL:https://cheltenhambowlingclub.org.uk
X-WR-CALDESC:Events for Cheltenham Bowling Club
REFRESH-INTERVAL;VALUE=DURATION:PT1H
X-Robots-Tag:noindex
X-PUBLISHED-TTL:PT1H
BEGIN:VTIMEZONE
TZID:Europe/London
BEGIN:DAYLIGHT
TZOFFSETFROM:+0000
TZOFFSETTO:+0100
TZNAME:BST
DTSTART:20230326T010000
END:DAYLIGHT
BEGIN:STANDARD
TZOFFSETFROM:+0100
TZOFFSETTO:+0000
TZNAME:GMT
DTSTART:20231029T010000
END:STANDARD
BEGIN:DAYLIGHT
TZOFFSETFROM:+0000
TZOFFSETTO:+0100
TZNAME:BST
DTSTART:20240331T010000
END:DAYLIGHT
BEGIN:STANDARD
TZOFFSETFROM:+0100
TZOFFSETTO:+0000
TZNAME:GMT
DTSTART:20241027T010000
END:STANDARD
BEGIN:DAYLIGHT
TZOFFSETFROM:+0000
TZOFFSETTO:+0100
TZNAME:BST
DTSTART:20250330T010000
END:DAYLIGHT
BEGIN:STANDARD
TZOFFSETFROM:+0100
TZOFFSETTO:+0000
TZNAME:GMT
DTSTART:20251026T010000
END:STANDARD
END:VTIMEZONE
BEGIN:VEVENT
DTSTART;TZID=Europe/London:20241210T190000
DTEND;TZID=Europe/London:20241210T223000
DTSTAMP:20260420T014744
CREATED:20240207T092715Z
LAST-MODIFIED:20240207T092715Z
UID:10189-1733857200-1733869800@cheltenhambowlingclub.org.uk
SUMMARY:Geoff's Christmas Quiz
DESCRIPTION:
URL:https://cheltenhambowlingclub.org.uk/event/geoffs-christmas-quiz/
LOCATION:Cheltenham Bowling Club\, Unwin Pavilion\, Ashburne Bowling Green\, Suffolk Square\, Cheltenham\, GL50 2DX\, United Kingdom
END:VEVENT
BEGIN:VEVENT
DTSTART;TZID=Europe/London:20241209T190000
DTEND;TZID=Europe/London:20241209T220000
DTSTAMP:20260420T014744
CREATED:20240814T115806Z
LAST-MODIFIED:20240814T115806Z
UID:11261-1733770800-1733781600@cheltenhambowlingclub.org.uk
SUMMARY:Table Tennis
DESCRIPTION:
URL:https://cheltenhambowlingclub.org.uk/event/table-tennis-33/
LOCATION:Cheltenham Bowling Club\, Unwin Pavilion\, Ashburne Bowling Green\, Suffolk Square\, Cheltenham\, GL50 2DX\, United Kingdom
END:VEVENT
BEGIN:VEVENT
DTSTART;TZID=Europe/London:20241209T120000
DTEND;TZID=Europe/London:20241209T140000
DTSTAMP:20260420T014744
CREATED:20240929T114346Z
LAST-MODIFIED:20240929T114346Z
UID:11637-1733745600-1733752800@cheltenhambowlingclub.org.uk
SUMMARY:Wine Club Ken
DESCRIPTION:
URL:https://cheltenhambowlingclub.org.uk/event/wine-club-ken-3/
LOCATION:Cheltenham Bowling Club\, Unwin Pavilion\, Ashburne Bowling Green\, Suffolk Square\, Cheltenham\, GL50 2DX\, United Kingdom
END:VEVENT
BEGIN:VEVENT
DTSTART;TZID=Europe/London:20241205T093000
DTEND;TZID=Europe/London:20241205T130000
DTSTAMP:20260420T014744
CREATED:20240327T205351Z
LAST-MODIFIED:20240327T205351Z
UID:10475-1733391000-1733403600@cheltenhambowlingclub.org.uk
SUMMARY:Arts Group
DESCRIPTION:
URL:https://cheltenhambowlingclub.org.uk/event/arts-group-7/
LOCATION:Cheltenham Bowling Club\, Unwin Pavilion\, Ashburne Bowling Green\, Suffolk Square\, Cheltenham\, GL50 2DX\, United Kingdom
END:VEVENT
BEGIN:VEVENT
DTSTART;TZID=Europe/London:20241205T080000
DTEND;TZID=Europe/London:20241205T193000
DTSTAMP:20260420T014744
CREATED:20241006T164331Z
LAST-MODIFIED:20241006T164331Z
UID:11676-1733385600-1733427000@cheltenhambowlingclub.org.uk
SUMMARY:Crib Singles-League Dave Matthews
DESCRIPTION:
URL:https://cheltenhambowlingclub.org.uk/event/crib-singles-league-dave-matthews/
LOCATION:Cheltenham Bowling Club\, Unwin Pavilion\, Ashburne Bowling Green\, Suffolk Square\, Cheltenham\, GL50 2DX\, United Kingdom
END:VEVENT
BEGIN:VEVENT
DTSTART;TZID=Europe/London:20241204T190000
DTEND;TZID=Europe/London:20241204T220000
DTSTAMP:20260420T014744
CREATED:20240814T112411Z
LAST-MODIFIED:20240814T112411Z
UID:11221-1733338800-1733349600@cheltenhambowlingclub.org.uk
SUMMARY:Table Tennis
DESCRIPTION:
URL:https://cheltenhambowlingclub.org.uk/event/table-tennis-14/
LOCATION:Cheltenham Bowling Club\, Unwin Pavilion\, Ashburne Bowling Green\, Suffolk Square\, Cheltenham\, GL50 2DX\, United Kingdom
END:VEVENT
BEGIN:VEVENT
DTSTART;TZID=Europe/London:20241203T093000
DTEND;TZID=Europe/London:20241203T110000
DTSTAMP:20260420T014744
CREATED:20241116T115450Z
LAST-MODIFIED:20241116T115450Z
UID:11855-1733218200-1733223600@cheltenhambowlingclub.org.uk
SUMMARY:Barron's Financial Surgery
DESCRIPTION:
URL:https://cheltenhambowlingclub.org.uk/event/barrons-financial-surgery-4/
END:VEVENT
BEGIN:VEVENT
DTSTART;TZID=Europe/London:20241202T190000
DTEND;TZID=Europe/London:20241202T220000
DTSTAMP:20260420T014744
CREATED:20240814T115651Z
LAST-MODIFIED:20240814T115651Z
UID:11259-1733166000-1733176800@cheltenhambowlingclub.org.uk
SUMMARY:Table Tennis
DESCRIPTION:
URL:https://cheltenhambowlingclub.org.uk/event/table-tennis-32/
LOCATION:Cheltenham Bowling Club\, Unwin Pavilion\, Ashburne Bowling Green\, Suffolk Square\, Cheltenham\, GL50 2DX\, United Kingdom
END:VEVENT
BEGIN:VEVENT
DTSTART;TZID=Europe/London:20241128T093000
DTEND;TZID=Europe/London:20241128T120000
DTSTAMP:20260420T014744
CREATED:20240905T081250Z
LAST-MODIFIED:20240905T081250Z
UID:11479-1732786200-1732795200@cheltenhambowlingclub.org.uk
SUMMARY:U3a Military History Group
DESCRIPTION:
URL:https://cheltenhambowlingclub.org.uk/event/u3a-military-history-group-3/
LOCATION:Cheltenham Bowling Club\, Unwin Pavilion\, Ashburne Bowling Green\, Suffolk Square\, Cheltenham\, GL50 2DX\, United Kingdom
END:VEVENT
BEGIN:VEVENT
DTSTART;TZID=Europe/London:20241127T190000
DTEND;TZID=Europe/London:20241127T220000
DTSTAMP:20260420T014744
CREATED:20240814T112316Z
LAST-MODIFIED:20240814T112316Z
UID:11219-1732734000-1732744800@cheltenhambowlingclub.org.uk
SUMMARY:Table Tennis
DESCRIPTION:
URL:https://cheltenhambowlingclub.org.uk/event/table-tennis-13/
LOCATION:Cheltenham Bowling Club\, Unwin Pavilion\, Ashburne Bowling Green\, Suffolk Square\, Cheltenham\, GL50 2DX\, United Kingdom
END:VEVENT
BEGIN:VEVENT
DTSTART;TZID=Europe/London:20241127T130000
DTEND;TZID=Europe/London:20241127T150000
DTSTAMP:20260420T014744
CREATED:20241023T191850Z
LAST-MODIFIED:20241023T191850Z
UID:11727-1732712400-1732719600@cheltenhambowlingclub.org.uk
SUMMARY:Robyn HML Group Hammond Court
DESCRIPTION:
URL:https://cheltenhambowlingclub.org.uk/event/robyn-hml-group-hammond-court/
LOCATION:Cheltenham Bowling Club\, Unwin Pavilion\, Ashburne Bowling Green\, Suffolk Square\, Cheltenham\, GL50 2DX\, United Kingdom
END:VEVENT
BEGIN:VEVENT
DTSTART;TZID=Europe/London:20241125T190000
DTEND;TZID=Europe/London:20241125T220000
DTSTAMP:20260420T014744
CREATED:20240814T115526Z
LAST-MODIFIED:20240814T115526Z
UID:11257-1732561200-1732572000@cheltenhambowlingclub.org.uk
SUMMARY:Table Tennis
DESCRIPTION:
URL:https://cheltenhambowlingclub.org.uk/event/table-tennis-31/
LOCATION:Cheltenham Bowling Club\, Unwin Pavilion\, Ashburne Bowling Green\, Suffolk Square\, Cheltenham\, GL50 2DX\, United Kingdom
END:VEVENT
BEGIN:VEVENT
DTSTART;TZID=Europe/London:20241123T193000
DTEND;TZID=Europe/London:20241123T230000
DTSTAMP:20260420T014744
CREATED:20240409T125046Z
LAST-MODIFIED:20240409T125046Z
UID:10599-1732390200-1732402800@cheltenhambowlingclub.org.uk
SUMMARY:Jerry Lee Lewis
DESCRIPTION:
URL:https://cheltenhambowlingclub.org.uk/event/jerry-lee-lewis/
LOCATION:Cheltenham Bowling Club\, Unwin Pavilion\, Ashburne Bowling Green\, Suffolk Square\, Cheltenham\, GL50 2DX\, United Kingdom
END:VEVENT
BEGIN:VEVENT
DTSTART;TZID=Europe/London:20241121T093000
DTEND;TZID=Europe/London:20241121T153000
DTSTAMP:20260420T014744
CREATED:20240205T193633Z
LAST-MODIFIED:20240205T193633Z
UID:10179-1732181400-1732203000@cheltenhambowlingclub.org.uk
SUMMARY:Arts Society
DESCRIPTION:
URL:https://cheltenhambowlingclub.org.uk/event/arts-society-2/
LOCATION:Cheltenham Bowling Club\, Unwin Pavilion\, Ashburne Bowling Green\, Suffolk Square\, Cheltenham\, GL50 2DX\, United Kingdom
END:VEVENT
BEGIN:VEVENT
DTSTART;TZID=Europe/London:20241120T190000
DTEND;TZID=Europe/London:20241120T200000
DTSTAMP:20260420T014744
CREATED:20240814T112211Z
LAST-MODIFIED:20240814T112211Z
UID:11217-1732129200-1732132800@cheltenhambowlingclub.org.uk
SUMMARY:Table Tennis
DESCRIPTION:
URL:https://cheltenhambowlingclub.org.uk/event/table-tennis-12/
LOCATION:Cheltenham Bowling Club\, Unwin Pavilion\, Ashburne Bowling Green\, Suffolk Square\, Cheltenham\, GL50 2DX\, United Kingdom
END:VEVENT
BEGIN:VEVENT
DTSTART;TZID=Europe/London:20241120T140000
DTEND;TZID=Europe/London:20241120T160000
DTSTAMP:20260420T014744
CREATED:20240902T153224Z
LAST-MODIFIED:20240902T153224Z
UID:11434-1732111200-1732118400@cheltenhambowlingclub.org.uk
SUMMARY:U3a Discussion Group
DESCRIPTION:
URL:https://cheltenhambowlingclub.org.uk/event/u3a-discussion-group-3/
LOCATION:Cheltenham Bowling Club\, Unwin Pavilion\, Ashburne Bowling Green\, Suffolk Square\, Cheltenham\, GL50 2DX\, United Kingdom
END:VEVENT
BEGIN:VEVENT
DTSTART;TZID=Europe/London:20241119T093000
DTEND;TZID=Europe/London:20241119T110000
DTSTAMP:20260420T014744
CREATED:20241108T091154Z
LAST-MODIFIED:20241108T091154Z
UID:11802-1732008600-1732014000@cheltenhambowlingclub.org.uk
SUMMARY:Barron's Financial Surgery
DESCRIPTION:
URL:https://cheltenhambowlingclub.org.uk/event/barrons-financial-surgery-3/
END:VEVENT
BEGIN:VEVENT
DTSTART;TZID=Europe/London:20241118T190000
DTEND;TZID=Europe/London:20241118T220000
DTSTAMP:20260420T014744
CREATED:20240814T115431Z
LAST-MODIFIED:20240814T115431Z
UID:11255-1731956400-1731967200@cheltenhambowlingclub.org.uk
SUMMARY:Table Tennis
DESCRIPTION:
URL:https://cheltenhambowlingclub.org.uk/event/table-tennis-30/
LOCATION:Cheltenham Bowling Club\, Unwin Pavilion\, Ashburne Bowling Green\, Suffolk Square\, Cheltenham\, GL50 2DX\, United Kingdom
END:VEVENT
BEGIN:VEVENT
DTSTART;TZID=Europe/London:20241118T120000
DTEND;TZID=Europe/London:20241118T140000
DTSTAMP:20260420T014744
CREATED:20240929T114257Z
LAST-MODIFIED:20240929T114257Z
UID:11635-1731931200-1731938400@cheltenhambowlingclub.org.uk
SUMMARY:Wine Club Ken
DESCRIPTION:
URL:https://cheltenhambowlingclub.org.uk/event/wine-club-ken-2/
LOCATION:Cheltenham Bowling Club\, Unwin Pavilion\, Ashburne Bowling Green\, Suffolk Square\, Cheltenham\, GL50 2DX\, United Kingdom
END:VEVENT
BEGIN:VEVENT
DTSTART;TZID=Europe/London:20241115T100000
DTEND;TZID=Europe/London:20241115T120000
DTSTAMP:20260420T014744
CREATED:20241023T193803Z
LAST-MODIFIED:20241023T193803Z
UID:11729-1731664800-1731672000@cheltenhambowlingclub.org.uk
SUMMARY:Melissa Suffolk Mews
DESCRIPTION:
URL:https://cheltenhambowlingclub.org.uk/event/melissa-suffolk-mews/
LOCATION:Cheltenham Bowling Club\, Unwin Pavilion\, Ashburne Bowling Green\, Suffolk Square\, Cheltenham\, GL50 2DX\, United Kingdom
END:VEVENT
BEGIN:VEVENT
DTSTART;TZID=Europe/London:20241113T190000
DTEND;TZID=Europe/London:20241113T200000
DTSTAMP:20260420T014744
CREATED:20240814T112119Z
LAST-MODIFIED:20240814T112119Z
UID:11215-1731524400-1731528000@cheltenhambowlingclub.org.uk
SUMMARY:Table Tennis
DESCRIPTION:
URL:https://cheltenhambowlingclub.org.uk/event/table-tennis-11/
LOCATION:Cheltenham Bowling Club\, Unwin Pavilion\, Ashburne Bowling Green\, Suffolk Square\, Cheltenham\, GL50 2DX\, United Kingdom
END:VEVENT
BEGIN:VEVENT
DTSTART;TZID=Europe/London:20241112T193000
DTEND;TZID=Europe/London:20241112T213000
DTSTAMP:20260420T014744
CREATED:20240902T152831Z
LAST-MODIFIED:20240902T152831Z
UID:11428-1731439800-1731447000@cheltenhambowlingclub.org.uk
SUMMARY:Club AGM
DESCRIPTION:
URL:https://cheltenhambowlingclub.org.uk/event/club-agm/
LOCATION:Cheltenham Bowling Club\, Unwin Pavilion\, Ashburne Bowling Green\, Suffolk Square\, Cheltenham\, GL50 2DX\, United Kingdom
END:VEVENT
BEGIN:VEVENT
DTSTART;TZID=Europe/London:20241111T190000
DTEND;TZID=Europe/London:20241111T220000
DTSTAMP:20260420T014744
CREATED:20240814T115331Z
LAST-MODIFIED:20240814T115331Z
UID:11253-1731351600-1731362400@cheltenhambowlingclub.org.uk
SUMMARY:Table Tennis
DESCRIPTION:
URL:https://cheltenhambowlingclub.org.uk/event/table-tennis-29/
LOCATION:Cheltenham Bowling Club\, Unwin Pavilion\, Ashburne Bowling Green\, Suffolk Square\, Cheltenham\, GL50 2DX\, United Kingdom
END:VEVENT
BEGIN:VEVENT
DTSTART;TZID=Europe/London:20241105T093000
DTEND;TZID=Europe/London:20241105T130000
DTSTAMP:20260420T014744
CREATED:20240327T205234Z
LAST-MODIFIED:20240327T205234Z
UID:10473-1730799000-1730811600@cheltenhambowlingclub.org.uk
SUMMARY:Arts Group
DESCRIPTION:
URL:https://cheltenhambowlingclub.org.uk/event/arts-group-6/
LOCATION:Cheltenham Bowling Club\, Unwin Pavilion\, Ashburne Bowling Green\, Suffolk Square\, Cheltenham\, GL50 2DX\, United Kingdom
END:VEVENT
BEGIN:VEVENT
DTSTART;TZID=Europe/London:20241104T190000
DTEND;TZID=Europe/London:20241104T220000
DTSTAMP:20260420T014744
CREATED:20240814T113904Z
LAST-MODIFIED:20240814T113904Z
UID:11250-1730746800-1730757600@cheltenhambowlingclub.org.uk
SUMMARY:Table Tennis
DESCRIPTION:
URL:https://cheltenhambowlingclub.org.uk/event/table-tennis-28/
LOCATION:Cheltenham Bowling Club\, Unwin Pavilion\, Ashburne Bowling Green\, Suffolk Square\, Cheltenham\, GL50 2DX\, United Kingdom
END:VEVENT
BEGIN:VEVENT
DTSTART;TZID=Europe/London:20241031T093000
DTEND;TZID=Europe/London:20241031T120000
DTSTAMP:20260420T014744
CREATED:20240905T081148Z
LAST-MODIFIED:20240905T081148Z
UID:11477-1730367000-1730376000@cheltenhambowlingclub.org.uk
SUMMARY:U3a Military History Group
DESCRIPTION:
URL:https://cheltenhambowlingclub.org.uk/event/u3a-military-history-group-2/
LOCATION:Cheltenham Bowling Club\, Unwin Pavilion\, Ashburne Bowling Green\, Suffolk Square\, Cheltenham\, GL50 2DX\, United Kingdom
END:VEVENT
BEGIN:VEVENT
DTSTART;TZID=Europe/London:20241030T190000
DTEND;TZID=Europe/London:20241030T220000
DTSTAMP:20260420T014744
CREATED:20240814T112026Z
LAST-MODIFIED:20240814T112026Z
UID:11213-1730314800-1730325600@cheltenhambowlingclub.org.uk
SUMMARY:Table Tennis
DESCRIPTION:
URL:https://cheltenhambowlingclub.org.uk/event/table-tennis-10/
LOCATION:Cheltenham Bowling Club\, Unwin Pavilion\, Ashburne Bowling Green\, Suffolk Square\, Cheltenham\, GL50 2DX\, United Kingdom
END:VEVENT
BEGIN:VEVENT
DTSTART;TZID=Europe/London:20241028T190000
DTEND;TZID=Europe/London:20241028T220000
DTSTAMP:20260420T014744
CREATED:20240814T113746Z
LAST-MODIFIED:20240814T113746Z
UID:11248-1730142000-1730152800@cheltenhambowlingclub.org.uk
SUMMARY:Table Tennis
DESCRIPTION:
URL:https://cheltenhambowlingclub.org.uk/event/table-tennis-27/
LOCATION:Cheltenham Bowling Club\, Unwin Pavilion\, Ashburne Bowling Green\, Suffolk Square\, Cheltenham\, GL50 2DX\, United Kingdom
END:VEVENT
BEGIN:VEVENT
DTSTART;TZID=Europe/London:20241026T190000
DTEND;TZID=Europe/London:20241026T230000
DTSTAMP:20260420T014744
CREATED:20240205T130419Z
LAST-MODIFIED:20240205T130419Z
UID:10173-1729969200-1729983600@cheltenhambowlingclub.org.uk
SUMMARY:Presentation Evening
DESCRIPTION:
URL:https://cheltenhambowlingclub.org.uk/event/presentation-evening/
LOCATION:Cheltenham Bowling Club\, Unwin Pavilion\, Ashburne Bowling Green\, Suffolk Square\, Cheltenham\, GL50 2DX\, United Kingdom
END:VEVENT
BEGIN:VEVENT
DTSTART;TZID=Europe/London:20241026T093000
DTEND;TZID=Europe/London:20241026T120000
DTSTAMP:20260420T014744
CREATED:20241014T081620Z
LAST-MODIFIED:20241014T081620Z
UID:11683-1729935000-1729944000@cheltenhambowlingclub.org.uk
SUMMARY:Ladies meeting Kitchen + Lounge
DESCRIPTION:
URL:https://cheltenhambowlingclub.org.uk/event/ladies-meeting-kitchen-lounge/
LOCATION:Cheltenham Bowling Club\, Unwin Pavilion\, Ashburne Bowling Green\, Suffolk Square\, Cheltenham\, GL50 2DX\, United Kingdom
END:VEVENT
END:VCALENDAR