BEGIN:VCALENDAR
VERSION:2.0
PRODID:-//Cheltenham Bowling Club - ECPv6.15.20//NONSGML v1.0//EN
CALSCALE:GREGORIAN
METHOD:PUBLISH
X-WR-CALNAME:Cheltenham Bowling Club
X-ORIGINAL-URL:https://cheltenhambowlingclub.org.uk
X-WR-CALDESC:Events for Cheltenham Bowling Club
REFRESH-INTERVAL;VALUE=DURATION:PT1H
X-Robots-Tag:noindex
X-PUBLISHED-TTL:PT1H
BEGIN:VTIMEZONE
TZID:Europe/London
BEGIN:DAYLIGHT
TZOFFSETFROM:+0000
TZOFFSETTO:+0100
TZNAME:BST
DTSTART:20250330T010000
END:DAYLIGHT
BEGIN:STANDARD
TZOFFSETFROM:+0100
TZOFFSETTO:+0000
TZNAME:GMT
DTSTART:20251026T010000
END:STANDARD
BEGIN:DAYLIGHT
TZOFFSETFROM:+0000
TZOFFSETTO:+0100
TZNAME:BST
DTSTART:20260329T010000
END:DAYLIGHT
BEGIN:STANDARD
TZOFFSETFROM:+0100
TZOFFSETTO:+0000
TZNAME:GMT
DTSTART:20261025T010000
END:STANDARD
BEGIN:DAYLIGHT
TZOFFSETFROM:+0000
TZOFFSETTO:+0100
TZNAME:BST
DTSTART:20270328T010000
END:DAYLIGHT
BEGIN:STANDARD
TZOFFSETFROM:+0100
TZOFFSETTO:+0000
TZNAME:GMT
DTSTART:20271031T010000
END:STANDARD
BEGIN:DAYLIGHT
TZOFFSETFROM:+0000
TZOFFSETTO:+0100
TZNAME:BST
DTSTART:20280326T010000
END:DAYLIGHT
BEGIN:STANDARD
TZOFFSETFROM:+0100
TZOFFSETTO:+0000
TZNAME:GMT
DTSTART:20281029T010000
END:STANDARD
END:VTIMEZONE
BEGIN:VEVENT
DTSTART;TZID=Europe/London:20261118T140000
DTEND;TZID=Europe/London:20261118T160000
DTSTAMP:20260424T081316
CREATED:20251121T165706Z
LAST-MODIFIED:20251121T165706Z
UID:14082-1795010400-1795017600@cheltenhambowlingclub.org.uk
SUMMARY:U3a Discussion Group
DESCRIPTION:
URL:https://cheltenhambowlingclub.org.uk/event/u3a-discussion-group-16/
LOCATION:Cheltenham Bowling Club\, Unwin Pavilion\, Ashburne Bowling Green\, Suffolk Square\, Cheltenham\, GL50 2DX\, United Kingdom
END:VEVENT
BEGIN:VEVENT
DTSTART;TZID=Europe/London:20261203T093000
DTEND;TZID=Europe/London:20261203T120000
DTSTAMP:20260424T081316
CREATED:20260423T174448Z
LAST-MODIFIED:20260423T174448Z
UID:18087-1796290200-1796299200@cheltenhambowlingclub.org.uk
SUMMARY:Arts Group
DESCRIPTION:
URL:https://cheltenhambowlingclub.org.uk/event/arts-group-12/
LOCATION:Cheltenham Bowling Club\, Unwin Pavilion\, Ashburne Bowling Green\, Suffolk Square\, Cheltenham\, GL50 2DX\, United Kingdom
END:VEVENT
BEGIN:VEVENT
DTSTART;TZID=Europe/London:20261216T140000
DTEND;TZID=Europe/London:20261216T160000
DTSTAMP:20260424T081316
CREATED:20251121T165757Z
LAST-MODIFIED:20251121T165757Z
UID:14084-1797429600-1797436800@cheltenhambowlingclub.org.uk
SUMMARY:U3a Discussion Group
DESCRIPTION:
URL:https://cheltenhambowlingclub.org.uk/event/u3a-discussion-group-17/
LOCATION:Cheltenham Bowling Club\, Unwin Pavilion\, Ashburne Bowling Green\, Suffolk Square\, Cheltenham\, GL50 2DX\, United Kingdom
END:VEVENT
BEGIN:VEVENT
DTSTART;TZID=Europe/London:20270121T080000
DTEND;TZID=Europe/London:20270121T170000
DTSTAMP:20260424T081316
CREATED:20260423T174711Z
LAST-MODIFIED:20260423T174711Z
UID:18089-1800518400-1800550800@cheltenhambowlingclub.org.uk
SUMMARY:Arts Group
DESCRIPTION:
URL:https://cheltenhambowlingclub.org.uk/event/arts-group-13/
LOCATION:Cheltenham Bowling Club\, Unwin Pavilion\, Ashburne Bowling Green\, Suffolk Square\, Cheltenham\, GL50 2DX\, United Kingdom
END:VEVENT
BEGIN:VEVENT
DTSTART;TZID=Europe/London:20270223T093000
DTEND;TZID=Europe/London:20270223T120000
DTSTAMP:20260424T081316
CREATED:20260423T175052Z
LAST-MODIFIED:20260423T175052Z
UID:18091-1803375000-1803384000@cheltenhambowlingclub.org.uk
SUMMARY:Arts Group
DESCRIPTION:
URL:https://cheltenhambowlingclub.org.uk/event/arts-group-14/
LOCATION:Cheltenham Bowling Club\, Unwin Pavilion\, Ashburne Bowling Green\, Suffolk Square\, Cheltenham\, GL50 2DX\, United Kingdom
END:VEVENT
BEGIN:VEVENT
DTSTART;TZID=Europe/London:20270323T093000
DTEND;TZID=Europe/London:20270323T120000
DTSTAMP:20260424T081316
CREATED:20260423T175206Z
LAST-MODIFIED:20260423T175206Z
UID:18093-1805794200-1805803200@cheltenhambowlingclub.org.uk
SUMMARY:Arts Group
DESCRIPTION:
URL:https://cheltenhambowlingclub.org.uk/event/arts-group-15/
LOCATION:Cheltenham Bowling Club\, Unwin Pavilion\, Ashburne Bowling Green\, Suffolk Square\, Cheltenham\, GL50 2DX\, United Kingdom
END:VEVENT
END:VCALENDAR