BEGIN:VCALENDAR
VERSION:2.0
PRODID:-//Cheltenham Bowling Club - ECPv6.15.20//NONSGML v1.0//EN
CALSCALE:GREGORIAN
METHOD:PUBLISH
X-WR-CALNAME:Cheltenham Bowling Club
X-ORIGINAL-URL:https://cheltenhambowlingclub.org.uk
X-WR-CALDESC:Events for Cheltenham Bowling Club
REFRESH-INTERVAL;VALUE=DURATION:PT1H
X-Robots-Tag:noindex
X-PUBLISHED-TTL:PT1H
BEGIN:VTIMEZONE
TZID:Europe/London
BEGIN:DAYLIGHT
TZOFFSETFROM:+0000
TZOFFSETTO:+0100
TZNAME:BST
DTSTART:20220327T010000
END:DAYLIGHT
BEGIN:STANDARD
TZOFFSETFROM:+0100
TZOFFSETTO:+0000
TZNAME:GMT
DTSTART:20221030T010000
END:STANDARD
BEGIN:DAYLIGHT
TZOFFSETFROM:+0000
TZOFFSETTO:+0100
TZNAME:BST
DTSTART:20230326T010000
END:DAYLIGHT
BEGIN:STANDARD
TZOFFSETFROM:+0100
TZOFFSETTO:+0000
TZNAME:GMT
DTSTART:20231029T010000
END:STANDARD
BEGIN:DAYLIGHT
TZOFFSETFROM:+0000
TZOFFSETTO:+0100
TZNAME:BST
DTSTART:20240331T010000
END:DAYLIGHT
BEGIN:STANDARD
TZOFFSETFROM:+0100
TZOFFSETTO:+0000
TZNAME:GMT
DTSTART:20241027T010000
END:STANDARD
BEGIN:DAYLIGHT
TZOFFSETFROM:+0000
TZOFFSETTO:+0100
TZNAME:BST
DTSTART:20250330T010000
END:DAYLIGHT
BEGIN:STANDARD
TZOFFSETFROM:+0100
TZOFFSETTO:+0000
TZNAME:GMT
DTSTART:20251026T010000
END:STANDARD
END:VTIMEZONE
BEGIN:VEVENT
DTSTART;TZID=Europe/London:20240114T103000
DTEND;TZID=Europe/London:20240114T140000
DTSTAMP:20260420T195544
CREATED:20231230T175226Z
LAST-MODIFIED:20231230T175226Z
UID:9979-1705228200-1705240800@cheltenhambowlingclub.org.uk
SUMMARY:Emma Huskinson childrens party
DESCRIPTION:
URL:https://cheltenhambowlingclub.org.uk/event/emma-huskinson-childrens-party/
LOCATION:Cheltenham Bowling Club\, Unwin Pavilion\, Ashburne Bowling Green\, Suffolk Square\, Cheltenham\, GL50 2DX\, United Kingdom
END:VEVENT
BEGIN:VEVENT
DTSTART;TZID=Europe/London:20240113T140000
DTEND;TZID=Europe/London:20240113T180000
DTSTAMP:20260420T195544
CREATED:20240103T091137Z
LAST-MODIFIED:20240103T091137Z
UID:10024-1705154400-1705168800@cheltenhambowlingclub.org.uk
SUMMARY:Shokou -Wake
DESCRIPTION:
URL:https://cheltenhambowlingclub.org.uk/event/shokou-wake/
LOCATION:Cheltenham Bowling Club\, Unwin Pavilion\, Ashburne Bowling Green\, Suffolk Square\, Cheltenham\, GL50 2DX\, United Kingdom
END:VEVENT
BEGIN:VEVENT
DTSTART;TZID=Europe/London:20240110T190000
DTEND;TZID=Europe/London:20240110T210000
DTSTAMP:20260420T195544
CREATED:20231203T131136Z
LAST-MODIFIED:20231203T131136Z
UID:9783-1704913200-1704920400@cheltenhambowlingclub.org.uk
SUMMARY:Wednesday Inter-Club
DESCRIPTION:v Cheltenham Spa
URL:https://cheltenhambowlingclub.org.uk/event/wednesday-inter-club-2/
LOCATION:Mid Glos IBC
END:VEVENT
BEGIN:VEVENT
DTSTART;TZID=Europe/London:20240110T090000
DTEND;TZID=Europe/London:20240110T120000
DTSTAMP:20260420T195544
CREATED:20231228T170209Z
LAST-MODIFIED:20231228T170209Z
UID:9928-1704877200-1704888000@cheltenhambowlingclub.org.uk
SUMMARY:Probus
DESCRIPTION:
URL:https://cheltenhambowlingclub.org.uk/event/probus-2/
LOCATION:Cheltenham Bowling Club\, Unwin Pavilion\, Ashburne Bowling Green\, Suffolk Square\, Cheltenham\, GL50 2DX\, United Kingdom
END:VEVENT
BEGIN:VEVENT
DTSTART;TZID=Europe/London:20240109T093000
DTEND;TZID=Europe/London:20240109T110000
DTSTAMP:20260420T195544
CREATED:20231128T081456Z
LAST-MODIFIED:20231128T081456Z
UID:9706-1704792600-1704798000@cheltenhambowlingclub.org.uk
SUMMARY:Barron's Financial Surgery
DESCRIPTION:
URL:https://cheltenhambowlingclub.org.uk/event/barrons-financial-surgery/
LOCATION:Cheltenham Bowling Club\, Unwin Pavilion\, Ashburne Bowling Green\, Suffolk Square\, Cheltenham\, GL50 2DX\, United Kingdom
END:VEVENT
BEGIN:VEVENT
DTSTART;TZID=Europe/London:20240106T193000
DTEND;TZID=Europe/London:20240106T230000
DTSTAMP:20260420T195544
CREATED:20231127T164306Z
LAST-MODIFIED:20231127T164306Z
UID:9684-1704569400-1704582000@cheltenhambowlingclub.org.uk
SUMMARY:Club Presentation Night 2024
DESCRIPTION:Saturday 6th January Club Presentation Night. Tickets £5 available at the bar. \nFREE ADMISSION FOR FINALISTS WHO SHOULD CLAIM THEIR TICKET FROM THE BAR. \nSee Presentation Night Poster 2024 \nPRESENTATION OF TROPHIES\nThe Mayor of Cheltenham \nMusic from MARCELLO \nBuffet supper.
URL:https://cheltenhambowlingclub.org.uk/event/club-presentation-night-2024/
LOCATION:Cheltenham Bowling Club\, Unwin Pavilion\, Ashburne Bowling Green\, Suffolk Square\, Cheltenham\, GL50 2DX\, United Kingdom
CATEGORIES:Presentation
END:VEVENT
BEGIN:VEVENT
DTSTART;TZID=Europe/London:20240105T180000
DTEND;TZID=Europe/London:20240105T230000
DTSTAMP:20260420T195544
CREATED:20240103T115018Z
LAST-MODIFIED:20240103T115018Z
UID:10026-1704477600-1704495600@cheltenhambowlingclub.org.uk
SUMMARY:Wedding reception dining area +bar shared with members
DESCRIPTION:
URL:https://cheltenhambowlingclub.org.uk/event/wedding-reception-dining-area-bar-shared-with-members/
LOCATION:Cheltenham Bowling Club\, Unwin Pavilion\, Ashburne Bowling Green\, Suffolk Square\, Cheltenham\, GL50 2DX\, United Kingdom
END:VEVENT
BEGIN:VEVENT
DTSTART;TZID=Europe/London:20240105T100000
DTEND;TZID=Europe/London:20240105T110000
DTSTAMP:20260420T195544
CREATED:20240103T085644Z
LAST-MODIFIED:20240103T085644Z
UID:10020-1704448800-1704452400@cheltenhambowlingclub.org.uk
SUMMARY:Management Meeting
DESCRIPTION:
URL:https://cheltenhambowlingclub.org.uk/event/management-meeting/
END:VEVENT
BEGIN:VEVENT
DTSTART;TZID=Europe/London:20240103T090000
DTEND;TZID=Europe/London:20240103T120000
DTSTAMP:20260420T195544
CREATED:20231228T170116Z
LAST-MODIFIED:20231228T170116Z
UID:9926-1704272400-1704283200@cheltenhambowlingclub.org.uk
SUMMARY:Probus
DESCRIPTION:
URL:https://cheltenhambowlingclub.org.uk/event/probus/
LOCATION:Cheltenham Bowling Club\, Unwin Pavilion\, Ashburne Bowling Green\, Suffolk Square\, Cheltenham\, GL50 2DX\, United Kingdom
END:VEVENT
BEGIN:VEVENT
DTSTART;VALUE=DATE:20240101
DTEND;VALUE=DATE:20240102
DTSTAMP:20260420T195544
CREATED:20231202T090946Z
LAST-MODIFIED:20231202T090946Z
UID:9768-1704067200-1704153599@cheltenhambowlingclub.org.uk
SUMMARY:Club Closed
DESCRIPTION:
URL:https://cheltenhambowlingclub.org.uk/event/club-closed-7/
END:VEVENT
BEGIN:VEVENT
DTSTART;TZID=Europe/London:20231231T193000
DTEND;TZID=Europe/London:20240101T003000
DTSTAMP:20260420T195544
CREATED:20231202T085256Z
LAST-MODIFIED:20231202T085256Z
UID:9751-1704051000-1704069000@cheltenhambowlingclub.org.uk
SUMMARY:New Years Eve Party
DESCRIPTION:
URL:https://cheltenhambowlingclub.org.uk/event/new-years-eve-party/
LOCATION:Cheltenham Bowling Club\, Unwin Pavilion\, Ashburne Bowling Green\, Suffolk Square\, Cheltenham\, GL50 2DX\, United Kingdom
END:VEVENT
BEGIN:VEVENT
DTSTART;VALUE=DATE:20231230
DTEND;VALUE=DATE:20231231
DTSTAMP:20260420T195544
CREATED:20231202T090819Z
LAST-MODIFIED:20231202T090819Z
UID:9766-1703894400-1703980799@cheltenhambowlingclub.org.uk
SUMMARY:Club Closed
DESCRIPTION:
URL:https://cheltenhambowlingclub.org.uk/event/club-closed-6/
END:VEVENT
BEGIN:VEVENT
DTSTART;VALUE=DATE:20231229
DTEND;VALUE=DATE:20231231
DTSTAMP:20260420T195544
CREATED:20231202T090729Z
LAST-MODIFIED:20231202T090729Z
UID:9764-1703808000-1703980799@cheltenhambowlingclub.org.uk
SUMMARY:Club Closed
DESCRIPTION:
URL:https://cheltenhambowlingclub.org.uk/event/club-closed-5/
END:VEVENT
BEGIN:VEVENT
DTSTART;VALUE=DATE:20231228
DTEND;VALUE=DATE:20231229
DTSTAMP:20260420T195544
CREATED:20231202T090451Z
LAST-MODIFIED:20231202T090451Z
UID:9760-1703721600-1703807999@cheltenhambowlingclub.org.uk
SUMMARY:Club Closed
DESCRIPTION:
URL:https://cheltenhambowlingclub.org.uk/event/club-closed-3/
END:VEVENT
BEGIN:VEVENT
DTSTART;VALUE=DATE:20231227
DTEND;VALUE=DATE:20231228
DTSTAMP:20260420T195544
CREATED:20231202T090544Z
LAST-MODIFIED:20231202T090544Z
UID:9762-1703635200-1703721599@cheltenhambowlingclub.org.uk
SUMMARY:Club Closed
DESCRIPTION:
URL:https://cheltenhambowlingclub.org.uk/event/club-closed-4/
END:VEVENT
BEGIN:VEVENT
DTSTART;VALUE=DATE:20231226
DTEND;VALUE=DATE:20231227
DTSTAMP:20260420T195544
CREATED:20231202T090035Z
LAST-MODIFIED:20231202T090035Z
UID:9755-1703548800-1703635199@cheltenhambowlingclub.org.uk
SUMMARY:Club Closed
DESCRIPTION:
URL:https://cheltenhambowlingclub.org.uk/event/club-closed/
END:VEVENT
BEGIN:VEVENT
DTSTART;VALUE=DATE:20231225
DTEND;VALUE=DATE:20231226
DTSTAMP:20260420T195544
CREATED:20231202T090408Z
LAST-MODIFIED:20231202T090408Z
UID:9758-1703462400-1703548799@cheltenhambowlingclub.org.uk
SUMMARY:Club Closed
DESCRIPTION:
URL:https://cheltenhambowlingclub.org.uk/event/club-closed-2/
END:VEVENT
BEGIN:VEVENT
DTSTART;TZID=Europe/London:20231224T170000
DTEND;TZID=Europe/London:20231224T210000
DTSTAMP:20260420T195544
CREATED:20231202T085920Z
LAST-MODIFIED:20231202T085920Z
UID:9753-1703437200-1703451600@cheltenhambowlingclub.org.uk
SUMMARY:Christmas Eve Mince Pies & Mulled Wine
DESCRIPTION:
URL:https://cheltenhambowlingclub.org.uk/event/christmas-eve-mince-pies-mulled-wine/
END:VEVENT
BEGIN:VEVENT
DTSTART;TZID=Europe/London:20231220T140000
DTEND;TZID=Europe/London:20231220T160000
DTSTAMP:20260420T195544
CREATED:20231205T091840Z
LAST-MODIFIED:20231205T091840Z
UID:9806-1703080800-1703088000@cheltenhambowlingclub.org.uk
SUMMARY:U3A Group
DESCRIPTION:
URL:https://cheltenhambowlingclub.org.uk/event/u3a-group/
LOCATION:Cheltenham Bowling Club\, Unwin Pavilion\, Ashburne Bowling Green\, Suffolk Square\, Cheltenham\, GL50 2DX\, United Kingdom
END:VEVENT
BEGIN:VEVENT
DTSTART;TZID=Europe/London:20231216T190000
DTEND;TZID=Europe/London:20231216T230000
DTSTAMP:20260420T195544
CREATED:20231127T163831Z
LAST-MODIFIED:20231127T163831Z
UID:9682-1702753200-1702767600@cheltenhambowlingclub.org.uk
SUMMARY:Club Christmas Party 2023
DESCRIPTION:Saturday 16th December Club Christmas Party.
URL:https://cheltenhambowlingclub.org.uk/event/club-christmas-party-2023/
LOCATION:Cheltenham Bowling Club\, Unwin Pavilion\, Ashburne Bowling Green\, Suffolk Square\, Cheltenham\, GL50 2DX\, United Kingdom
CATEGORIES:Party
END:VEVENT
BEGIN:VEVENT
DTSTART;TZID=Europe/London:20231216T100000
DTEND;TZID=Europe/London:20231216T120000
DTSTAMP:20260420T195544
CREATED:20231202T161059Z
LAST-MODIFIED:20231202T161059Z
UID:9775-1702720800-1702728000@cheltenhambowlingclub.org.uk
SUMMARY:Mixed Inter-club 3rd/4th Playoff
DESCRIPTION:
URL:https://cheltenhambowlingclub.org.uk/event/mixed-inter-club-3rd-4th-playoff/
LOCATION:Mid Glos IBC
END:VEVENT
BEGIN:VEVENT
DTSTART;TZID=Europe/London:20231214T193000
DTEND;TZID=Europe/London:20231214T220000
DTSTAMP:20260420T195544
CREATED:20231129T093638Z
LAST-MODIFIED:20231129T093638Z
UID:9723-1702582200-1702591200@cheltenhambowlingclub.org.uk
SUMMARY:Cheltenham Cribbage Doubles Finals
DESCRIPTION:
URL:https://cheltenhambowlingclub.org.uk/event/cheltenham-cribbage-doubles-finals/
LOCATION:Cheltenham Bowling Club\, Unwin Pavilion\, Ashburne Bowling Green\, Suffolk Square\, Cheltenham\, GL50 2DX\, United Kingdom
END:VEVENT
BEGIN:VEVENT
DTSTART;TZID=Europe/London:20231212T190000
DTEND;TZID=Europe/London:20231212T230000
DTSTAMP:20260420T195544
CREATED:20231127T163107Z
LAST-MODIFIED:20231127T163107Z
UID:9674-1702407600-1702422000@cheltenhambowlingclub.org.uk
SUMMARY:Geoff’s Christmas Quiz 2023
DESCRIPTION:Tuesday 12th December Geoff’s Christmas Quiz. Have you booked your table? \nSee Christmas Quiz Poster 2023 \n£2 per Player up to 6 in a team. Prizes to be won. 1 point deducted for each player over 6.
URL:https://cheltenhambowlingclub.org.uk/event/geoffs-christmas-quiz-2023/
LOCATION:Cheltenham Bowling Club\, Unwin Pavilion\, Ashburne Bowling Green\, Suffolk Square\, Cheltenham\, GL50 2DX\, United Kingdom
CATEGORIES:Quiz
ORGANIZER;CN="Geoff Rat":MAILTO:grat1@btinternet.com
END:VEVENT
BEGIN:VEVENT
DTSTART;TZID=Europe/London:20231211T180000
DTEND;TZID=Europe/London:20231211T200000
DTSTAMP:20260420T195544
CREATED:20231205T091638Z
LAST-MODIFIED:20231205T091638Z
UID:9804-1702317600-1702324800@cheltenhambowlingclub.org.uk
SUMMARY:HML Group
DESCRIPTION:
URL:https://cheltenhambowlingclub.org.uk/event/hml-group/
LOCATION:Cheltenham Bowling Club\, Unwin Pavilion\, Ashburne Bowling Green\, Suffolk Square\, Cheltenham\, GL50 2DX\, United Kingdom
END:VEVENT
BEGIN:VEVENT
DTSTART;TZID=Europe/London:20231211T120000
DTEND;TZID=Europe/London:20231211T140000
DTSTAMP:20260420T195544
CREATED:20231205T091529Z
LAST-MODIFIED:20231205T091529Z
UID:9802-1702296000-1702303200@cheltenhambowlingclub.org.uk
SUMMARY:Wine Club
DESCRIPTION:
URL:https://cheltenhambowlingclub.org.uk/event/wine-club/
LOCATION:Cheltenham Bowling Club\, Unwin Pavilion\, Ashburne Bowling Green\, Suffolk Square\, Cheltenham\, GL50 2DX\, United Kingdom
END:VEVENT
BEGIN:VEVENT
DTSTART;TZID=Europe/London:20231210T193000
DTEND;TZID=Europe/London:20231210T230000
DTSTAMP:20260420T195544
CREATED:20231127T163621Z
LAST-MODIFIED:20231127T163621Z
UID:9677-1702236600-1702249200@cheltenhambowlingclub.org.uk
SUMMARY:Mayors Christmas Quiz 2023
DESCRIPTION:Sunday 10th December Mayors Christmas Quiz. Tickets can be paid for at the bar. \nSee Mayors Christmas Quiz 10 Dec 23 \n£10 per person (to include nibbles & snacks). Teams of up to 6 players. \nIn aid of Maggie’s Cheltenham\, Cotswold Riding for the Disabled and Cheltenham Open Door.
URL:https://cheltenhambowlingclub.org.uk/event/mayors-christmas-quiz/
LOCATION:Cheltenham Bowling Club\, Unwin Pavilion\, Ashburne Bowling Green\, Suffolk Square\, Cheltenham\, GL50 2DX\, United Kingdom
CATEGORIES:Quiz
END:VEVENT
BEGIN:VEVENT
DTSTART;TZID=Europe/London:20231209T100000
DTEND;TZID=Europe/London:20231209T140000
DTSTAMP:20260420T195545
CREATED:20231202T161314Z
LAST-MODIFIED:20231202T161314Z
UID:9777-1702116000-1702130400@cheltenhambowlingclub.org.uk
SUMMARY:Social Table Tennis
DESCRIPTION:
URL:https://cheltenhambowlingclub.org.uk/event/social-table-tennis/
LOCATION:Cheltenham Bowling Club\, Unwin Pavilion\, Ashburne Bowling Green\, Suffolk Square\, Cheltenham\, GL50 2DX\, United Kingdom
END:VEVENT
BEGIN:VEVENT
DTSTART;TZID=Europe/London:20231209T100000
DTEND;TZID=Europe/London:20231209T120000
DTSTAMP:20260420T195545
CREATED:20231205T091246Z
LAST-MODIFIED:20231205T091246Z
UID:9800-1702116000-1702123200@cheltenhambowlingclub.org.uk
SUMMARY:NGL AGM
DESCRIPTION:
URL:https://cheltenhambowlingclub.org.uk/event/ngl-agm/
LOCATION:Cheltenham Bowling Club\, Unwin Pavilion\, Ashburne Bowling Green\, Suffolk Square\, Cheltenham\, GL50 2DX\, United Kingdom
END:VEVENT
BEGIN:VEVENT
DTSTART;TZID=Europe/London:20231207T193000
DTEND;TZID=Europe/London:20231207T220000
DTSTAMP:20260420T195545
CREATED:20231129T093449Z
LAST-MODIFIED:20231129T093449Z
UID:9721-1701977400-1701986400@cheltenhambowlingclub.org.uk
SUMMARY:Cheltenham Cribbage Singles Finals
DESCRIPTION:
URL:https://cheltenhambowlingclub.org.uk/event/cheltenham-cribbage-singles-finals/
LOCATION:Cheltenham Bowling Club\, Unwin Pavilion\, Ashburne Bowling Green\, Suffolk Square\, Cheltenham\, GL50 2DX\, United Kingdom
END:VEVENT
BEGIN:VEVENT
DTSTART;TZID=Europe/London:20231207T140000
DTEND;TZID=Europe/London:20231207T160000
DTSTAMP:20260420T195545
CREATED:20231130T080715Z
LAST-MODIFIED:20231130T080715Z
UID:9728-1701957600-1701964800@cheltenhambowlingclub.org.uk
SUMMARY:Imperial Hearing Clinic
DESCRIPTION:
URL:https://cheltenhambowlingclub.org.uk/event/imperial-hearing-clinic/
LOCATION:Cheltenham Bowling Club\, Unwin Pavilion\, Ashburne Bowling Green\, Suffolk Square\, Cheltenham\, GL50 2DX\, United Kingdom
END:VEVENT
END:VCALENDAR