BEGIN:VCALENDAR
VERSION:2.0
PRODID:-//Cheltenham Bowling Club - ECPv6.15.20//NONSGML v1.0//EN
CALSCALE:GREGORIAN
METHOD:PUBLISH
X-WR-CALNAME:Cheltenham Bowling Club
X-ORIGINAL-URL:https://cheltenhambowlingclub.org.uk
X-WR-CALDESC:Events for Cheltenham Bowling Club
REFRESH-INTERVAL;VALUE=DURATION:PT1H
X-Robots-Tag:noindex
X-PUBLISHED-TTL:PT1H
BEGIN:VTIMEZONE
TZID:Europe/London
BEGIN:DAYLIGHT
TZOFFSETFROM:+0000
TZOFFSETTO:+0100
TZNAME:BST
DTSTART:20240331T010000
END:DAYLIGHT
BEGIN:STANDARD
TZOFFSETFROM:+0100
TZOFFSETTO:+0000
TZNAME:GMT
DTSTART:20241027T010000
END:STANDARD
BEGIN:DAYLIGHT
TZOFFSETFROM:+0000
TZOFFSETTO:+0100
TZNAME:BST
DTSTART:20250330T010000
END:DAYLIGHT
BEGIN:STANDARD
TZOFFSETFROM:+0100
TZOFFSETTO:+0000
TZNAME:GMT
DTSTART:20251026T010000
END:STANDARD
BEGIN:DAYLIGHT
TZOFFSETFROM:+0000
TZOFFSETTO:+0100
TZNAME:BST
DTSTART:20260329T010000
END:DAYLIGHT
BEGIN:STANDARD
TZOFFSETFROM:+0100
TZOFFSETTO:+0000
TZNAME:GMT
DTSTART:20261025T010000
END:STANDARD
END:VTIMEZONE
BEGIN:VEVENT
DTSTART;TZID=Europe/London:20250321T093000
DTEND;TZID=Europe/London:20250321T110000
DTSTAMP:20260419T220921
CREATED:20250310T104605Z
LAST-MODIFIED:20250310T104605Z
UID:12555-1742549400-1742554800@cheltenhambowlingclub.org.uk
SUMMARY:Bowlr Captain's Training
DESCRIPTION:
URL:https://cheltenhambowlingclub.org.uk/event/bowlr-captains-training/
END:VEVENT
BEGIN:VEVENT
DTSTART;TZID=Europe/London:20250320T100000
DTEND;TZID=Europe/London:20250320T120000
DTSTAMP:20260419T220921
CREATED:20250309T113017Z
LAST-MODIFIED:20250309T113017Z
UID:12550-1742464800-1742472000@cheltenhambowlingclub.org.uk
SUMMARY:Bowlr Training
DESCRIPTION:
URL:https://cheltenhambowlingclub.org.uk/event/bowlr-training-3/
END:VEVENT
BEGIN:VEVENT
DTSTART;TZID=Europe/London:20250319T190000
DTEND;TZID=Europe/London:20250319T203000
DTSTAMP:20260419T220921
CREATED:20250316T213949Z
LAST-MODIFIED:20250316T213949Z
UID:12579-1742410800-1742416200@cheltenhambowlingclub.org.uk
SUMMARY:Bowlr Training
DESCRIPTION:
URL:https://cheltenhambowlingclub.org.uk/event/bowlr-training-4/
END:VEVENT
BEGIN:VEVENT
DTSTART;TZID=Europe/London:20250319T140000
DTEND;TZID=Europe/London:20250319T160000
DTSTAMP:20260419T220921
CREATED:20241217T125624Z
LAST-MODIFIED:20241217T125624Z
UID:12087-1742392800-1742400000@cheltenhambowlingclub.org.uk
SUMMARY:Ray U3a discussion group
DESCRIPTION:
URL:https://cheltenhambowlingclub.org.uk/event/ray-u3a-discussion-group-3/
LOCATION:Cheltenham Bowling Club\, Unwin Pavilion\, Ashburne Bowling Green\, Suffolk Square\, Cheltenham\, GL50 2DX\, United Kingdom
END:VEVENT
BEGIN:VEVENT
DTSTART;TZID=Europe/London:20250317T120000
DTEND;TZID=Europe/London:20250317T140000
DTSTAMP:20260419T220921
CREATED:20250109T091650Z
LAST-MODIFIED:20250109T091650Z
UID:12224-1742212800-1742220000@cheltenhambowlingclub.org.uk
SUMMARY:Ken U3a Wine Club
DESCRIPTION:
URL:https://cheltenhambowlingclub.org.uk/event/ken-u3a-wine-club-8/
LOCATION:Cheltenham Bowling Club\, Unwin Pavilion\, Ashburne Bowling Green\, Suffolk Square\, Cheltenham\, GL50 2DX\, United Kingdom
END:VEVENT
BEGIN:VEVENT
DTSTART;TZID=Europe/London:20250317T100000
DTEND;TZID=Europe/London:20250317T113000
DTSTAMP:20260419T220921
CREATED:20250228T130834Z
LAST-MODIFIED:20250228T130834Z
UID:12500-1742205600-1742211000@cheltenhambowlingclub.org.uk
SUMMARY:David Shelmerdine
DESCRIPTION:
URL:https://cheltenhambowlingclub.org.uk/event/david-shelmerdine-7/
LOCATION:Cheltenham Bowling Club\, Unwin Pavilion\, Ashburne Bowling Green\, Suffolk Square\, Cheltenham\, GL50 2DX\, United Kingdom
END:VEVENT
BEGIN:VEVENT
DTSTART;TZID=Europe/London:20250315T183000
DTEND;TZID=Europe/London:20250315T223000
DTSTAMP:20260419T220921
CREATED:20241222T192931Z
LAST-MODIFIED:20241222T192931Z
UID:12124-1742063400-1742077800@cheltenhambowlingclub.org.uk
SUMMARY:Anne Munn
DESCRIPTION:
URL:https://cheltenhambowlingclub.org.uk/event/anne-munn/
LOCATION:Cheltenham Bowling Club\, Unwin Pavilion\, Ashburne Bowling Green\, Suffolk Square\, Cheltenham\, GL50 2DX\, United Kingdom
END:VEVENT
BEGIN:VEVENT
DTSTART;TZID=Europe/London:20250315T180000
DTEND;TZID=Europe/London:20250315T230000
DTSTAMP:20260419T220921
CREATED:20250316T100905Z
LAST-MODIFIED:20250316T100905Z
UID:12575-1742061600-1742079600@cheltenhambowlingclub.org.uk
SUMMARY:Harlie Private Celebration
DESCRIPTION:
URL:https://cheltenhambowlingclub.org.uk/event/harlie-private-celebration/
LOCATION:Cheltenham Bowling Club\, Unwin Pavilion\, Ashburne Bowling Green\, Suffolk Square\, Cheltenham\, GL50 2DX\, United Kingdom
END:VEVENT
BEGIN:VEVENT
DTSTART;VALUE=DATE:20250314
DTEND;VALUE=DATE:20250315
DTSTAMP:20260419T220921
CREATED:20250225T125517Z
LAST-MODIFIED:20250225T125517Z
UID:12487-1741910400-1741996799@cheltenhambowlingclub.org.uk
SUMMARY:Gold Cup day
DESCRIPTION:
URL:https://cheltenhambowlingclub.org.uk/event/gold-cup-day/
LOCATION:Cheltenham Bowling Club\, Unwin Pavilion\, Ashburne Bowling Green\, Suffolk Square\, Cheltenham\, GL50 2DX\, United Kingdom
END:VEVENT
BEGIN:VEVENT
DTSTART;TZID=Europe/London:20250310T190000
DTEND;TZID=Europe/London:20250310T220000
DTSTAMP:20260419T220921
CREATED:20240814T120850Z
LAST-MODIFIED:20240814T120850Z
UID:11285-1741633200-1741644000@cheltenhambowlingclub.org.uk
SUMMARY:Table Tennis
DESCRIPTION:
URL:https://cheltenhambowlingclub.org.uk/event/table-tennis-45/
LOCATION:Cheltenham Bowling Club\, Unwin Pavilion\, Ashburne Bowling Green\, Suffolk Square\, Cheltenham\, GL50 2DX\, United Kingdom
END:VEVENT
BEGIN:VEVENT
DTSTART;TZID=Europe/London:20250310T100000
DTEND;TZID=Europe/London:20250310T113000
DTSTAMP:20260419T220921
CREATED:20250228T130728Z
LAST-MODIFIED:20250228T130728Z
UID:12498-1741600800-1741606200@cheltenhambowlingclub.org.uk
SUMMARY:David Shelmerdine
DESCRIPTION:
URL:https://cheltenhambowlingclub.org.uk/event/david-shelmerdine-6/
LOCATION:Cheltenham Bowling Club\, Unwin Pavilion\, Ashburne Bowling Green\, Suffolk Square\, Cheltenham\, GL50 2DX\, United Kingdom
END:VEVENT
BEGIN:VEVENT
DTSTART;TZID=Europe/London:20250308T193000
DTEND;TZID=Europe/London:20250308T230000
DTSTAMP:20260419T220921
CREATED:20241216T205753Z
LAST-MODIFIED:20241216T205753Z
UID:12077-1741462200-1741474800@cheltenhambowlingclub.org.uk
SUMMARY:Elvis
DESCRIPTION:
URL:https://cheltenhambowlingclub.org.uk/event/elvis-2/
LOCATION:Cheltenham Bowling Club\, Unwin Pavilion\, Ashburne Bowling Green\, Suffolk Square\, Cheltenham\, GL50 2DX\, United Kingdom
END:VEVENT
BEGIN:VEVENT
DTSTART;TZID=Europe/London:20250307T140000
DTEND;TZID=Europe/London:20250307T153000
DTSTAMP:20260419T220921
CREATED:20250225T125348Z
LAST-MODIFIED:20250225T125348Z
UID:12485-1741356000-1741361400@cheltenhambowlingclub.org.uk
SUMMARY:Lypiatt Mews RA
DESCRIPTION:
URL:https://cheltenhambowlingclub.org.uk/event/lypiatt-mews-ra/
LOCATION:Cheltenham Bowling Club\, Unwin Pavilion\, Ashburne Bowling Green\, Suffolk Square\, Cheltenham\, GL50 2DX\, United Kingdom
END:VEVENT
BEGIN:VEVENT
DTSTART;TZID=Europe/London:20250306T090000
DTEND;TZID=Europe/London:20250306T153000
DTSTAMP:20260419T220921
CREATED:20240205T193920Z
LAST-MODIFIED:20240205T193920Z
UID:10183-1741251600-1741275000@cheltenhambowlingclub.org.uk
SUMMARY:Arts Society
DESCRIPTION:
URL:https://cheltenhambowlingclub.org.uk/event/arts-society-4/
LOCATION:Cheltenham Bowling Club\, Unwin Pavilion\, Ashburne Bowling Green\, Suffolk Square\, Cheltenham\, GL50 2DX\, United Kingdom
END:VEVENT
BEGIN:VEVENT
DTSTART;TZID=Europe/London:20250305T100000
DTEND;TZID=Europe/London:20250305T113000
DTSTAMP:20260419T220921
CREATED:20250227T161317Z
LAST-MODIFIED:20250227T161317Z
UID:12493-1741168800-1741174200@cheltenhambowlingclub.org.uk
SUMMARY:Bowlr Training
DESCRIPTION:
URL:https://cheltenhambowlingclub.org.uk/event/bowlr-training-2/
END:VEVENT
BEGIN:VEVENT
DTSTART;TZID=Europe/London:20250304T093000
DTEND;TZID=Europe/London:20250304T150000
DTSTAMP:20260419T220921
CREATED:20250202T111721Z
LAST-MODIFIED:20250202T111721Z
UID:12374-1741080600-1741100400@cheltenhambowlingclub.org.uk
SUMMARY:David Buffin Leadership Meeting
DESCRIPTION:
URL:https://cheltenhambowlingclub.org.uk/event/david-buffin-leadership-meeting/
END:VEVENT
BEGIN:VEVENT
DTSTART;TZID=Europe/London:20250304T093000
DTEND;TZID=Europe/London:20250304T110000
DTSTAMP:20260419T220921
CREATED:20241116T115707Z
LAST-MODIFIED:20241116T115707Z
UID:11857-1741080600-1741086000@cheltenhambowlingclub.org.uk
SUMMARY:Barron's Financial Surgery
DESCRIPTION:
URL:https://cheltenhambowlingclub.org.uk/event/barrons-financial-surgery-5/
END:VEVENT
BEGIN:VEVENT
DTSTART;TZID=Europe/London:20250303T190000
DTEND;TZID=Europe/London:20250303T220000
DTSTAMP:20260419T220921
CREATED:20240814T120801Z
LAST-MODIFIED:20240814T120801Z
UID:11283-1741028400-1741039200@cheltenhambowlingclub.org.uk
SUMMARY:Table Tennis
DESCRIPTION:
URL:https://cheltenhambowlingclub.org.uk/event/table-tennis-44/
LOCATION:Cheltenham Bowling Club\, Unwin Pavilion\, Ashburne Bowling Green\, Suffolk Square\, Cheltenham\, GL50 2DX\, United Kingdom
END:VEVENT
BEGIN:VEVENT
DTSTART;TZID=Europe/London:20250303T140000
DTEND;TZID=Europe/London:20250303T153000
DTSTAMP:20260419T220921
CREATED:20250227T161205Z
LAST-MODIFIED:20250227T161205Z
UID:12491-1741010400-1741015800@cheltenhambowlingclub.org.uk
SUMMARY:Bowlr Training
DESCRIPTION:
URL:https://cheltenhambowlingclub.org.uk/event/bowlr-training/
END:VEVENT
BEGIN:VEVENT
DTSTART;TZID=Europe/London:20250303T100000
DTEND;TZID=Europe/London:20250303T113000
DTSTAMP:20260419T220921
CREATED:20250228T130533Z
LAST-MODIFIED:20250228T130533Z
UID:12496-1740996000-1741001400@cheltenhambowlingclub.org.uk
SUMMARY:David Shelmerdine
DESCRIPTION:
URL:https://cheltenhambowlingclub.org.uk/event/david-shelmerdine-5/
LOCATION:Cheltenham Bowling Club\, Unwin Pavilion\, Ashburne Bowling Green\, Suffolk Square\, Cheltenham\, GL50 2DX\, United Kingdom
END:VEVENT
BEGIN:VEVENT
DTSTART;TZID=Europe/London:20250228T100000
DTEND;TZID=Europe/London:20250228T120000
DTSTAMP:20260419T220921
CREATED:20250221T213234Z
LAST-MODIFIED:20250221T213234Z
UID:12462-1740736800-1740744000@cheltenhambowlingclub.org.uk
SUMMARY:Bowlr Training with Michael
DESCRIPTION:
URL:https://cheltenhambowlingclub.org.uk/event/bowlr-training-with-michael-2/
END:VEVENT
BEGIN:VEVENT
DTSTART;TZID=Europe/London:20250227T093000
DTEND;TZID=Europe/London:20250227T120000
DTSTAMP:20260419T220921
CREATED:20240905T081456Z
LAST-MODIFIED:20240905T081456Z
UID:11483-1740648600-1740657600@cheltenhambowlingclub.org.uk
SUMMARY:U3a Military History Group
DESCRIPTION:
URL:https://cheltenhambowlingclub.org.uk/event/u3a-military-history-group-5/
LOCATION:Cheltenham Bowling Club\, Unwin Pavilion\, Ashburne Bowling Green\, Suffolk Square\, Cheltenham\, GL50 2DX\, United Kingdom
END:VEVENT
BEGIN:VEVENT
DTSTART;TZID=Europe/London:20250226T190000
DTEND;TZID=Europe/London:20250226T220000
DTSTAMP:20260419T220921
CREATED:20240814T113241Z
LAST-MODIFIED:20240814T113241Z
UID:11240-1740596400-1740607200@cheltenhambowlingclub.org.uk
SUMMARY:Table Tennis
DESCRIPTION:
URL:https://cheltenhambowlingclub.org.uk/event/table-tennis-23/
LOCATION:Cheltenham Bowling Club\, Unwin Pavilion\, Ashburne Bowling Green\, Suffolk Square\, Cheltenham\, GL50 2DX\, United Kingdom
END:VEVENT
BEGIN:VEVENT
DTSTART;TZID=Europe/London:20250225T100000
DTEND;TZID=Europe/London:20250225T120000
DTSTAMP:20260419T220921
CREATED:20250221T213034Z
LAST-MODIFIED:20250221T213034Z
UID:12460-1740477600-1740484800@cheltenhambowlingclub.org.uk
SUMMARY:Bowlr Training with Michael
DESCRIPTION:
URL:https://cheltenhambowlingclub.org.uk/event/bowlr-training-with-michael/
END:VEVENT
BEGIN:VEVENT
DTSTART;TZID=Europe/London:20250224T190000
DTEND;TZID=Europe/London:20250224T220000
DTSTAMP:20260419T220921
CREATED:20240814T120651Z
LAST-MODIFIED:20240814T120651Z
UID:11281-1740423600-1740434400@cheltenhambowlingclub.org.uk
SUMMARY:Table Tennis
DESCRIPTION:
URL:https://cheltenhambowlingclub.org.uk/event/table-tennis-43/
LOCATION:Cheltenham Bowling Club\, Unwin Pavilion\, Ashburne Bowling Green\, Suffolk Square\, Cheltenham\, GL50 2DX\, United Kingdom
END:VEVENT
BEGIN:VEVENT
DTSTART;TZID=Europe/London:20250224T103000
DTEND;TZID=Europe/London:20250224T113000
DTSTAMP:20260419T220921
CREATED:20250109T092215Z
LAST-MODIFIED:20250109T092215Z
UID:12234-1740393000-1740396600@cheltenhambowlingclub.org.uk
SUMMARY:David Shelmerdine
DESCRIPTION:
URL:https://cheltenhambowlingclub.org.uk/event/david-shelmerdine-4/
LOCATION:Cheltenham Bowling Club\, Unwin Pavilion\, Ashburne Bowling Green\, Suffolk Square\, Cheltenham\, GL50 2DX\, United Kingdom
END:VEVENT
BEGIN:VEVENT
DTSTART;TZID=Europe/London:20250220T090000
DTEND;TZID=Europe/London:20250220T130000
DTSTAMP:20260419T220921
CREATED:20240205T193817Z
LAST-MODIFIED:20240205T193817Z
UID:10181-1740042000-1740056400@cheltenhambowlingclub.org.uk
SUMMARY:Arts Society
DESCRIPTION:
URL:https://cheltenhambowlingclub.org.uk/event/arts-society-3/
LOCATION:Cheltenham Bowling Club\, Unwin Pavilion\, Ashburne Bowling Green\, Suffolk Square\, Cheltenham\, GL50 2DX\, United Kingdom
END:VEVENT
BEGIN:VEVENT
DTSTART;TZID=Europe/London:20250219T190000
DTEND;TZID=Europe/London:20250219T220000
DTSTAMP:20260419T220921
CREATED:20240814T113143Z
LAST-MODIFIED:20240814T113143Z
UID:11238-1739991600-1740002400@cheltenhambowlingclub.org.uk
SUMMARY:Table Tennis
DESCRIPTION:
URL:https://cheltenhambowlingclub.org.uk/event/table-tennis-22/
LOCATION:Cheltenham Bowling Club\, Unwin Pavilion\, Ashburne Bowling Green\, Suffolk Square\, Cheltenham\, GL50 2DX\, United Kingdom
END:VEVENT
BEGIN:VEVENT
DTSTART;TZID=Europe/London:20250219T140000
DTEND;TZID=Europe/London:20250219T160000
DTSTAMP:20260419T220921
CREATED:20241217T125537Z
LAST-MODIFIED:20241217T125537Z
UID:12085-1739973600-1739980800@cheltenhambowlingclub.org.uk
SUMMARY:Ray U3a discussion group
DESCRIPTION:
URL:https://cheltenhambowlingclub.org.uk/event/ray-u3a-discussion-group-2/
LOCATION:Cheltenham Bowling Club\, Unwin Pavilion\, Ashburne Bowling Green\, Suffolk Square\, Cheltenham\, GL50 2DX\, United Kingdom
END:VEVENT
BEGIN:VEVENT
DTSTART;TZID=Europe/London:20250217T190000
DTEND;TZID=Europe/London:20250217T220000
DTSTAMP:20260419T220921
CREATED:20240814T120603Z
LAST-MODIFIED:20240814T120603Z
UID:11279-1739818800-1739829600@cheltenhambowlingclub.org.uk
SUMMARY:Table Tennis
DESCRIPTION:
URL:https://cheltenhambowlingclub.org.uk/event/table-tennis-42/
LOCATION:Cheltenham Bowling Club\, Unwin Pavilion\, Ashburne Bowling Green\, Suffolk Square\, Cheltenham\, GL50 2DX\, United Kingdom
END:VEVENT
END:VCALENDAR